BEGIN:VCALENDAR
VERSION:2.0
PRODID:-//Michael Alanis - ECPv6.15.20//NONSGML v1.0//EN
CALSCALE:GREGORIAN
METHOD:PUBLISH
X-ORIGINAL-URL:https://michaelalanis.com
X-WR-CALDESC:Events for Michael Alanis
REFRESH-INTERVAL;VALUE=DURATION:PT1H
X-Robots-Tag:noindex
X-PUBLISHED-TTL:PT1H
BEGIN:VTIMEZONE
TZID:America/Chicago
BEGIN:DAYLIGHT
TZOFFSETFROM:-0600
TZOFFSETTO:-0500
TZNAME:CDT
DTSTART:20240310T080000
END:DAYLIGHT
BEGIN:STANDARD
TZOFFSETFROM:-0500
TZOFFSETTO:-0600
TZNAME:CST
DTSTART:20241103T070000
END:STANDARD
BEGIN:DAYLIGHT
TZOFFSETFROM:-0600
TZOFFSETTO:-0500
TZNAME:CDT
DTSTART:20250309T080000
END:DAYLIGHT
BEGIN:STANDARD
TZOFFSETFROM:-0500
TZOFFSETTO:-0600
TZNAME:CST
DTSTART:20251102T070000
END:STANDARD
BEGIN:DAYLIGHT
TZOFFSETFROM:-0600
TZOFFSETTO:-0500
TZNAME:CDT
DTSTART:20260308T080000
END:DAYLIGHT
BEGIN:STANDARD
TZOFFSETFROM:-0500
TZOFFSETTO:-0600
TZNAME:CST
DTSTART:20261101T070000
END:STANDARD
END:VTIMEZONE
BEGIN:VEVENT
DTSTART;TZID=America/Chicago:20250902T170000
DTEND;TZID=America/Chicago:20250902T210000
DTSTAMP:20260423T224128
CREATED:20250907T180457Z
LAST-MODIFIED:20250907T180457Z
UID:10669-1756832400-1756846800@michaelalanis.com
SUMMARY:Tommy Bahama - Marlin Bar
DESCRIPTION:Solo Acoustic \n5 pm – 9 pm
URL:https://michaelalanis.com/event/tommy-bahama-marlin-bar-53/
LOCATION:Tommy Bahama – Marlin Bar\, 15900 La Cantera Pkwy #19110\, San Antonio\, TX\, 78256\, United States
END:VEVENT
BEGIN:VEVENT
DTSTART;TZID=America/Chicago:20250904T170000
DTEND;TZID=America/Chicago:20250904T200000
DTSTAMP:20260423T224128
CREATED:20250907T180626Z
LAST-MODIFIED:20250907T180626Z
UID:10671-1757005200-1757016000@michaelalanis.com
SUMMARY:Estancia del Norte - Paseo Bar
DESCRIPTION:Solo Acoustic Performance \n5 pm – 8 pm
URL:https://michaelalanis.com/event/estancia-del-norte-paseo-bar-76/
LOCATION:Estancia del Norte – Paseo Bar\, 37 NE Loop 410 at\, McCullough Ave\, San Antonio\, TX\, 78216\, United States
END:VEVENT
BEGIN:VEVENT
DTSTART;TZID=America/Chicago:20250905T180000
DTEND;TZID=America/Chicago:20250905T210000
DTSTAMP:20260423T224128
CREATED:20250907T181129Z
LAST-MODIFIED:20250907T181129Z
UID:10681-1757095200-1757106000@michaelalanis.com
SUMMARY:Hyatt Lost Pines - Maude's Bar & Terrace
DESCRIPTION:Band Performance \n6 pm – 9 pm
URL:https://michaelalanis.com/event/hyatt-lost-pines-maudes-bar-terrace-4/
LOCATION:Hyatt Lost Pines – Maude’s Bar & Terrace\, 575 Hyatt Lost Pines Road\, Lost Pines\, TX\, 78612\, United States
END:VEVENT
BEGIN:VEVENT
DTSTART;TZID=America/Chicago:20250906T180000
DTEND;TZID=America/Chicago:20250906T210000
DTSTAMP:20260423T224128
CREATED:20250907T181357Z
LAST-MODIFIED:20250907T181357Z
UID:10683-1757181600-1757192400@michaelalanis.com
SUMMARY:Grand Hyatt - Bar Rojo
DESCRIPTION:Solo Acoustic Performance \n6 pm – 9 pm
URL:https://michaelalanis.com/event/grand-hyatt-bar-rojo-42/
LOCATION:Grand Hyatt – Bar Rojo\, 600 E. Market Street\, San Antonio\, Texas\, 78205\, United States
END:VEVENT
BEGIN:VEVENT
DTSTART;TZID=America/Chicago:20250908T150000
DTEND;TZID=America/Chicago:20250908T180000
DTSTAMP:20260423T224128
CREATED:20250907T181635Z
LAST-MODIFIED:20250907T181635Z
UID:10685-1757343600-1757354400@michaelalanis.com
SUMMARY:Hyatt Regency - Private Event
DESCRIPTION:Solo Acoustic Performance \n3 pm – 6 pm
URL:https://michaelalanis.com/event/hyatt-regency-private-event/
LOCATION:Hyatt Regency San Antonio Riverwalk\, 123 Losoya\, San Antonio\, TX\, 78205\, United States
END:VEVENT
BEGIN:VEVENT
DTSTART;TZID=America/Chicago:20250911T170000
DTEND;TZID=America/Chicago:20250911T200000
DTSTAMP:20260423T224128
CREATED:20250907T180727Z
LAST-MODIFIED:20250907T180727Z
UID:10673-1757610000-1757620800@michaelalanis.com
SUMMARY:Estancia del Norte - Paseo Bar
DESCRIPTION:Solo Acoustic Performance \n5 pm – 8 pm
URL:https://michaelalanis.com/event/estancia-del-norte-paseo-bar-77/
LOCATION:Estancia del Norte – Paseo Bar\, 37 NE Loop 410 at\, McCullough Ave\, San Antonio\, TX\, 78216\, United States
END:VEVENT
BEGIN:VEVENT
DTSTART;TZID=America/Chicago:20250912T190000
DTEND;TZID=America/Chicago:20250912T230000
DTSTAMP:20260423T224128
CREATED:20250907T181907Z
LAST-MODIFIED:20250907T181907Z
UID:10687-1757703600-1757718000@michaelalanis.com
SUMMARY:Emigrant Boutique Hotel - Maggie's Speakeasy Bar
DESCRIPTION:Band Performance \n7 pm – 11 pm
URL:https://michaelalanis.com/event/2-4/
LOCATION:Emigrant Boutique Hotel – Maggie’s Speakeasy Bar\, 106 S Washington St\, Fredericksburg\, TX\, 78624\, United States
END:VEVENT
BEGIN:VEVENT
DTSTART;TZID=America/Chicago:20250913T143000
DTEND;TZID=America/Chicago:20250913T180000
DTSTAMP:20260423T224128
CREATED:20250907T182015Z
LAST-MODIFIED:20250907T182015Z
UID:10690-1757773800-1757786400@michaelalanis.com
SUMMARY:Private Event
DESCRIPTION:Private Event
URL:https://michaelalanis.com/event/private-event-91/
LOCATION:TX
END:VEVENT
BEGIN:VEVENT
DTSTART;TZID=America/Chicago:20250914T010000
DTEND;TZID=America/Chicago:20250914T160000
DTSTAMP:20260423T224128
CREATED:20250907T182652Z
LAST-MODIFIED:20250907T182652Z
UID:10692-1757811600-1757865600@michaelalanis.com
SUMMARY:Glimmering Oaks - Open House
DESCRIPTION:Solo Acoustic Performance \n1 pm – 4 pm \nGlimmering Oaks Event Center \n20465 S Jett Rd\, San Antonio\, TX 78264
URL:https://michaelalanis.com/event/glimmering-oaks-open-house/
LOCATION:TX
END:VEVENT
BEGIN:VEVENT
DTSTART;TZID=America/Chicago:20250916T170000
DTEND;TZID=America/Chicago:20250916T210000
DTSTAMP:20260423T224128
CREATED:20250907T190416Z
LAST-MODIFIED:20250907T190416Z
UID:10694-1758042000-1758056400@michaelalanis.com
SUMMARY:Tommy Bahama - Marlin Bar
DESCRIPTION:Solo Acoustic Performance \n5 pm – 9 pm
URL:https://michaelalanis.com/event/tommy-bahama-marlin-bar-54/
LOCATION:Tommy Bahama – Marlin Bar\, 15900 La Cantera Pkwy #19110\, San Antonio\, TX\, 78256\, United States
END:VEVENT
BEGIN:VEVENT
DTSTART;TZID=America/Chicago:20250918T170000
DTEND;TZID=America/Chicago:20250918T200000
DTSTAMP:20260423T224128
CREATED:20250907T180834Z
LAST-MODIFIED:20250907T180834Z
UID:10675-1758214800-1758225600@michaelalanis.com
SUMMARY:Estancia del Norte - Paseo Bar
DESCRIPTION:Solo Acoustic Performance \n5 pm – 8 pm
URL:https://michaelalanis.com/event/estancia-del-norte-paseo-bar-78/
LOCATION:TX
END:VEVENT
BEGIN:VEVENT
DTSTART;TZID=America/Chicago:20250919T180000
DTEND;TZID=America/Chicago:20250919T210000
DTSTAMP:20260423T224128
CREATED:20250907T190551Z
LAST-MODIFIED:20250907T190551Z
UID:10696-1758304800-1758315600@michaelalanis.com
SUMMARY:Hyatt Lost Pines - Maude's Bar & Terrace
DESCRIPTION:Band Performance \n6 pm – 9 pm
URL:https://michaelalanis.com/event/hyatt-lost-pines-maudes-bar-terrace-5/
LOCATION:Hyatt Lost Pines – Maude’s Bar & Terrace\, 575 Hyatt Lost Pines Road\, Lost Pines\, TX\, 78612\, United States
END:VEVENT
BEGIN:VEVENT
DTSTART;TZID=America/Chicago:20250920T180000
DTEND;TZID=America/Chicago:20250920T220000
DTSTAMP:20260423T224128
CREATED:20250907T193835Z
LAST-MODIFIED:20250907T193835Z
UID:10698-1758391200-1758405600@michaelalanis.com
SUMMARY:Pearl Stable Hall - The 2025 Ven A Comer
DESCRIPTION:Band Performance \n6 pm – 10 pm \nPearl Stable Hall \n307 Pearl Pkwy\, San Antonio\, TX 78215 \n\n   \n\n\n\n\n\n\n\n\n\n\nView this post on Instagram
URL:https://michaelalanis.com/event/pearl-stable-hall-the-2025-ven-a-comer/
LOCATION:TX
END:VEVENT
BEGIN:VEVENT
DTSTART;TZID=America/Chicago:20250925T170000
DTEND;TZID=America/Chicago:20250925T200000
DTSTAMP:20260423T224128
CREATED:20250907T180954Z
LAST-MODIFIED:20250907T180954Z
UID:10679-1758819600-1758830400@michaelalanis.com
SUMMARY:Estancia del Norte - Paseo Bar
DESCRIPTION:Solo Acoustic Performance \n5 pm – 8 pm
URL:https://michaelalanis.com/event/estancia-del-norte-paseo-bar-79/
LOCATION:Estancia del Norte – Paseo Bar\, 37 NE Loop 410 at\, McCullough Ave\, San Antonio\, TX\, 78216\, United States
END:VEVENT
BEGIN:VEVENT
DTSTART;TZID=America/Chicago:20250926T180000
DTEND;TZID=America/Chicago:20250926T210000
DTSTAMP:20260423T224128
CREATED:20250908T150010Z
LAST-MODIFIED:20250908T150010Z
UID:10705-1758909600-1758920400@michaelalanis.com
SUMMARY:Hyatt Regency Riverwalk - Q Bar & Kitchen
DESCRIPTION:Solo Acoustic Performance \n6 pm – 9 pm
URL:https://michaelalanis.com/event/hyatt-regency-riverwalk-q-bar-kitchen-70/
LOCATION:Hyatt Regency San Antonio Riverwalk\, 123 Losoya\, San Antonio\, TX\, 78205\, United States
END:VEVENT
BEGIN:VEVENT
DTSTART;TZID=America/Chicago:20250927T090000
DTEND;TZID=America/Chicago:20250927T090000
DTSTAMP:20260423T224128
CREATED:20250907T193957Z
LAST-MODIFIED:20250907T193957Z
UID:10700-1758963600-1758963600@michaelalanis.com
SUMMARY:River Sun - Music Venue
DESCRIPTION:Band Performance \n9:30 pm – 12:30 am
URL:https://michaelalanis.com/event/river-sun-music-venue-3/
LOCATION:River Sun\, 1011 Avenue B\, San Antonio\, TX\, 78215\, United States
END:VEVENT
BEGIN:VEVENT
DTSTART;TZID=America/Chicago:20250930T170000
DTEND;TZID=America/Chicago:20250930T210000
DTSTAMP:20260423T224128
CREATED:20250908T145549Z
LAST-MODIFIED:20250908T145549Z
UID:10703-1759251600-1759266000@michaelalanis.com
SUMMARY:Tommy Bahama - Marlin Bar
DESCRIPTION:Solo Acoustic Performance \n5 pm – 9 pm
URL:https://michaelalanis.com/event/tommy-bahama-marlin-bar-55/
LOCATION:Tommy Bahama – Marlin Bar\, 15900 La Cantera Pkwy #19110\, San Antonio\, TX\, 78256\, United States
END:VEVENT
END:VCALENDAR