BEGIN:VCALENDAR
VERSION:2.0
PRODID:-//Michael Alanis - ECPv6.15.20//NONSGML v1.0//EN
CALSCALE:GREGORIAN
METHOD:PUBLISH
X-ORIGINAL-URL:https://michaelalanis.com
X-WR-CALDESC:Events for Michael Alanis
REFRESH-INTERVAL;VALUE=DURATION:PT1H
X-Robots-Tag:noindex
X-PUBLISHED-TTL:PT1H
BEGIN:VTIMEZONE
TZID:America/Chicago
BEGIN:DAYLIGHT
TZOFFSETFROM:-0600
TZOFFSETTO:-0500
TZNAME:CDT
DTSTART:20220313T080000
END:DAYLIGHT
BEGIN:STANDARD
TZOFFSETFROM:-0500
TZOFFSETTO:-0600
TZNAME:CST
DTSTART:20221106T070000
END:STANDARD
BEGIN:DAYLIGHT
TZOFFSETFROM:-0600
TZOFFSETTO:-0500
TZNAME:CDT
DTSTART:20230312T080000
END:DAYLIGHT
BEGIN:STANDARD
TZOFFSETFROM:-0500
TZOFFSETTO:-0600
TZNAME:CST
DTSTART:20231105T070000
END:STANDARD
BEGIN:DAYLIGHT
TZOFFSETFROM:-0600
TZOFFSETTO:-0500
TZNAME:CDT
DTSTART:20240310T080000
END:DAYLIGHT
BEGIN:STANDARD
TZOFFSETFROM:-0500
TZOFFSETTO:-0600
TZNAME:CST
DTSTART:20241103T070000
END:STANDARD
END:VTIMEZONE
BEGIN:VEVENT
DTSTART;TZID=America/Chicago:20230803T170000
DTEND;TZID=America/Chicago:20230803T190000
DTSTAMP:20260425T112301
CREATED:20230725T131938Z
LAST-MODIFIED:20230725T131938Z
UID:9386-1691082000-1691089200@michaelalanis.com
SUMMARY:Private Event
DESCRIPTION:Private Event \n5 pm – 7 pm
URL:https://michaelalanis.com/event/private-event-43/
LOCATION:TX
END:VEVENT
BEGIN:VEVENT
DTSTART;TZID=America/Chicago:20230804T190000
DTEND;TZID=America/Chicago:20230804T230000
DTSTAMP:20260425T112301
CREATED:20230608T161546Z
LAST-MODIFIED:20230612T201559Z
UID:9352-1691175600-1691190000@michaelalanis.com
SUMMARY:Stone Werks - The Rim
DESCRIPTION:Band Performance \n7 PM – 11 PM
URL:https://michaelalanis.com/event/stone-werks-the-rim-11/
LOCATION:Stone Werks – The Rim\, 5807 Worth Pkwy\, San Antonio\, TX\, 78257\, United States
END:VEVENT
BEGIN:VEVENT
DTSTART;TZID=America/Chicago:20230805T180000
DTEND;TZID=America/Chicago:20230805T220000
DTSTAMP:20260425T112301
CREATED:20230725T132136Z
LAST-MODIFIED:20230725T132136Z
UID:9388-1691258400-1691272800@michaelalanis.com
SUMMARY:Private Party
DESCRIPTION:Private Party \n6 pm – 10 pm
URL:https://michaelalanis.com/event/private-party-11/
LOCATION:TX
END:VEVENT
BEGIN:VEVENT
DTSTART;TZID=America/Chicago:20230810T190000
DTEND;TZID=America/Chicago:20230810T220000
DTSTAMP:20260425T112301
CREATED:20230608T161125Z
LAST-MODIFIED:20230608T161125Z
UID:9345-1691694000-1691704800@michaelalanis.com
SUMMARY:Stone Werks - Culebra Commons
DESCRIPTION:Band Performance \n7 PM – 11 PM
URL:https://michaelalanis.com/event/stone-werks-culebra-commons/
LOCATION:Stone Werks – Culebra Commons\, 6626 W Loop 1604 N\, San Antonio\, TX\, 78254\, United States
END:VEVENT
BEGIN:VEVENT
DTSTART;TZID=America/Chicago:20230812T123000
DTEND;TZID=America/Chicago:20230812T140000
DTSTAMP:20260425T112301
CREATED:20230718T194742Z
LAST-MODIFIED:20230718T194742Z
UID:9376-1691843400-1691848800@michaelalanis.com
SUMMARY:The Rustic - SA
DESCRIPTION:Solo acoustic performance \n12:30 pm – 2:00 pm
URL:https://michaelalanis.com/event/the-rustic-sa-17/
LOCATION:The Rustic – San Antonio\, 17619 La Cantera Pkwy #204\, San Antonio\, TX\, 78257\, United States
END:VEVENT
BEGIN:VEVENT
DTSTART;TZID=America/Chicago:20230813T170000
DTEND;TZID=America/Chicago:20230813T200000
DTSTAMP:20260425T112301
CREATED:20230730T135712Z
LAST-MODIFIED:20230730T135712Z
UID:9397-1691946000-1691956800@michaelalanis.com
SUMMARY:Private Event
DESCRIPTION:Private Event \n5 PM – 8 PM
URL:https://michaelalanis.com/event/private-event-45/
LOCATION:TX
END:VEVENT
BEGIN:VEVENT
DTSTART;TZID=America/Chicago:20230818T213000
DTEND;TZID=America/Chicago:20230818T230000
DTSTAMP:20260425T112301
CREATED:20230718T194902Z
LAST-MODIFIED:20230718T194928Z
UID:9378-1692394200-1692399600@michaelalanis.com
SUMMARY:The Rustic - SA
DESCRIPTION:Band performance \n9:30 pm – 11:00 pm
URL:https://michaelalanis.com/event/the-rustic-sa-18/
LOCATION:The Rustic – San Antonio\, 17619 La Cantera Pkwy #204\, San Antonio\, TX\, 78257\, United States
END:VEVENT
BEGIN:VEVENT
DTSTART;TZID=America/Chicago:20230819T180000
DTEND;TZID=America/Chicago:20230819T210000
DTSTAMP:20260425T112301
CREATED:20230730T135855Z
LAST-MODIFIED:20230730T135855Z
UID:9400-1692468000-1692478800@michaelalanis.com
SUMMARY:Hyatt Regency - Q Bar & Kitchen
DESCRIPTION:Solo acoustic performance \n6 PM – 9 PM
URL:https://michaelalanis.com/event/hyatt-regency-q-bar-kitchen-9/
LOCATION:Hyatt Regency San Antonio Riverwalk\, 123 Losoya\, San Antonio\, TX\, 78205\, United States
END:VEVENT
BEGIN:VEVENT
DTSTART;TZID=America/Chicago:20230827T123000
DTEND;TZID=America/Chicago:20230827T140000
DTSTAMP:20260425T112301
CREATED:20230608T162456Z
LAST-MODIFIED:20230608T162456Z
UID:9354-1693139400-1693144800@michaelalanis.com
SUMMARY:The Rustic - SA
DESCRIPTION:Solo Acoustic Performance \n12:30 PM – 2:00 PM
URL:https://michaelalanis.com/event/the-rustic-sa-15/
LOCATION:The Rustic – San Antonio\, 17619 La Cantera Pkwy #204\, San Antonio\, TX\, 78257\, United States
END:VEVENT
BEGIN:VEVENT
DTSTART;TZID=America/Chicago:20230831T210000
DTEND;TZID=America/Chicago:20230831T235900
DTSTAMP:20260425T112301
CREATED:20230718T195133Z
LAST-MODIFIED:20230718T195133Z
UID:9380-1693515600-1693526340@michaelalanis.com
SUMMARY:Luna -Live Music Venue
DESCRIPTION:Band performance \n9:00 pm – 12:00 am
URL:https://michaelalanis.com/event/luna-live-music-venue-7/
LOCATION:Hyatt Hill Country Resort – Luckenbach Pavillion\, 9800 Hyatt Resort Dr.\, San Antonio\, TX\, 78251\, United States
END:VEVENT
END:VCALENDAR