BEGIN:VCALENDAR
VERSION:2.0
PRODID:-//Michael Alanis - ECPv6.15.20//NONSGML v1.0//EN
CALSCALE:GREGORIAN
METHOD:PUBLISH
X-WR-CALNAME:Michael Alanis
X-ORIGINAL-URL:https://michaelalanis.com
X-WR-CALDESC:Events for Michael Alanis
REFRESH-INTERVAL;VALUE=DURATION:PT1H
X-Robots-Tag:noindex
X-PUBLISHED-TTL:PT1H
BEGIN:VTIMEZONE
TZID:America/Chicago
BEGIN:DAYLIGHT
TZOFFSETFROM:-0600
TZOFFSETTO:-0500
TZNAME:CDT
DTSTART:20220313T080000
END:DAYLIGHT
BEGIN:STANDARD
TZOFFSETFROM:-0500
TZOFFSETTO:-0600
TZNAME:CST
DTSTART:20221106T070000
END:STANDARD
BEGIN:DAYLIGHT
TZOFFSETFROM:-0600
TZOFFSETTO:-0500
TZNAME:CDT
DTSTART:20230312T080000
END:DAYLIGHT
BEGIN:STANDARD
TZOFFSETFROM:-0500
TZOFFSETTO:-0600
TZNAME:CST
DTSTART:20231105T070000
END:STANDARD
BEGIN:DAYLIGHT
TZOFFSETFROM:-0600
TZOFFSETTO:-0500
TZNAME:CDT
DTSTART:20240310T080000
END:DAYLIGHT
BEGIN:STANDARD
TZOFFSETFROM:-0500
TZOFFSETTO:-0600
TZNAME:CST
DTSTART:20241103T070000
END:STANDARD
END:VTIMEZONE
BEGIN:VEVENT
DTSTART;TZID=America/Chicago:20230705T160000
DTEND;TZID=America/Chicago:20230705T190000
DTSTAMP:20260425T123738
CREATED:20230605T210036Z
LAST-MODIFIED:20230605T210036Z
UID:9299-1688572800-1688583600@michaelalanis.com
SUMMARY:Estancia del Norte - Paseo Bar
DESCRIPTION:Solo acoustic Performance \n4 PM – 7 PM
URL:https://michaelalanis.com/event/estancia-del-norte-paseo-bar-24/
LOCATION:Estancia del Norte – Paseo Bar\, 37 NE Loop 410 at\, McCullough Ave\, San Antonio\, TX\, 78216\, United States
END:VEVENT
BEGIN:VEVENT
DTSTART;TZID=America/Chicago:20230707T190000
DTEND;TZID=America/Chicago:20230707T230000
DTSTAMP:20260425T123738
CREATED:20230605T210453Z
LAST-MODIFIED:20230605T210453Z
UID:9307-1688756400-1688770800@michaelalanis.com
SUMMARY:Stone Werks - The Rim
DESCRIPTION:Band Performance \n7 PM – 11 PM
URL:https://michaelalanis.com/event/stone-werks-the-rim-9/
LOCATION:Stone Werks – The Rim\, 5807 Worth Pkwy\, San Antonio\, TX\, 78257\, United States
END:VEVENT
BEGIN:VEVENT
DTSTART;TZID=America/Chicago:20230708T123000
DTEND;TZID=America/Chicago:20230708T140000
DTSTAMP:20260425T123738
CREATED:20230605T210713Z
LAST-MODIFIED:20230605T210713Z
UID:9309-1688819400-1688824800@michaelalanis.com
SUMMARY:The Rustic - SA
DESCRIPTION:Solo acoustic performance \n12:30 PM – 2:00 PM
URL:https://michaelalanis.com/event/the-rustic-sa-13/
LOCATION:The Rustic – San Antonio\, 17619 La Cantera Pkwy #204\, San Antonio\, TX\, 78257\, United States
END:VEVENT
BEGIN:VEVENT
DTSTART;TZID=America/Chicago:20230708T180000
DTEND;TZID=America/Chicago:20230708T210000
DTSTAMP:20260425T123738
CREATED:20230605T210826Z
LAST-MODIFIED:20230605T210826Z
UID:9311-1688839200-1688850000@michaelalanis.com
SUMMARY:Private Party
DESCRIPTION:Private Party \n6 PM – 9 PM
URL:https://michaelalanis.com/event/private-party-9/
LOCATION:TX
END:VEVENT
BEGIN:VEVENT
DTSTART;TZID=America/Chicago:20230712T160000
DTEND;TZID=America/Chicago:20230712T190000
DTSTAMP:20260425T123738
CREATED:20230605T210129Z
LAST-MODIFIED:20230605T210129Z
UID:9301-1689177600-1689188400@michaelalanis.com
SUMMARY:Estancia del Norte - Paseo Bar
DESCRIPTION:Solo acoustic performance \n4 PM – 7 PM
URL:https://michaelalanis.com/event/estancia-del-norte-paseo-bar-25/
LOCATION:Estancia del Norte – Paseo Bar\, 37 NE Loop 410 at\, McCullough Ave\, San Antonio\, TX\, 78216\, United States
END:VEVENT
BEGIN:VEVENT
DTSTART;TZID=America/Chicago:20230713T190000
DTEND;TZID=America/Chicago:20230713T230000
DTSTAMP:20260425T123738
CREATED:20230607T172911Z
LAST-MODIFIED:20230607T172911Z
UID:9342-1689274800-1689289200@michaelalanis.com
SUMMARY:Stone Werks - Cuebra Commons
DESCRIPTION:Band Performance \n7 PM – 11 PM
URL:https://michaelalanis.com/event/stone-werks-cuebra-commons/
LOCATION:Stone Werks – Culebra Commons\, 6626 W Loop 1604 N\, San Antonio\, TX\, 78254\, United States
END:VEVENT
BEGIN:VEVENT
DTSTART;TZID=America/Chicago:20230714T200000
DTEND;TZID=America/Chicago:20230714T230000
DTSTAMP:20260425T123738
CREATED:20230718T192839Z
LAST-MODIFIED:20230718T192839Z
UID:9361-1689364800-1689375600@michaelalanis.com
SUMMARY:Grand Hyatt -Bar Rojo
DESCRIPTION:Solo acoustic performance \n8 pm – 11 pm
URL:https://michaelalanis.com/event/grand-hyatt-bar-rojo-31/
LOCATION:Grand Hyatt – Bar Rojo\, 600 E. Market Street\, San Antonio\, Texas\, 78205\, United States
END:VEVENT
BEGIN:VEVENT
DTSTART;TZID=America/Chicago:20230715T093000
DTEND;TZID=America/Chicago:20230715T233000
DTSTAMP:20260425T123738
CREATED:20230718T192952Z
LAST-MODIFIED:20230718T192952Z
UID:9363-1689413400-1689463800@michaelalanis.com
SUMMARY:The Rustic - SA
DESCRIPTION:Band performance \n9:30 pm – 11:00 pm
URL:https://michaelalanis.com/event/the-rustic-sa-16/
LOCATION:The Rustic – San Antonio\, 17619 La Cantera Pkwy #204\, San Antonio\, TX\, 78257\, United States
END:VEVENT
BEGIN:VEVENT
DTSTART;TZID=America/Chicago:20230719T183000
DTEND;TZID=America/Chicago:20230719T210000
DTSTAMP:20260425T123738
CREATED:20230718T193408Z
LAST-MODIFIED:20230718T193408Z
UID:9366-1689791400-1689800400@michaelalanis.com
SUMMARY:Botanical Gardens - Summer Nights in the Garden
DESCRIPTION:Solo acoustic performance \n6:30 pm – 9:00 pm
URL:https://michaelalanis.com/event/botanical-gardens-summer-nights-in-the-garden/
LOCATION:San Antonio Botanical Garden\, 555 Funston Pl.\, San Antonio\, TX\, 78209\, United States
END:VEVENT
BEGIN:VEVENT
DTSTART;TZID=America/Chicago:20230720T160000
DTEND;TZID=America/Chicago:20230720T190000
DTSTAMP:20260425T123738
CREATED:20230605T210315Z
LAST-MODIFIED:20230605T210315Z
UID:9305-1689868800-1689879600@michaelalanis.com
SUMMARY:Estancia del Norte - Paseo Bar
DESCRIPTION:Solo Acoustic Performance \n4 PM – 7 PM
URL:https://michaelalanis.com/event/estancia-del-norte-paseo-bar-27/
LOCATION:Estancia del Norte – Paseo Bar\, 37 NE Loop 410 at\, McCullough Ave\, San Antonio\, TX\, 78216\, United States
END:VEVENT
BEGIN:VEVENT
DTSTART;TZID=America/Chicago:20230721T173000
DTEND;TZID=America/Chicago:20230721T203000
DTSTAMP:20260425T123738
CREATED:20230718T193816Z
LAST-MODIFIED:20230718T194305Z
UID:9370-1689960600-1689971400@michaelalanis.com
SUMMARY:Hyatt Hill Country Resort - Springhouse Back Porch
DESCRIPTION:Solo acoustic performance \n5:30 pm – 8:30 pm
URL:https://michaelalanis.com/event/hyatt-hill-country-resort-springhouse-back-porch/
LOCATION:Hyatt Regency Hill Country Resort – Springhouse Cafe\, 9800 Hyatt Resort Drive\, San Antonio\, TX\, 782251\, United States
END:VEVENT
BEGIN:VEVENT
DTSTART;TZID=America/Chicago:20230722T190000
DTEND;TZID=America/Chicago:20230722T210000
DTSTAMP:20260425T123738
CREATED:20230718T194406Z
LAST-MODIFIED:20230718T194406Z
UID:9372-1690052400-1690059600@michaelalanis.com
SUMMARY:Private Party
DESCRIPTION:Private Party \n7 pm – 9 pm
URL:https://michaelalanis.com/event/private-party-10/
LOCATION:TX
END:VEVENT
BEGIN:VEVENT
DTSTART;TZID=America/Chicago:20230724T080000
DTEND;TZID=America/Chicago:20230724T170000
DTSTAMP:20260425T123738
CREATED:20230721T162743Z
LAST-MODIFIED:20230721T162743Z
UID:9382-1690185600-1690218000@michaelalanis.com
SUMMARY:Hotel Emma - Sternewirth Tavern
DESCRIPTION:Solo Acoustic Performance \n7 pm – 10 pm
URL:https://michaelalanis.com/event/hotel-emma-sternewirth-tavern-12/
LOCATION:Hotel Emma – Sternewirth Tavern\, 136 E Grayson St\, San Antonio\, TX\, 78238\, United States
END:VEVENT
BEGIN:VEVENT
DTSTART;TZID=America/Chicago:20230726T080000
DTEND;TZID=America/Chicago:20230726T170000
DTSTAMP:20260425T123738
CREATED:20230605T210218Z
LAST-MODIFIED:20230605T210218Z
UID:9303-1690358400-1690390800@michaelalanis.com
SUMMARY:Estancia del Norte - Paseo Bar
DESCRIPTION:Solo Acoustic Performance \n4 PM – 7 PM
URL:https://michaelalanis.com/event/estancia-del-norte-paseo-bar-26/
LOCATION:Estancia del Norte – Paseo Bar\, 37 NE Loop 410 at\, McCullough Ave\, San Antonio\, TX\, 78216\, United States
END:VEVENT
BEGIN:VEVENT
DTSTART;TZID=America/Chicago:20230727T180000
DTEND;TZID=America/Chicago:20230727T210000
DTSTAMP:20260425T123738
CREATED:20230607T172422Z
LAST-MODIFIED:20230607T172422Z
UID:9340-1690480800-1690491600@michaelalanis.com
SUMMARY:Hotel Contessa - Ambler Bar
DESCRIPTION:Solo Acoustic Performance \n6 PM – 9 PM
URL:https://michaelalanis.com/event/hotel-contessa-ambler-bar-22/
LOCATION:Hotel Contessa- Ambler Bar\, 306 W Market St\, San Antonio\, TX\, United States
END:VEVENT
BEGIN:VEVENT
DTSTART;TZID=America/Chicago:20230728T200000
DTEND;TZID=America/Chicago:20230728T230000
DTSTAMP:20260425T123738
CREATED:20230718T194524Z
LAST-MODIFIED:20230718T194524Z
UID:9374-1690574400-1690585200@michaelalanis.com
SUMMARY:Grand Hyatt - Bar Rojo
DESCRIPTION:Solo Acoustic Performance \n8 pm – 11 pm
URL:https://michaelalanis.com/event/grand-hyatt-bar-rojo-32/
LOCATION:Grand Hyatt – Bar Rojo\, 600 E. Market Street\, San Antonio\, Texas\, 78205\, United States
END:VEVENT
BEGIN:VEVENT
DTSTART;TZID=America/Chicago:20230730T123000
DTEND;TZID=America/Chicago:20230730T140000
DTSTAMP:20260425T123738
CREATED:20230605T211002Z
LAST-MODIFIED:20230605T211002Z
UID:9313-1690720200-1690725600@michaelalanis.com
SUMMARY:The Rustic - SA
DESCRIPTION:Solo Acoustic Performance \n12:30 PM – 2:00 PM
URL:https://michaelalanis.com/event/the-rustic-sa-14/
LOCATION:The Rustic – San Antonio\, 17619 La Cantera Pkwy #204\, San Antonio\, TX\, 78257\, United States
END:VEVENT
BEGIN:VEVENT
DTSTART;TZID=America/Chicago:20230730T180000
DTEND;TZID=America/Chicago:20230730T200000
DTSTAMP:20260425T123738
CREATED:20230730T135516Z
LAST-MODIFIED:20230730T135516Z
UID:9393-1690740000-1690747200@michaelalanis.com
SUMMARY:Private Event
DESCRIPTION:Private event \n6 pm – 8 pm \n 
URL:https://michaelalanis.com/event/private-event-44/
LOCATION:TX
END:VEVENT
END:VCALENDAR