BEGIN:VCALENDAR
VERSION:2.0
PRODID:-//Michael Alanis - ECPv6.15.20//NONSGML v1.0//EN
CALSCALE:GREGORIAN
METHOD:PUBLISH
X-WR-CALNAME:Michael Alanis
X-ORIGINAL-URL:https://michaelalanis.com
X-WR-CALDESC:Events for Michael Alanis
REFRESH-INTERVAL;VALUE=DURATION:PT1H
X-Robots-Tag:noindex
X-PUBLISHED-TTL:PT1H
BEGIN:VTIMEZONE
TZID:America/Chicago
BEGIN:DAYLIGHT
TZOFFSETFROM:-0600
TZOFFSETTO:-0500
TZNAME:CDT
DTSTART:20230312T080000
END:DAYLIGHT
BEGIN:STANDARD
TZOFFSETFROM:-0500
TZOFFSETTO:-0600
TZNAME:CST
DTSTART:20231105T070000
END:STANDARD
BEGIN:DAYLIGHT
TZOFFSETFROM:-0600
TZOFFSETTO:-0500
TZNAME:CDT
DTSTART:20240310T080000
END:DAYLIGHT
BEGIN:STANDARD
TZOFFSETFROM:-0500
TZOFFSETTO:-0600
TZNAME:CST
DTSTART:20241103T070000
END:STANDARD
BEGIN:DAYLIGHT
TZOFFSETFROM:-0600
TZOFFSETTO:-0500
TZNAME:CDT
DTSTART:20250309T080000
END:DAYLIGHT
BEGIN:STANDARD
TZOFFSETFROM:-0500
TZOFFSETTO:-0600
TZNAME:CST
DTSTART:20251102T070000
END:STANDARD
END:VTIMEZONE
BEGIN:VEVENT
DTSTART;TZID=America/Chicago:20240420T120000
DTEND;TZID=America/Chicago:20240420T160000
DTSTAMP:20260425T104550
CREATED:20240325T141650Z
LAST-MODIFIED:20240325T141650Z
UID:9772-1713614400-1713628800@michaelalanis.com
SUMMARY:Tommy Bahama - Marlin Bar
DESCRIPTION:Solo Acoustic Performance \n12 PM – 4 PM
URL:https://michaelalanis.com/event/tommy-bahama-marlin-bar-13/
LOCATION:Tommy Bahama – Marlin Bar\, 15900 La Cantera Pkwy #19110\, San Antonio\, TX\, 78256\, United States
END:VEVENT
BEGIN:VEVENT
DTSTART;TZID=America/Chicago:20240419T180000
DTEND;TZID=America/Chicago:20240419T220000
DTSTAMP:20260425T104550
CREATED:20240325T141533Z
LAST-MODIFIED:20240325T141533Z
UID:9770-1713549600-1713564000@michaelalanis.com
SUMMARY:36th Annual Alamo Heights Night
DESCRIPTION:Band Performance \n6 PM – 7 PM AND  9 PM – 10:15 PM \nEvent Details
URL:https://michaelalanis.com/event/36th-annual-alamo-heights-night/
END:VEVENT
BEGIN:VEVENT
DTSTART;TZID=America/Chicago:20240418T160000
DTEND;TZID=America/Chicago:20240418T190000
DTSTAMP:20260425T104550
CREATED:20240411T161034Z
LAST-MODIFIED:20240411T161120Z
UID:9798-1713456000-1713466800@michaelalanis.com
SUMMARY:Estancia del Norte - Paseo Bar
DESCRIPTION:Solo Acoustic Performance \n4 PM – 7 PM
URL:https://michaelalanis.com/event/estancia-del-norte-paseo-bar-42/
LOCATION:Estancia del Norte – Paseo Bar\, 37 NE Loop 410 at\, McCullough Ave\, San Antonio\, TX\, 78216\, United States
END:VEVENT
BEGIN:VEVENT
DTSTART;TZID=America/Chicago:20240417T193000
DTEND;TZID=America/Chicago:20240417T213000
DTSTAMP:20260425T104550
CREATED:20240325T141011Z
LAST-MODIFIED:20240325T141011Z
UID:9767-1713382200-1713389400@michaelalanis.com
SUMMARY:The Rustic - SA
DESCRIPTION:Solo acoustic performance \n7:39 PM – 9:30 PM
URL:https://michaelalanis.com/event/the-rustic-sa-25/
LOCATION:The Rustic – San Antonio\, 17619 La Cantera Pkwy #204\, San Antonio\, TX\, 78257\, United States
END:VEVENT
BEGIN:VEVENT
DTSTART;TZID=America/Chicago:20240416T170000
DTEND;TZID=America/Chicago:20240416T210000
DTSTAMP:20260425T104550
CREATED:20240305T132930Z
LAST-MODIFIED:20240305T132930Z
UID:9748-1713286800-1713301200@michaelalanis.com
SUMMARY:Tommy Bahama - Marlin Bar
DESCRIPTION:Solo acoustic performance \n5 pm – 9 pm
URL:https://michaelalanis.com/event/tommy-bahama-marlin-bar-9/
END:VEVENT
BEGIN:VEVENT
DTSTART;TZID=America/Chicago:20240415T190000
DTEND;TZID=America/Chicago:20240415T220000
DTSTAMP:20260425T104550
CREATED:20240325T140736Z
LAST-MODIFIED:20240325T140854Z
UID:9765-1713207600-1713218400@michaelalanis.com
SUMMARY:Hotel Emma - Sternewirth Tavern
DESCRIPTION:7 PM – 10 PM
URL:https://michaelalanis.com/event/hotel-emma-sternewirth-tavern-17/
LOCATION:Hotel Emma – Sternewirth Tavern\, 136 E Grayson St\, San Antonio\, TX\, 78238\, United States
END:VEVENT
BEGIN:VEVENT
DTSTART;TZID=America/Chicago:20240414T110000
DTEND;TZID=America/Chicago:20240414T150000
DTSTAMP:20260425T104550
CREATED:20240325T140514Z
LAST-MODIFIED:20240325T140514Z
UID:9763-1713092400-1713106800@michaelalanis.com
SUMMARY:Tony G's Soul Food
DESCRIPTION:Band “Brunch” Performance \n11 AM – 3 PM
URL:https://michaelalanis.com/event/tony-gs-soul-food-32/
LOCATION:Tony G’s Soul Food\, 915 S Hackberry\, San Antonio\, TX\, 78210\, United States
END:VEVENT
BEGIN:VEVENT
DTSTART;TZID=America/Chicago:20240413T200000
DTEND;TZID=America/Chicago:20240413T235900
DTSTAMP:20260425T104550
CREATED:20240325T140328Z
LAST-MODIFIED:20240410T195824Z
UID:9761-1713038400-1713052740@michaelalanis.com
SUMMARY:LIVE @ American Legion Post 399
DESCRIPTION:Michael Alanis & Anthony Thomas Martinez : LIVE @ American Legion Post 399 \nBand performance \n8 PM – 12 PM \n2628 W. Southcross Blvd \nSan Antonio\, TX  78211 \nhttps://l.facebook.com/l.php?u=https%3A%2F%2Fwww.google.com%2Fmaps%2Fdir%2F%3Fapi%3D1%26destination%3D29.36864%252C-98.5558099%26fbclid%3DIwAR1LNoINCB2rc5mnE60EL-pP-VinenLN6JXrEc8lkD_HLralaT5EbbdXWQc_aem_AbVseKsvSyiA-TFstJXTLKIzhQ70y_RGmDbrxQVClnLOmTwss9FtecaBqAL-y9yHrnV7aA_hakPAH5APs40n50h7&h=AT1z8qTAFPKeV_DhywlbCYXTA8VIbmuTsIizV5v3ps2WOpjkuRC9K-IvTScP0zOKPotfUE_26BA0ucExeg03i1P-O0Zw0H9gjuid7NJIjmZYxYqvHWkqM-b75K1c7pBytzE
URL:https://michaelalanis.com/event/private-party-15/
END:VEVENT
BEGIN:VEVENT
DTSTART;TZID=America/Chicago:20240413T120000
DTEND;TZID=America/Chicago:20240413T160000
DTSTAMP:20260425T104550
CREATED:20240325T140211Z
LAST-MODIFIED:20240325T140211Z
UID:9759-1713009600-1713024000@michaelalanis.com
SUMMARY:Tommy Bahama - Marlin Bar
DESCRIPTION:Solo Acoustic performance \n12 pm – 4 pm
URL:https://michaelalanis.com/event/tommy-bahama-marlin-bar-12/
LOCATION:Tommy Bahama – Marlin Bar\, 15900 La Cantera Pkwy #19110\, San Antonio\, TX\, 78256\, United States
END:VEVENT
BEGIN:VEVENT
DTSTART;TZID=America/Chicago:20240412T200000
DTEND;TZID=America/Chicago:20240412T223000
DTSTAMP:20260425T104550
CREATED:20240410T200815Z
LAST-MODIFIED:20240410T200815Z
UID:9794-1712952000-1712961000@michaelalanis.com
SUMMARY:Private Event
DESCRIPTION:Private Event \n8:00 PM – 10:30 PM
URL:https://michaelalanis.com/event/private-event-57/
END:VEVENT
BEGIN:VEVENT
DTSTART;TZID=America/Chicago:20240411T180000
DTEND;TZID=America/Chicago:20240411T210000
DTSTAMP:20260425T104550
CREATED:20240411T160606Z
LAST-MODIFIED:20240411T160606Z
UID:9796-1712858400-1712869200@michaelalanis.com
SUMMARY:Gather Brewing Company
DESCRIPTION:Solo acoustic Performance \n6 PM – 9 PM \nhttps://gatherbrewing.co/ \n210 East Aviation Boulevard\nUniversal City\, TX\n78148\n 
URL:https://michaelalanis.com/event/gather-brewing-company/
END:VEVENT
BEGIN:VEVENT
DTSTART;TZID=America/Chicago:20240409T170000
DTEND;TZID=America/Chicago:20240409T210000
DTSTAMP:20260425T104550
CREATED:20240305T132833Z
LAST-MODIFIED:20240305T132833Z
UID:9746-1712682000-1712696400@michaelalanis.com
SUMMARY:Tommy Bahama - Marlin Bar
DESCRIPTION:Solo acoustic performance \n5 PM – 9 PM
URL:https://michaelalanis.com/event/tommy-bahama-marlin-bar-8/
LOCATION:Tommy Bahama – Marlin Bar\, 15900 La Cantera Pkwy #19110\, San Antonio\, TX\, 78256\, United States
END:VEVENT
BEGIN:VEVENT
DTSTART;TZID=America/Chicago:20240407T180000
DTEND;TZID=America/Chicago:20240407T200000
DTSTAMP:20260425T104550
CREATED:20240325T135836Z
LAST-MODIFIED:20240325T135836Z
UID:9756-1712512800-1712520000@michaelalanis.com
SUMMARY:Private Party
DESCRIPTION:Private Party
URL:https://michaelalanis.com/event/private-party-14/
END:VEVENT
BEGIN:VEVENT
DTSTART;TZID=America/Chicago:20240406T180000
DTEND;TZID=America/Chicago:20240406T210000
DTSTAMP:20260425T104550
CREATED:20240410T193802Z
LAST-MODIFIED:20240410T195223Z
UID:9785-1712426400-1712437200@michaelalanis.com
SUMMARY:Devils River Whiskey Distillery
DESCRIPTION:Sitting in w/Joel Gracia \nBand performance \n6 pm – 9 pm
URL:https://michaelalanis.com/event/devils-river-whiskey-distillery/
END:VEVENT
BEGIN:VEVENT
DTSTART;TZID=America/Chicago:20240405T180000
DTEND;TZID=America/Chicago:20240405T213000
DTSTAMP:20260425T104550
CREATED:20240410T193634Z
LAST-MODIFIED:20240410T193634Z
UID:9783-1712340000-1712352600@michaelalanis.com
SUMMARY:Hook Land & Sea
DESCRIPTION:Trio performance \nsitting in w/Jennifer Ezpinosa \n6 pm – 9 pm
URL:https://michaelalanis.com/event/hook-land-sea/
END:VEVENT
BEGIN:VEVENT
DTSTART;TZID=America/Chicago:20240402T183000
DTEND;TZID=America/Chicago:20240402T213000
DTSTAMP:20260425T104550
CREATED:20240305T131713Z
LAST-MODIFIED:20240305T132541Z
UID:9741-1712082600-1712093400@michaelalanis.com
SUMMARY:Thompson Hotel - Moon's Daughters Rooftop Lounge & Bar
DESCRIPTION:Duo performance \nFest: Jennifer Ezpinosa \n6:30 pm – 9:30 pm
URL:https://michaelalanis.com/event/the-thompson-moons-daughters-bar/
LOCATION:Thompson Hotel – Moon’s Daughters Rooftop Lounge & Bar\, 115 Lexington Ave\, San Antonio\, TX\, 78205\, United States
END:VEVENT
BEGIN:VEVENT
DTSTART;TZID=America/Chicago:20240330T170000
DTEND;TZID=America/Chicago:20240330T210000
DTSTAMP:20260425T104550
CREATED:20240304T212014Z
LAST-MODIFIED:20240304T212014Z
UID:9735-1711818000-1711832400@michaelalanis.com
SUMMARY:Tommy Bahama - Marlin Bar
DESCRIPTION:Solo Acoustic \n5 PM – 9 PM
URL:https://michaelalanis.com/event/tommy-bahama-marlin-bar-7/
END:VEVENT
BEGIN:VEVENT
DTSTART;TZID=America/Chicago:20240329T190000
DTEND;TZID=America/Chicago:20240329T220000
DTSTAMP:20260425T104550
CREATED:20240304T211656Z
LAST-MODIFIED:20240304T211656Z
UID:9733-1711738800-1711749600@michaelalanis.com
SUMMARY:Thompson Hotel - The Moon's Daughters Rooftop Lounge & Bar
DESCRIPTION:Solo Acoustic \n7 PM – 10 PM
URL:https://michaelalanis.com/event/thompson-hotel-the-moons-daughters-rooftop-lounge-bar/
END:VEVENT
BEGIN:VEVENT
DTSTART;TZID=America/Chicago:20240326T170000
DTEND;TZID=America/Chicago:20240326T210000
DTSTAMP:20260425T104550
CREATED:20240302T135401Z
LAST-MODIFIED:20240302T135401Z
UID:9722-1711472400-1711486800@michaelalanis.com
SUMMARY:Tommy Bahama - Marlin Bar
DESCRIPTION:Solo acoustic performance \n5 pm – 9 pm
URL:https://michaelalanis.com/event/tommy-bahama-marlin-bar-6/
LOCATION:Tommy Bahama – Marlin Bar\, 15900 La Cantera Pkwy #19110\, San Antonio\, TX\, 78256\, United States
END:VEVENT
BEGIN:VEVENT
DTSTART;TZID=America/Chicago:20240324T123000
DTEND;TZID=America/Chicago:20240324T153000
DTSTAMP:20260425T104550
CREATED:20240302T135203Z
LAST-MODIFIED:20240302T135203Z
UID:9720-1711283400-1711294200@michaelalanis.com
SUMMARY:Renzo's Trattoria e Pizzaria
DESCRIPTION:Solo acoustic performance \n23:30 pm – 3:30 pm
URL:https://michaelalanis.com/event/renzos-trattoria-e-pizzaria/
LOCATION:Renzo’s Trattoria e Pizzeria\, 4323 N. Loop 1604 W\, Unit 112\, San Antonio\, TX\, 78249\, United States
END:VEVENT
BEGIN:VEVENT
DTSTART;TZID=America/Chicago:20240323T170000
DTEND;TZID=America/Chicago:20240323T210000
DTSTAMP:20260425T104550
CREATED:20240302T134917Z
LAST-MODIFIED:20240302T134917Z
UID:9718-1711213200-1711227600@michaelalanis.com
SUMMARY:Tommy Bahama - Marlin Bar
DESCRIPTION:Solo acoustic performance \n5 pm – 9 pm
URL:https://michaelalanis.com/event/tommy-bahama-marlin-bar-5/
LOCATION:Tommy Bahama – Marlin Bar\, 15900 La Cantera Pkwy #19110\, San Antonio\, TX\, 78256\, United States
END:VEVENT
BEGIN:VEVENT
DTSTART;TZID=America/Chicago:20240322T200000
DTEND;TZID=America/Chicago:20240322T230000
DTSTAMP:20260425T104550
CREATED:20240302T134756Z
LAST-MODIFIED:20240304T210818Z
UID:9716-1711137600-1711148400@michaelalanis.com
SUMMARY:Grand Hyatt - Bar Rojo
DESCRIPTION:Solo acoustic performance \n8 pm – 11 pm
URL:https://michaelalanis.com/event/grand-hyatt-bar-rojo-36/
LOCATION:Grand Hyatt – Bar Rojo\, 600 E. Market Street\, San Antonio\, Texas\, 78205\, United States
END:VEVENT
BEGIN:VEVENT
DTSTART;TZID=America/Chicago:20240319T170000
DTEND;TZID=America/Chicago:20240319T210000
DTSTAMP:20260425T104550
CREATED:20240302T134344Z
LAST-MODIFIED:20240302T134406Z
UID:9709-1710867600-1710882000@michaelalanis.com
SUMMARY:Tommy Bahama - Marlin Bar
DESCRIPTION:Solo acoustic performance \n5 pm – 9 pm
URL:https://michaelalanis.com/event/tommy-bahama-marlin-bar-4/
LOCATION:Tommy Bahama – Marlin Bar\, 15900 La Cantera Pkwy #19110\, San Antonio\, TX\, 78256\, United States
END:VEVENT
BEGIN:VEVENT
DTSTART;TZID=America/Chicago:20240317T170000
DTEND;TZID=America/Chicago:20240317T210000
DTSTAMP:20260425T104550
CREATED:20240302T134158Z
LAST-MODIFIED:20240302T135549Z
UID:9707-1710694800-1710709200@michaelalanis.com
SUMMARY:Stonewerks - The Rim (St Patrick's Day)
DESCRIPTION:Band Performance \n5 pm – 9 pm
URL:https://michaelalanis.com/event/stonewerks-the-rim-st-patricks-day/
LOCATION:Stone Werks – The Rim\, 5807 Worth Pkwy\, San Antonio\, TX\, 78257\, United States
END:VEVENT
BEGIN:VEVENT
DTSTART;TZID=America/Chicago:20240316T180000
DTEND;TZID=America/Chicago:20240316T210000
DTSTAMP:20260425T104550
CREATED:20240302T134024Z
LAST-MODIFIED:20240302T134024Z
UID:9705-1710612000-1710622800@michaelalanis.com
SUMMARY:Hyatt Regency Riverwalk - Q Bar & Kitchen
DESCRIPTION:Solo acoustic performance \n6 pm – 9 pm
URL:https://michaelalanis.com/event/hyatt-regency-riverwalk-q-bar-kitchen-53/
LOCATION:Hyatt Regency San Antonio Riverwalk\, 123 Losoya\, San Antonio\, TX\, 78205\, United States
END:VEVENT
BEGIN:VEVENT
DTSTART;TZID=America/Chicago:20240316T123000
DTEND;TZID=America/Chicago:20240316T140000
DTSTAMP:20260425T104550
CREATED:20240302T133905Z
LAST-MODIFIED:20240302T133905Z
UID:9703-1710592200-1710597600@michaelalanis.com
SUMMARY:The Rustic SA
DESCRIPTION:Solo acoustic performance \n12:30 pm – 2:00 pm
URL:https://michaelalanis.com/event/the-rustic-sa-24/
LOCATION:The Rustic – San Antonio\, 17619 La Cantera Pkwy #204\, San Antonio\, TX\, 78257\, United States
END:VEVENT
BEGIN:VEVENT
DTSTART;TZID=America/Chicago:20240315T173000
DTEND;TZID=America/Chicago:20240315T203000
DTSTAMP:20260425T104550
CREATED:20240302T133730Z
LAST-MODIFIED:20240302T133730Z
UID:9701-1710523800-1710534600@michaelalanis.com
SUMMARY:Hyatt Hill Country - Springhouse Cafe
DESCRIPTION:Solo acoustic performance \n5:30 pm – 8:30 pm
URL:https://michaelalanis.com/event/hyatt-hill-country-springhouse-cafe-2/
LOCATION:Hyatt Regency Hill Country Resort – Springhouse Cafe\, 9800 Hyatt Resort Drive\, San Antonio\, TX\, 782251\, United States
END:VEVENT
BEGIN:VEVENT
DTSTART;TZID=America/Chicago:20240313T160000
DTEND;TZID=America/Chicago:20240313T200000
DTSTAMP:20260425T104550
CREATED:20240302T133405Z
LAST-MODIFIED:20240302T133405Z
UID:9697-1710345600-1710360000@michaelalanis.com
SUMMARY:Estancia del Norte - Paseo Bar
DESCRIPTION:Solo Acoustic Performance \n4 pm – 8 pm
URL:https://michaelalanis.com/event/estancia-del-norte-paseo-bar-41/
LOCATION:Estancia del Norte – Paseo Bar\, 37 NE Loop 410 at\, McCullough Ave\, San Antonio\, TX\, 78216\, United States
END:VEVENT
BEGIN:VEVENT
DTSTART;TZID=America/Chicago:20240312T170000
DTEND;TZID=America/Chicago:20240312T210000
DTSTAMP:20260425T104550
CREATED:20240302T133239Z
LAST-MODIFIED:20240302T133239Z
UID:9695-1710262800-1710277200@michaelalanis.com
SUMMARY:Tommy Bahama - Marlin Bar
DESCRIPTION:Solo Acoustic Performance \n5 pm – 9 pm
URL:https://michaelalanis.com/event/tommy-bahama-marlin-bar-3/
LOCATION:Tommy Bahama – Marlin Bar\, 15900 La Cantera Pkwy #19110\, San Antonio\, TX\, 78256\, United States
END:VEVENT
BEGIN:VEVENT
DTSTART;TZID=America/Chicago:20240311T180000
DTEND;TZID=America/Chicago:20240311T210000
DTSTAMP:20260425T104550
CREATED:20240302T133044Z
LAST-MODIFIED:20240304T211304Z
UID:9693-1710180000-1710190800@michaelalanis.com
SUMMARY:Hyatt Lost Pines - Maude's Lobby Bar
DESCRIPTION:Solo acoustic performance \n6 pm – 9 pm
URL:https://michaelalanis.com/event/hyatt-lost-pines-shellers-barrelhouse-bar-2/
LOCATION:Hyatt Lost Pines – Shellers Barrelhouse Bar\, 575 Hyatt Lost Pines Rd\, Ceadar Creek\, TX\, 78612\, United States
END:VEVENT
END:VCALENDAR