BEGIN:VCALENDAR
VERSION:2.0
PRODID:-//Michael Alanis - ECPv6.15.20//NONSGML v1.0//EN
CALSCALE:GREGORIAN
METHOD:PUBLISH
X-ORIGINAL-URL:https://michaelalanis.com
X-WR-CALDESC:Events for Michael Alanis
REFRESH-INTERVAL;VALUE=DURATION:PT1H
X-Robots-Tag:noindex
X-PUBLISHED-TTL:PT1H
BEGIN:VTIMEZONE
TZID:America/Chicago
BEGIN:DAYLIGHT
TZOFFSETFROM:-0600
TZOFFSETTO:-0500
TZNAME:CDT
DTSTART:20230312T080000
END:DAYLIGHT
BEGIN:STANDARD
TZOFFSETFROM:-0500
TZOFFSETTO:-0600
TZNAME:CST
DTSTART:20231105T070000
END:STANDARD
BEGIN:DAYLIGHT
TZOFFSETFROM:-0600
TZOFFSETTO:-0500
TZNAME:CDT
DTSTART:20240310T080000
END:DAYLIGHT
BEGIN:STANDARD
TZOFFSETFROM:-0500
TZOFFSETTO:-0600
TZNAME:CST
DTSTART:20241103T070000
END:STANDARD
BEGIN:DAYLIGHT
TZOFFSETFROM:-0600
TZOFFSETTO:-0500
TZNAME:CDT
DTSTART:20250309T080000
END:DAYLIGHT
BEGIN:STANDARD
TZOFFSETFROM:-0500
TZOFFSETTO:-0600
TZNAME:CST
DTSTART:20251102T070000
END:STANDARD
END:VTIMEZONE
BEGIN:VEVENT
DTSTART;TZID=America/Chicago:20240611T170000
DTEND;TZID=America/Chicago:20240611T210000
DTSTAMP:20260425T062447
CREATED:20240605T190656Z
LAST-MODIFIED:20240605T190656Z
UID:9867-1718125200-1718139600@michaelalanis.com
SUMMARY:Tommy Bahama - Marlin Bar
DESCRIPTION:Solo acoustic performance \n5 pm – 9 pm
URL:https://michaelalanis.com/event/tommy-bahama-marlin-bar-19/
LOCATION:Tommy Bahama – Marlin Bar\, 15900 La Cantera Pkwy #19110\, San Antonio\, TX\, 78256\, United States
END:VEVENT
BEGIN:VEVENT
DTSTART;TZID=America/Chicago:20240618T170000
DTEND;TZID=America/Chicago:20240618T210000
DTSTAMP:20260425T062447
CREATED:20240605T191014Z
LAST-MODIFIED:20240605T213419Z
UID:9871-1718730000-1718744400@michaelalanis.com
SUMMARY:Tommy Bahama - Marlin Bar
DESCRIPTION:Solo acoustic performance \n5 pm – 9 pm
URL:https://michaelalanis.com/event/tommy-bahama-marlin-bar-20/
LOCATION:Tommy Bahama – Marlin Bar\, 15900 La Cantera Pkwy #19110\, San Antonio\, TX\, 78256\, United States
END:VEVENT
BEGIN:VEVENT
DTSTART;TZID=America/Chicago:20240621T180000
DTEND;TZID=America/Chicago:20240621T210000
DTSTAMP:20260425T062447
CREATED:20240621T121231Z
LAST-MODIFIED:20240621T121231Z
UID:9878-1718992800-1719003600@michaelalanis.com
SUMMARY:Hyatt Regency Riverwalk - Q Bar & Kitchen
DESCRIPTION:Solo Acoustic Performance \n6 PM – 9 PM
URL:https://michaelalanis.com/event/hyatt-regency-riverwalk-q-bar-kitchen-60/
LOCATION:Hyatt Regency San Antonio Riverwalk\, 123 Losoya\, San Antonio\, TX\, 78205\, United States
END:VEVENT
BEGIN:VEVENT
DTSTART;TZID=America/Chicago:20240622T200000
DTEND;TZID=America/Chicago:20240622T230000
DTSTAMP:20260425T062447
CREATED:20240621T121532Z
LAST-MODIFIED:20240623T132038Z
UID:9880-1719086400-1719097200@michaelalanis.com
SUMMARY:Aiden Hotel - "No Vacancy" Speak Easy Bar
DESCRIPTION:Band Performance \n8 PM – 12 AM
URL:https://michaelalanis.com/event/hyatt-hill-country-resort-springhouse-cafe-4/
LOCATION:Aiden Hotel – “No Vacancy” Speak Easy Bar\, 1103 E Comemrce St\, San Antonio\, 78205\, United States
END:VEVENT
BEGIN:VEVENT
DTSTART;TZID=America/Chicago:20240623T110000
DTEND;TZID=America/Chicago:20240623T150000
DTSTAMP:20260425T062447
CREATED:20240621T121834Z
LAST-MODIFIED:20240621T121834Z
UID:9882-1719140400-1719154800@michaelalanis.com
SUMMARY:Tony G's Soul Food
DESCRIPTION:Band “Brunch” Performance \n11 AM – 3 PM
URL:https://michaelalanis.com/event/tony-gs-soul-food-33/
LOCATION:Tony G’s Soul Food\, 915 S Hackberry\, San Antonio\, TX\, 78210\, United States
END:VEVENT
BEGIN:VEVENT
DTSTART;TZID=America/Chicago:20240623T170000
DTEND;TZID=America/Chicago:20240623T210000
DTSTAMP:20260425T062447
CREATED:20240621T122041Z
LAST-MODIFIED:20240621T122041Z
UID:9884-1719162000-1719176400@michaelalanis.com
SUMMARY:Tommy Bahamas - Marlin Bar
DESCRIPTION:Solo Acoustic Performance \n5 PM – 9 PM
URL:https://michaelalanis.com/event/tommy-bahamas-marlin-bar/
LOCATION:Tommy Bahama – Marlin Bar\, 15900 La Cantera Pkwy #19110\, San Antonio\, TX\, 78256\, United States
END:VEVENT
BEGIN:VEVENT
DTSTART;TZID=America/Chicago:20240625T170000
DTEND;TZID=America/Chicago:20240625T210000
DTSTAMP:20260425T062447
CREATED:20240623T133058Z
LAST-MODIFIED:20240623T133058Z
UID:9897-1719334800-1719349200@michaelalanis.com
SUMMARY:Tommy Bahama - Marlin Bar
DESCRIPTION:Solo Acoustic Performance \n5 PM – 9 PM
URL:https://michaelalanis.com/event/tommy-bahama-marlin-bar-22/
LOCATION:Tommy Bahama – Marlin Bar\, 15900 La Cantera Pkwy #19110\, San Antonio\, TX\, 78256\, United States
END:VEVENT
BEGIN:VEVENT
DTSTART;TZID=America/Chicago:20240628T170000
DTEND;TZID=America/Chicago:20240628T200000
DTSTAMP:20260425T062447
CREATED:20240621T122214Z
LAST-MODIFIED:20240621T123257Z
UID:9886-1719594000-1719604800@michaelalanis.com
SUMMARY:Little Woodrow's - Babcock
DESCRIPTION:Band Performance \n5 PM – 8 PM
URL:https://michaelalanis.com/event/little-woodrows-stone-oak-5/
LOCATION:Little Woodrow’s – Babcock\, 2535 Babcock Rd\, San Antonio\, TX\, 78229\, United States
END:VEVENT
BEGIN:VEVENT
DTSTART;TZID=America/Chicago:20240629T080000
DTEND;TZID=America/Chicago:20240629T170000
DTSTAMP:20260425T062447
CREATED:20240621T122524Z
LAST-MODIFIED:20240621T122554Z
UID:9889-1719648000-1719680400@michaelalanis.com
SUMMARY:Elsewhere Garden Bar & Kitchen
DESCRIPTION:Band Performance \n4 PM – 7 PM
URL:https://michaelalanis.com/event/elsewhere-garden-bar-kitchen-34/
LOCATION:Elesewhere Garden Bar & Kitchen\, 103 E Jones Ave\, San Antonio\, TX\, 78215\, United States
END:VEVENT
BEGIN:VEVENT
DTSTART;TZID=America/Chicago:20240702T170000
DTEND;TZID=America/Chicago:20240702T210000
DTSTAMP:20260425T062447
CREATED:20240621T122912Z
LAST-MODIFIED:20240621T122912Z
UID:9891-1719939600-1719954000@michaelalanis.com
SUMMARY:Tommy Bahama - Marlin Bar
DESCRIPTION:Solo Acoustic Performance \n5 PM – 9 PM
URL:https://michaelalanis.com/event/tommy-bahama-marlin-bar-21/
LOCATION:Tommy Bahama – Marlin Bar\, 15900 La Cantera Pkwy #19110\, San Antonio\, TX\, 78256\, United States
END:VEVENT
BEGIN:VEVENT
DTSTART;TZID=America/Chicago:20240703T080000
DTEND;TZID=America/Chicago:20240703T170000
DTSTAMP:20260425T062447
CREATED:20240703T144530Z
LAST-MODIFIED:20240703T144530Z
UID:9925-1719993600-1720026000@michaelalanis.com
SUMMARY:JW Marriott Resort - 18 Oaks
DESCRIPTION:Solo Acoustic Performance \n7 pm – 10 pm
URL:https://michaelalanis.com/event/jw-marriott-resort-18-oaks-2/
LOCATION:JW Marriott Resort – 18 Oaks\, 23808 Resort Pkwy\, San Antonio\, TX\, 78261\, United States
END:VEVENT
BEGIN:VEVENT
DTSTART;TZID=America/Chicago:20240704T173000
DTEND;TZID=America/Chicago:20240704T203000
DTSTAMP:20260425T062447
CREATED:20240703T142813Z
LAST-MODIFIED:20240703T142813Z
UID:9909-1720114200-1720125000@michaelalanis.com
SUMMARY:Hyatt Hill Country
DESCRIPTION:Band Performance \n5:30 pm – 8:30 pm
URL:https://michaelalanis.com/event/hyatt-hill-country-10/
LOCATION:Hyatt Regency Hill Country Resort – Springhouse Cafe\, 9800 Hyatt Resort Drive\, San Antonio\, TX\, 782251\, United States
END:VEVENT
BEGIN:VEVENT
DTSTART;TZID=America/Chicago:20240705T190000
DTEND;TZID=America/Chicago:20240705T220000
DTSTAMP:20260425T062447
CREATED:20240703T143013Z
LAST-MODIFIED:20240703T143013Z
UID:9912-1720206000-1720216800@michaelalanis.com
SUMMARY:Hyatt Lost Pines - Austin
DESCRIPTION:Band performance \n7 pm – 10 pm
URL:https://michaelalanis.com/event/hyatt-lost-pines-austin/
LOCATION:Hyatt Lost Pines Resort – LBJ Pavilion\, 575 Hyatt Lost Pines Rd\, Lost Pines\, TX\, 78612\, United States
END:VEVENT
BEGIN:VEVENT
DTSTART;TZID=America/Chicago:20240706T080000
DTEND;TZID=America/Chicago:20240706T170000
DTSTAMP:20260425T062447
CREATED:20240703T143905Z
LAST-MODIFIED:20240703T143905Z
UID:9916-1720252800-1720285200@michaelalanis.com
SUMMARY:The Rose San Antonio
DESCRIPTION:Band Performance \n9 pm – 1 -am
URL:https://michaelalanis.com/event/the-rose-san-antonio/
LOCATION:The Rose San Antonio\, 420 East Houston St.\, San Antonio\, TX\, 78205\, United States
END:VEVENT
BEGIN:VEVENT
DTSTART;TZID=America/Chicago:20240706T173000
DTEND;TZID=America/Chicago:20240706T203000
DTSTAMP:20260425T062447
CREATED:20240703T143227Z
LAST-MODIFIED:20240703T143227Z
UID:9914-1720287000-1720297800@michaelalanis.com
SUMMARY:Hyatt Hill Country
DESCRIPTION:Band Performance \n5:00 pm – 8:00 pm
URL:https://michaelalanis.com/event/hyatt-hill-country-11/
LOCATION:Hyatt Regency Hill Country Resort – Springhouse Cafe\, 9800 Hyatt Resort Drive\, San Antonio\, TX\, 782251\, United States
END:VEVENT
BEGIN:VEVENT
DTSTART;TZID=America/Chicago:20240709T170000
DTEND;TZID=America/Chicago:20240709T210000
DTSTAMP:20260425T062447
CREATED:20240623T133742Z
LAST-MODIFIED:20240623T133742Z
UID:9905-1720544400-1720558800@michaelalanis.com
SUMMARY:Tommy Bahama - Marlin Bar
DESCRIPTION:Solo Acoustic performance \n5 PM – 9 PM
URL:https://michaelalanis.com/event/tommy-bahama-marlin-bar-23/
LOCATION:Tommy Bahama – Marlin Bar\, 15900 La Cantera Pkwy #19110\, San Antonio\, TX\, 78256\, United States
END:VEVENT
BEGIN:VEVENT
DTSTART;TZID=America/Chicago:20240712T080000
DTEND;TZID=America/Chicago:20240712T170000
DTSTAMP:20260425T062447
CREATED:20240703T151856Z
LAST-MODIFIED:20240703T151856Z
UID:9927-1720771200-1720803600@michaelalanis.com
SUMMARY:Hyatt Hill Country
DESCRIPTION:Solo Acoustic Performance \n5:30 pm – 8:30 pm
URL:https://michaelalanis.com/event/hyatt-hill-country-12/
LOCATION:Hyatt Regency Hill Country Resort – Springhouse Cafe\, 9800 Hyatt Resort Drive\, San Antonio\, TX\, 782251\, United States
END:VEVENT
BEGIN:VEVENT
DTSTART;TZID=America/Chicago:20240713T220000
DTEND;TZID=America/Chicago:20240713T220000
DTSTAMP:20260425T062447
CREATED:20240703T152111Z
LAST-MODIFIED:20240703T152111Z
UID:9929-1720908000-1720908000@michaelalanis.com
SUMMARY:River Sun
DESCRIPTION:Band Performance \n10 pm – 1 am
URL:https://michaelalanis.com/event/river-sun-2/
LOCATION:River Sun\, 1011 Avenue B\, San Antonio\, TX\, 78215\, United States
END:VEVENT
BEGIN:VEVENT
DTSTART;TZID=America/Chicago:20240714T123000
DTEND;TZID=America/Chicago:20240714T153000
DTSTAMP:20260425T062447
CREATED:20240623T133628Z
LAST-MODIFIED:20240623T133628Z
UID:9903-1720960200-1720971000@michaelalanis.com
SUMMARY:Renzo's - Trattoria e Pizzeria
DESCRIPTION:Solo Acoustic Performance \n12:30 PM – 3:30 PM
URL:https://michaelalanis.com/event/renzos-trattoria-e-pizzeria-2/
LOCATION:Renzo’s Trattoria e Pizzeria\, 4323 N. Loop 1604 W\, Unit 112\, San Antonio\, TX\, 78249\, United States
END:VEVENT
BEGIN:VEVENT
DTSTART;TZID=America/Chicago:20240715T190000
DTEND;TZID=America/Chicago:20240715T220000
DTSTAMP:20260425T062447
CREATED:20240623T133314Z
LAST-MODIFIED:20240623T133314Z
UID:9899-1721070000-1721080800@michaelalanis.com
SUMMARY:Hotel Emma - Sternewirth Tavern
DESCRIPTION:Solo Acoustic Performance \n7 PM – 10 PM
URL:https://michaelalanis.com/event/hotel-emma-sternewirth-tavern-19/
LOCATION:Hotel Emma – Sternewirth Tavern\, 136 E Grayson St\, San Antonio\, TX\, 78238\, United States
END:VEVENT
BEGIN:VEVENT
DTSTART;TZID=America/Chicago:20240716T170000
DTEND;TZID=America/Chicago:20240716T210000
DTSTAMP:20260425T062447
CREATED:20240703T144113Z
LAST-MODIFIED:20240703T144113Z
UID:9919-1721149200-1721163600@michaelalanis.com
SUMMARY:Tommy Bahama - Marlin Bar
DESCRIPTION:Solo Acoustic Performance \n5 PM – 9 PM
URL:https://michaelalanis.com/event/tommy-bahama-marlin-bar-24/
LOCATION:Tommy Bahama – Marlin Bar\, 15900 La Cantera Pkwy #19110\, San Antonio\, TX\, 78256\, United States
END:VEVENT
BEGIN:VEVENT
DTSTART;TZID=America/Chicago:20240719T180000
DTEND;TZID=America/Chicago:20240719T210000
DTSTAMP:20260425T062447
CREATED:20240703T152455Z
LAST-MODIFIED:20240703T152455Z
UID:9931-1721412000-1721422800@michaelalanis.com
SUMMARY:Centre Club San Antonio
DESCRIPTION:Solo Acoustic Performance \n6 pm – 9 pm
URL:https://michaelalanis.com/event/centre-club-san-antonio/
LOCATION:Centre Club San Antonio\, 112 E Pecan St\, San Antonio\, TX\, 78205\, United States
END:VEVENT
BEGIN:VEVENT
DTSTART;TZID=America/Chicago:20240720T190000
DTEND;TZID=America/Chicago:20240720T220000
DTSTAMP:20260425T062447
CREATED:20240703T152615Z
LAST-MODIFIED:20240703T152712Z
UID:9934-1721502000-1721512800@michaelalanis.com
SUMMARY:Grand Hyatt - Bar Rojo
DESCRIPTION:Solo acoustic performance \n7 pm – 10 pm
URL:https://michaelalanis.com/event/grand-hyatt-bar-rojo-38/
LOCATION:Grand Hyatt – Bar Rojo\, 600 E. Market Street\, San Antonio\, Texas\, 78205\, United States
END:VEVENT
BEGIN:VEVENT
DTSTART;TZID=America/Chicago:20240721T080000
DTEND;TZID=America/Chicago:20240721T170000
DTSTAMP:20260425T062447
CREATED:20240623T133439Z
LAST-MODIFIED:20240623T133439Z
UID:9901-1721548800-1721581200@michaelalanis.com
SUMMARY:Typhoon Texas - Austin
DESCRIPTION:Band Performance \n3:30 PM – 6:30 PM
URL:https://michaelalanis.com/event/typhoon-texas-austin-8/
LOCATION:Typhoon Texas Austin\, 18500 TX-130 Service Rd\, Pflugerville\, Texas\, 78660
END:VEVENT
BEGIN:VEVENT
DTSTART;TZID=America/Chicago:20240723T170000
DTEND;TZID=America/Chicago:20240723T210000
DTSTAMP:20260425T062447
CREATED:20240703T144229Z
LAST-MODIFIED:20240703T144229Z
UID:9921-1721754000-1721768400@michaelalanis.com
SUMMARY:Tommy Bahama - Marlin Bar
DESCRIPTION:Solo Acoustic Performance \n5 pm – 9 pm
URL:https://michaelalanis.com/event/tommy-bahama-marlin-bar-25/
LOCATION:Tommy Bahama – Marlin Bar\, 15900 La Cantera Pkwy #19110\, San Antonio\, TX\, 78256\, United States
END:VEVENT
BEGIN:VEVENT
DTSTART;TZID=America/Chicago:20240726T210000
DTEND;TZID=America/Chicago:20240726T210000
DTSTAMP:20260425T062447
CREATED:20240703T154804Z
LAST-MODIFIED:20240703T154804Z
UID:9936-1722027600-1722027600@michaelalanis.com
SUMMARY:The Rose San Antonio
DESCRIPTION:Band performance \n9 pm – 1 am
URL:https://michaelalanis.com/event/the-rose-san-antonio-2/
LOCATION:The Rose San Antonio\, 420 East Houston St.\, San Antonio\, TX\, 78205\, United States
END:VEVENT
BEGIN:VEVENT
DTSTART;TZID=America/Chicago:20240727T170000
DTEND;TZID=America/Chicago:20240727T200000
DTSTAMP:20260425T062447
CREATED:20240703T154916Z
LAST-MODIFIED:20240703T154916Z
UID:9938-1722099600-1722110400@michaelalanis.com
SUMMARY:Private Wedding
DESCRIPTION:Private Wedding
URL:https://michaelalanis.com/event/private-wedding-26/
END:VEVENT
BEGIN:VEVENT
DTSTART;TZID=America/Chicago:20240730T170000
DTEND;TZID=America/Chicago:20240730T210000
DTSTAMP:20260425T062447
CREATED:20240703T144334Z
LAST-MODIFIED:20240703T144334Z
UID:9923-1722358800-1722373200@michaelalanis.com
SUMMARY:Tommy Bahama - Marlin Bar
DESCRIPTION:Solo Acoustic Performance \n5 PM – 9 PM
URL:https://michaelalanis.com/event/tommy-bahama-marlin-bar-26/
LOCATION:Tommy Bahama – Marlin Bar\, 15900 La Cantera Pkwy #19110\, San Antonio\, TX\, 78256\, United States
END:VEVENT
BEGIN:VEVENT
DTSTART;TZID=America/Chicago:20240801T200000
DTEND;TZID=America/Chicago:20240801T230000
DTSTAMP:20260425T062447
CREATED:20240802T161220Z
LAST-MODIFIED:20240802T161220Z
UID:9941-1722542400-1722553200@michaelalanis.com
SUMMARY:Aiden Hotel - "No Vacancy" Speak Easy Bar
DESCRIPTION:Band Performance \n8 pm – 11 pm
URL:https://michaelalanis.com/event/aiden-hotel-no-vacancy-speak-easy-bar/
LOCATION:Aiden Hotel – “No Vacancy” Speak Easy Bar\, 1103 E Comemrce St\, San Antonio\, 78205\, United States
END:VEVENT
BEGIN:VEVENT
DTSTART;TZID=America/Chicago:20240802T173000
DTEND;TZID=America/Chicago:20240802T203000
DTSTAMP:20260425T062447
CREATED:20240802T192736Z
LAST-MODIFIED:20240802T192736Z
UID:9959-1722619800-1722630600@michaelalanis.com
SUMMARY:Hyatt Hill Country - Springhouse Cafe
DESCRIPTION:Solo Acoustic Performance \n5:30 pm – 8:30 pm
URL:https://michaelalanis.com/event/hyatt-hill-country-springhouse-cafe-3/
LOCATION:Hyatt Regency Hill Country Resort – Springhouse Cafe\, 9800 Hyatt Resort Drive\, San Antonio\, TX\, 782251\, United States
END:VEVENT
END:VCALENDAR