BEGIN:VCALENDAR
VERSION:2.0
PRODID:-//Michael Alanis - ECPv6.15.20//NONSGML v1.0//EN
CALSCALE:GREGORIAN
METHOD:PUBLISH
X-ORIGINAL-URL:https://michaelalanis.com
X-WR-CALDESC:Events for Michael Alanis
REFRESH-INTERVAL;VALUE=DURATION:PT1H
X-Robots-Tag:noindex
X-PUBLISHED-TTL:PT1H
BEGIN:VTIMEZONE
TZID:America/Chicago
BEGIN:DAYLIGHT
TZOFFSETFROM:-0600
TZOFFSETTO:-0500
TZNAME:CDT
DTSTART:20230312T080000
END:DAYLIGHT
BEGIN:STANDARD
TZOFFSETFROM:-0500
TZOFFSETTO:-0600
TZNAME:CST
DTSTART:20231105T070000
END:STANDARD
BEGIN:DAYLIGHT
TZOFFSETFROM:-0600
TZOFFSETTO:-0500
TZNAME:CDT
DTSTART:20240310T080000
END:DAYLIGHT
BEGIN:STANDARD
TZOFFSETFROM:-0500
TZOFFSETTO:-0600
TZNAME:CST
DTSTART:20241103T070000
END:STANDARD
BEGIN:DAYLIGHT
TZOFFSETFROM:-0600
TZOFFSETTO:-0500
TZNAME:CDT
DTSTART:20250309T080000
END:DAYLIGHT
BEGIN:STANDARD
TZOFFSETFROM:-0500
TZOFFSETTO:-0600
TZNAME:CST
DTSTART:20251102T070000
END:STANDARD
END:VTIMEZONE
BEGIN:VEVENT
DTSTART;TZID=America/Chicago:20240505T140000
DTEND;TZID=America/Chicago:20240505T160000
DTSTAMP:20260425T102905
CREATED:20240524T112148Z
LAST-MODIFIED:20240524T112148Z
UID:9816-1714917600-1714924800@michaelalanis.com
SUMMARY:Tommy Bahama - Marlin Bar
DESCRIPTION:Solo Acoustic Performance \n2 pm – 4 pm
URL:https://michaelalanis.com/event/tommy-bahama-marlin-bar-14/
LOCATION:Tommy Bahama – Marlin Bar\, 15900 La Cantera Pkwy #19110\, San Antonio\, TX\, 78256\, United States
END:VEVENT
BEGIN:VEVENT
DTSTART;TZID=America/Chicago:20240507T100000
DTEND;TZID=America/Chicago:20240507T230000
DTSTAMP:20260425T102905
CREATED:20240524T112505Z
LAST-MODIFIED:20240524T112505Z
UID:9820-1715076000-1715122800@michaelalanis.com
SUMMARY:Private Event
DESCRIPTION:Private Event \n10 am – 11 am
URL:https://michaelalanis.com/event/private-event-58/
END:VEVENT
BEGIN:VEVENT
DTSTART;TZID=America/Chicago:20240507T170000
DTEND;TZID=America/Chicago:20240507T210000
DTSTAMP:20260425T102905
CREATED:20240524T112356Z
LAST-MODIFIED:20240524T112356Z
UID:9818-1715101200-1715115600@michaelalanis.com
SUMMARY:Tommy Bahama - Marlin Bar
DESCRIPTION:Solo Acoustic Performance \n5 pm – 9 pm
URL:https://michaelalanis.com/event/tommy-bahama-marlin-bar-15/
LOCATION:Tommy Bahama – Marlin Bar\, 15900 La Cantera Pkwy #19110\, San Antonio\, TX\, 78256\, United States
END:VEVENT
BEGIN:VEVENT
DTSTART;TZID=America/Chicago:20240508T160000
DTEND;TZID=America/Chicago:20240508T190000
DTSTAMP:20260425T102905
CREATED:20240524T112642Z
LAST-MODIFIED:20240524T112642Z
UID:9822-1715184000-1715194800@michaelalanis.com
SUMMARY:Estancia del Norte - Paseo Bar
DESCRIPTION:Solo Acoustic Performance \n4 pm – 7 pm
URL:https://michaelalanis.com/event/estancia-del-norte-paseo-bar-44/
LOCATION:Estancia del Norte – Paseo Bar\, 37 NE Loop 410 at\, McCullough Ave\, San Antonio\, TX\, 78216\, United States
END:VEVENT
BEGIN:VEVENT
DTSTART;TZID=America/Chicago:20240509T170000
DTEND;TZID=America/Chicago:20240509T210000
DTSTAMP:20260425T102905
CREATED:20240524T112807Z
LAST-MODIFIED:20240524T112807Z
UID:9824-1715274000-1715288400@michaelalanis.com
SUMMARY:Private Event
DESCRIPTION:Band Performance \n5 pm – 8 pm
URL:https://michaelalanis.com/event/private-event-59/
END:VEVENT
BEGIN:VEVENT
DTSTART;TZID=America/Chicago:20240510T190000
DTEND;TZID=America/Chicago:20240510T220000
DTSTAMP:20260425T102905
CREATED:20240524T112931Z
LAST-MODIFIED:20240524T112931Z
UID:9826-1715367600-1715378400@michaelalanis.com
SUMMARY:Grand Hyatt - Bar Rojo
DESCRIPTION:Solo Acoustic Performance \n7 pm – 10 pm
URL:https://michaelalanis.com/event/grand-hyatt-bar-rojo-37/
LOCATION:Grand Hyatt – Bar Rojo\, 600 E. Market Street\, San Antonio\, Texas\, 78205\, United States
END:VEVENT
BEGIN:VEVENT
DTSTART;TZID=America/Chicago:20240511T220000
DTEND;TZID=America/Chicago:20240512T010000
DTSTAMP:20260425T102905
CREATED:20240524T113109Z
LAST-MODIFIED:20240524T113109Z
UID:9828-1715464800-1715475600@michaelalanis.com
SUMMARY:River Sun - Music venue
DESCRIPTION:Band Performance \n10 pm – 1 AM
URL:https://michaelalanis.com/event/river-sun-music-venue/
LOCATION:River Sun\, 1011 Avenue B\, San Antonio\, TX\, 78215\, United States
END:VEVENT
BEGIN:VEVENT
DTSTART;TZID=America/Chicago:20240512T103000
DTEND;TZID=America/Chicago:20240512T153000
DTSTAMP:20260425T102905
CREATED:20240524T113251Z
LAST-MODIFIED:20240524T113251Z
UID:9830-1715509800-1715527800@michaelalanis.com
SUMMARY:Private Event
DESCRIPTION:Solo Acoustic Performance \n10:30 am – 3:30 pm
URL:https://michaelalanis.com/event/private-event-60/
END:VEVENT
BEGIN:VEVENT
DTSTART;TZID=America/Chicago:20240513T180000
DTEND;TZID=America/Chicago:20240513T210000
DTSTAMP:20260425T102905
CREATED:20240524T113415Z
LAST-MODIFIED:20240524T113632Z
UID:9832-1715623200-1715634000@michaelalanis.com
SUMMARY:Private Event
DESCRIPTION:Band Performance \n6 pm – 9 pm
URL:https://michaelalanis.com/event/private-event-61/
END:VEVENT
BEGIN:VEVENT
DTSTART;TZID=America/Chicago:20240514T114500
DTEND;TZID=America/Chicago:20240514T123000
DTSTAMP:20260425T102905
CREATED:20240524T113757Z
LAST-MODIFIED:20240524T113757Z
UID:9834-1715687100-1715689800@michaelalanis.com
SUMMARY:Private Event
DESCRIPTION:Solo Acoustic Performance \n11:45 am – 12:30 pm
URL:https://michaelalanis.com/event/private-event-62/
END:VEVENT
BEGIN:VEVENT
DTSTART;TZID=America/Chicago:20240515T160000
DTEND;TZID=America/Chicago:20240515T190000
DTSTAMP:20260425T102905
CREATED:20240524T114018Z
LAST-MODIFIED:20240524T114018Z
UID:9836-1715788800-1715799600@michaelalanis.com
SUMMARY:Estancia del Norte - Paseo Bar
DESCRIPTION:Solo Acoustic Performance \n4 pm – 7 pm
URL:https://michaelalanis.com/event/estancia-del-norte-paseo-bar-45/
LOCATION:Estancia del Norte – Paseo Bar\, 37 NE Loop 410 at\, McCullough Ave\, San Antonio\, TX\, 78216\, United States
END:VEVENT
BEGIN:VEVENT
DTSTART;TZID=America/Chicago:20240516T160000
DTEND;TZID=America/Chicago:20240516T190000
DTSTAMP:20260425T102905
CREATED:20240524T114152Z
LAST-MODIFIED:20240524T114152Z
UID:9838-1715875200-1715886000@michaelalanis.com
SUMMARY:Estancia del Norte - Paseo Bar
DESCRIPTION:Solo Acoustic Performance \n4 pm – 7 pm
URL:https://michaelalanis.com/event/estancia-del-norte-paseo-bar-46/
LOCATION:Estancia del Norte – Paseo Bar\, 37 NE Loop 410 at\, McCullough Ave\, San Antonio\, TX\, 78216\, United States
END:VEVENT
BEGIN:VEVENT
DTSTART;TZID=America/Chicago:20240517T120000
DTEND;TZID=America/Chicago:20240517T160000
DTSTAMP:20260425T102905
CREATED:20240524T114521Z
LAST-MODIFIED:20240524T114521Z
UID:9840-1715947200-1715961600@michaelalanis.com
SUMMARY:Tommy Bahama - Marlin Bar
DESCRIPTION:Solo Acoustic Performance \n12 pm – 4 pm
URL:https://michaelalanis.com/event/tommy-bahama-marlin-bar-16/
LOCATION:Tommy Bahama – Marlin Bar\, 15900 La Cantera Pkwy #19110\, San Antonio\, TX\, 78256\, United States
END:VEVENT
BEGIN:VEVENT
DTSTART;TZID=America/Chicago:20240518T183000
DTEND;TZID=America/Chicago:20240518T203000
DTSTAMP:20260425T102905
CREATED:20240524T114702Z
LAST-MODIFIED:20240524T114702Z
UID:9842-1716057000-1716064200@michaelalanis.com
SUMMARY:Private Event
DESCRIPTION:Solo Acoustic Performance \n6:30 pm – 8:30 pm
URL:https://michaelalanis.com/event/private-event-63/
END:VEVENT
BEGIN:VEVENT
DTSTART;TZID=America/Chicago:20240521T170000
DTEND;TZID=America/Chicago:20240521T210000
DTSTAMP:20260425T102905
CREATED:20240524T114827Z
LAST-MODIFIED:20240524T114827Z
UID:9844-1716310800-1716325200@michaelalanis.com
SUMMARY:Tommy Bahama - Marlin Bar
DESCRIPTION:Solo Acoustic Performance \n5 pm – 9 pm
URL:https://michaelalanis.com/event/tommy-bahama-marlin-bar-17/
LOCATION:Tommy Bahama – Marlin Bar\, 15900 La Cantera Pkwy #19110\, San Antonio\, TX\, 78256\, United States
END:VEVENT
BEGIN:VEVENT
DTSTART;TZID=America/Chicago:20240525T213000
DTEND;TZID=America/Chicago:20240525T233000
DTSTAMP:20260425T102905
CREATED:20240524T115035Z
LAST-MODIFIED:20240524T115532Z
UID:9846-1716672600-1716679800@michaelalanis.com
SUMMARY:The Rustic - SA
DESCRIPTION:Band Performance \n9:30 pm – 11:30 pm
URL:https://michaelalanis.com/event/hyatt-hill-country-spring-house-cafe/
LOCATION:The Rustic – San Antonio\, 17619 La Cantera Pkwy #204\, San Antonio\, TX\, 78257\, United States
END:VEVENT
BEGIN:VEVENT
DTSTART;TZID=America/Chicago:20240526T180000
DTEND;TZID=America/Chicago:20240526T210000
DTSTAMP:20260425T102905
CREATED:20240524T115305Z
LAST-MODIFIED:20240524T115305Z
UID:9848-1716746400-1716757200@michaelalanis.com
SUMMARY:Hyatt Lost Pines - Shellers Barrelhouse Bar
DESCRIPTION:Solo Acoustic Performance \n6 pm – 9 pm
URL:https://michaelalanis.com/event/hyatt-lost-pines-shellers-barrelhouse-bar-3/
LOCATION:Hyatt Lost Pines – Shellers Barrelhouse Bar\, 575 Hyatt Lost Pines Rd\, Ceadar Creek\, TX\, 78612\, United States
END:VEVENT
BEGIN:VEVENT
DTSTART;TZID=America/Chicago:20240531T180000
DTEND;TZID=America/Chicago:20240531T210000
DTSTAMP:20260425T102905
CREATED:20240524T115738Z
LAST-MODIFIED:20240524T115738Z
UID:9852-1717178400-1717189200@michaelalanis.com
SUMMARY:Hyatt Regency Riverwalk - Q Bar & Kitchen
DESCRIPTION:Solo Acoustic Performance \n6 pm – 9 pm
URL:https://michaelalanis.com/event/hyatt-regency-riverwalk-q-bar-kitchen-58/
LOCATION:Hyatt Regency San Antonio Riverwalk\, 123 Losoya\, San Antonio\, TX\, 78205\, United States
END:VEVENT
BEGIN:VEVENT
DTSTART;TZID=America/Chicago:20240601T180000
DTEND;TZID=America/Chicago:20240601T200000
DTSTAMP:20260425T102905
CREATED:20240524T115858Z
LAST-MODIFIED:20240524T160049Z
UID:9854-1717264800-1717272000@michaelalanis.com
SUMMARY:Private Event
DESCRIPTION:Solo Acoustic Performance \n6 pm – 8 pm
URL:https://michaelalanis.com/event/private-event-64/
END:VEVENT
BEGIN:VEVENT
DTSTART;TZID=America/Chicago:20240602T113000
DTEND;TZID=America/Chicago:20240602T143000
DTSTAMP:20260425T102905
CREATED:20240524T160156Z
LAST-MODIFIED:20240524T160156Z
UID:9856-1717327800-1717338600@michaelalanis.com
SUMMARY:Private Event
DESCRIPTION:Solo Acoustic \n11:30 am – 2:30 pm
URL:https://michaelalanis.com/event/private-event-65/
END:VEVENT
BEGIN:VEVENT
DTSTART;TZID=America/Chicago:20240603T190000
DTEND;TZID=America/Chicago:20240603T220000
DTSTAMP:20260425T102905
CREATED:20240524T160336Z
LAST-MODIFIED:20240524T160336Z
UID:9858-1717441200-1717452000@michaelalanis.com
SUMMARY:Hotel Emma - Sternewirth Tavern
DESCRIPTION:Solo Acoustic Performance \n7 pm – 10 pm
URL:https://michaelalanis.com/event/hotel-emma-sternewirth-tavern-18/
LOCATION:Hotel Emma – Sternewirth Tavern\, 136 E Grayson St\, San Antonio\, TX\, 78238\, United States
END:VEVENT
BEGIN:VEVENT
DTSTART;TZID=America/Chicago:20240604T170000
DTEND;TZID=America/Chicago:20240604T210000
DTSTAMP:20260425T102905
CREATED:20240524T160456Z
LAST-MODIFIED:20240524T160456Z
UID:9860-1717520400-1717534800@michaelalanis.com
SUMMARY:Tommy Bahama - Marlin Bar
DESCRIPTION:Solo Acoustic Performance \n5 pm – 9 pm
URL:https://michaelalanis.com/event/tommy-bahama-marlin-bar-18/
LOCATION:Tommy Bahama – Marlin Bar\, 15900 La Cantera Pkwy #19110\, San Antonio\, TX\, 78256\, United States
END:VEVENT
BEGIN:VEVENT
DTSTART;TZID=America/Chicago:20240605T190000
DTEND;TZID=America/Chicago:20240605T220000
DTSTAMP:20260425T102905
CREATED:20240524T160751Z
LAST-MODIFIED:20240524T160751Z
UID:9864-1717614000-1717624800@michaelalanis.com
SUMMARY:Elsewhere Garden Bar & Kitchen
DESCRIPTION:Solo Acoustic Performance \n7 pm – 10 pm
URL:https://michaelalanis.com/event/elsewhere-garden-bar-kitchen-33/
LOCATION:Elesewhere Garden Bar & Kitchen\, 103 E Jones Ave\, San Antonio\, TX\, 78215\, United States
END:VEVENT
BEGIN:VEVENT
DTSTART;TZID=America/Chicago:20240607T170000
DTEND;TZID=America/Chicago:20240607T200000
DTSTAMP:20260425T102905
CREATED:20240605T215403Z
LAST-MODIFIED:20240605T215453Z
UID:9873-1717779600-1717790400@michaelalanis.com
SUMMARY:Pure Country BBQ & Grill
DESCRIPTION:Solo Acoustic Performance \n5 pm – 8 pm
URL:https://michaelalanis.com/event/pure-country-bbq-grill/
LOCATION:Pure Country BBQ & Grill\, 1481 South Main Street\, Boerne\, Texas\, 78006
END:VEVENT
BEGIN:VEVENT
DTSTART;TZID=America/Chicago:20240608T180000
DTEND;TZID=America/Chicago:20240608T210000
DTSTAMP:20260425T102905
CREATED:20240605T190842Z
LAST-MODIFIED:20240605T190842Z
UID:9869-1717869600-1717880400@michaelalanis.com
SUMMARY:Hyatt Regency Riverwalk - Q Bar & Kitchen
DESCRIPTION:Solo acoustic performance \n6 pm – 9 pm
URL:https://michaelalanis.com/event/hyatt-regency-riverwalk-q-bar-kitchen-59/
LOCATION:Hyatt Regency San Antonio Riverwalk\, 123 Losoya\, San Antonio\, TX\, 78205\, United States
END:VEVENT
BEGIN:VEVENT
DTSTART;TZID=America/Chicago:20240611T170000
DTEND;TZID=America/Chicago:20240611T210000
DTSTAMP:20260425T102905
CREATED:20240605T190656Z
LAST-MODIFIED:20240605T190656Z
UID:9867-1718125200-1718139600@michaelalanis.com
SUMMARY:Tommy Bahama - Marlin Bar
DESCRIPTION:Solo acoustic performance \n5 pm – 9 pm
URL:https://michaelalanis.com/event/tommy-bahama-marlin-bar-19/
LOCATION:Tommy Bahama – Marlin Bar\, 15900 La Cantera Pkwy #19110\, San Antonio\, TX\, 78256\, United States
END:VEVENT
BEGIN:VEVENT
DTSTART;TZID=America/Chicago:20240618T170000
DTEND;TZID=America/Chicago:20240618T210000
DTSTAMP:20260425T102905
CREATED:20240605T191014Z
LAST-MODIFIED:20240605T213419Z
UID:9871-1718730000-1718744400@michaelalanis.com
SUMMARY:Tommy Bahama - Marlin Bar
DESCRIPTION:Solo acoustic performance \n5 pm – 9 pm
URL:https://michaelalanis.com/event/tommy-bahama-marlin-bar-20/
LOCATION:Tommy Bahama – Marlin Bar\, 15900 La Cantera Pkwy #19110\, San Antonio\, TX\, 78256\, United States
END:VEVENT
BEGIN:VEVENT
DTSTART;TZID=America/Chicago:20240621T180000
DTEND;TZID=America/Chicago:20240621T210000
DTSTAMP:20260425T102905
CREATED:20240621T121231Z
LAST-MODIFIED:20240621T121231Z
UID:9878-1718992800-1719003600@michaelalanis.com
SUMMARY:Hyatt Regency Riverwalk - Q Bar & Kitchen
DESCRIPTION:Solo Acoustic Performance \n6 PM – 9 PM
URL:https://michaelalanis.com/event/hyatt-regency-riverwalk-q-bar-kitchen-60/
LOCATION:Hyatt Regency San Antonio Riverwalk\, 123 Losoya\, San Antonio\, TX\, 78205\, United States
END:VEVENT
BEGIN:VEVENT
DTSTART;TZID=America/Chicago:20240622T200000
DTEND;TZID=America/Chicago:20240622T230000
DTSTAMP:20260425T102905
CREATED:20240621T121532Z
LAST-MODIFIED:20240623T132038Z
UID:9880-1719086400-1719097200@michaelalanis.com
SUMMARY:Aiden Hotel - "No Vacancy" Speak Easy Bar
DESCRIPTION:Band Performance \n8 PM – 12 AM
URL:https://michaelalanis.com/event/hyatt-hill-country-resort-springhouse-cafe-4/
LOCATION:Aiden Hotel – “No Vacancy” Speak Easy Bar\, 1103 E Comemrce St\, San Antonio\, 78205\, United States
END:VEVENT
BEGIN:VEVENT
DTSTART;TZID=America/Chicago:20240623T110000
DTEND;TZID=America/Chicago:20240623T150000
DTSTAMP:20260425T102905
CREATED:20240621T121834Z
LAST-MODIFIED:20240621T121834Z
UID:9882-1719140400-1719154800@michaelalanis.com
SUMMARY:Tony G's Soul Food
DESCRIPTION:Band “Brunch” Performance \n11 AM – 3 PM
URL:https://michaelalanis.com/event/tony-gs-soul-food-33/
LOCATION:Tony G’s Soul Food\, 915 S Hackberry\, San Antonio\, TX\, 78210\, United States
END:VEVENT
END:VCALENDAR