BEGIN:VCALENDAR
VERSION:2.0
PRODID:-//Michael Alanis - ECPv6.15.20//NONSGML v1.0//EN
CALSCALE:GREGORIAN
METHOD:PUBLISH
X-WR-CALNAME:Michael Alanis
X-ORIGINAL-URL:https://michaelalanis.com
X-WR-CALDESC:Events for Michael Alanis
REFRESH-INTERVAL;VALUE=DURATION:PT1H
X-Robots-Tag:noindex
X-PUBLISHED-TTL:PT1H
BEGIN:VTIMEZONE
TZID:America/Chicago
BEGIN:DAYLIGHT
TZOFFSETFROM:-0600
TZOFFSETTO:-0500
TZNAME:CDT
DTSTART:20240310T080000
END:DAYLIGHT
BEGIN:STANDARD
TZOFFSETFROM:-0500
TZOFFSETTO:-0600
TZNAME:CST
DTSTART:20241103T070000
END:STANDARD
BEGIN:DAYLIGHT
TZOFFSETFROM:-0600
TZOFFSETTO:-0500
TZNAME:CDT
DTSTART:20250309T080000
END:DAYLIGHT
BEGIN:STANDARD
TZOFFSETFROM:-0500
TZOFFSETTO:-0600
TZNAME:CST
DTSTART:20251102T070000
END:STANDARD
BEGIN:DAYLIGHT
TZOFFSETFROM:-0600
TZOFFSETTO:-0500
TZNAME:CDT
DTSTART:20260308T080000
END:DAYLIGHT
BEGIN:STANDARD
TZOFFSETFROM:-0500
TZOFFSETTO:-0600
TZNAME:CST
DTSTART:20261101T070000
END:STANDARD
END:VTIMEZONE
BEGIN:VEVENT
DTSTART;TZID=America/Chicago:20251227T170000
DTEND;TZID=America/Chicago:20251227T210000
DTSTAMP:20260423T180255
CREATED:20251202T122002Z
LAST-MODIFIED:20251202T122002Z
UID:10824-1766854800-1766869200@michaelalanis.com
SUMMARY:Private Party
DESCRIPTION:Private Party \n5 PM – 9 PM
URL:https://michaelalanis.com/event/private-party-21/
LOCATION:TX
END:VEVENT
BEGIN:VEVENT
DTSTART;TZID=America/Chicago:20251226T180000
DTEND;TZID=America/Chicago:20251226T210000
DTSTAMP:20260423T180255
CREATED:20251202T121854Z
LAST-MODIFIED:20251202T121854Z
UID:10822-1766772000-1766782800@michaelalanis.com
SUMMARY:Hyatt Regency Riverwalk - Q Bar & Kitchen
DESCRIPTION:Solo Acoustic Performance \n6 PM – 9 PM
URL:https://michaelalanis.com/event/hyatt-regency-riverwalk-q-bar-kitchen-72/
LOCATION:Hyatt Regency San Antonio Riverwalk\, 123 Losoya\, San Antonio\, TX\, 78205\, United States
END:VEVENT
BEGIN:VEVENT
DTSTART;TZID=America/Chicago:20251220T190000
DTEND;TZID=America/Chicago:20251220T213000
DTSTAMP:20260423T180255
CREATED:20251202T121722Z
LAST-MODIFIED:20251202T121722Z
UID:10820-1766257200-1766266200@michaelalanis.com
SUMMARY:Dominion Country Club
DESCRIPTION:Solo Acoustic Performance \n7 :00 PM – 9:30 PM
URL:https://michaelalanis.com/event/dominion-country-club-3/
LOCATION:TX
END:VEVENT
BEGIN:VEVENT
DTSTART;TZID=America/Chicago:20251219T213000
DTEND;TZID=America/Chicago:20251219T235900
DTSTAMP:20260423T180255
CREATED:20251107T134207Z
LAST-MODIFIED:20251107T134207Z
UID:10796-1766179800-1766188740@michaelalanis.com
SUMMARY:River Sun - Music venue & Bar
DESCRIPTION:Band Performance \n9:30 pm – 12:30 pm
URL:https://michaelalanis.com/event/river-sun-music-venue-bar-4/
LOCATION:River Sun\, 1011 Avenue B\, San Antonio\, TX\, 78215\, United States
END:VEVENT
BEGIN:VEVENT
DTSTART;TZID=America/Chicago:20251219T110000
DTEND;TZID=America/Chicago:20251219T130000
DTSTAMP:20260423T180255
CREATED:20251202T121550Z
LAST-MODIFIED:20251202T121550Z
UID:10818-1766142000-1766149200@michaelalanis.com
SUMMARY:Private Party
DESCRIPTION:Acoustic Duo Performance \n11 AM – 1 PM
URL:https://michaelalanis.com/event/private-party-20/
LOCATION:TX
END:VEVENT
BEGIN:VEVENT
DTSTART;TZID=America/Chicago:20251216T190000
DTEND;TZID=America/Chicago:20251216T220000
DTSTAMP:20260423T180255
CREATED:20251202T121231Z
LAST-MODIFIED:20251202T121231Z
UID:10814-1765911600-1765922400@michaelalanis.com
SUMMARY:Big Bib Too Event center
DESCRIPTION:Band Performance \n7 PM – 10 PM
URL:https://michaelalanis.com/event/big-bib-too-event-center-8/
LOCATION:Big Bib Too Event center\, 106 Lanark Dr\, San Antonio\, TX\, 78218\, United States
END:VEVENT
BEGIN:VEVENT
DTSTART;TZID=America/Chicago:20251213T180000
DTEND;TZID=America/Chicago:20251213T210000
DTSTAMP:20260423T180255
CREATED:20251202T121102Z
LAST-MODIFIED:20251202T121102Z
UID:10812-1765648800-1765659600@michaelalanis.com
SUMMARY:Private Party
DESCRIPTION:Private Party \nBand Performance \n6 PM – 9 PM \n 
URL:https://michaelalanis.com/event/private-party-19/
LOCATION:TX
END:VEVENT
BEGIN:VEVENT
DTSTART;TZID=America/Chicago:20251213T110000
DTEND;TZID=America/Chicago:20251213T130000
DTSTAMP:20260423T180255
CREATED:20251202T115515Z
LAST-MODIFIED:20251202T120953Z
UID:10809-1765623600-1765630800@michaelalanis.com
SUMMARY:Private Party
DESCRIPTION:Private Party \n11 AM – 1 PM
URL:https://michaelalanis.com/event/private-party-18/
LOCATION:TX
END:VEVENT
BEGIN:VEVENT
DTSTART;TZID=America/Chicago:20251212T190000
DTEND;TZID=America/Chicago:20251212T213000
DTSTAMP:20260423T180255
CREATED:20251202T115323Z
LAST-MODIFIED:20251202T115323Z
UID:10807-1765566000-1765575000@michaelalanis.com
SUMMARY:Dominion Country Club
DESCRIPTION:Solo Acoustic Performance \n7 :00 PM – 9:30 PM
URL:https://michaelalanis.com/event/dominion-country-club-2/
LOCATION:TX
END:VEVENT
BEGIN:VEVENT
DTSTART;TZID=America/Chicago:20251211T110000
DTEND;TZID=America/Chicago:20251211T130000
DTSTAMP:20260423T180255
CREATED:20251202T115130Z
LAST-MODIFIED:20251202T115130Z
UID:10805-1765450800-1765458000@michaelalanis.com
SUMMARY:Private Party
DESCRIPTION:Private Party \n11 AM – 1 PM
URL:https://michaelalanis.com/event/private-party-17/
LOCATION:TX
END:VEVENT
BEGIN:VEVENT
DTSTART;TZID=America/Chicago:20251210T183000
DTEND;TZID=America/Chicago:20251210T210000
DTSTAMP:20260423T180255
CREATED:20251202T115018Z
LAST-MODIFIED:20251202T115018Z
UID:10803-1765391400-1765400400@michaelalanis.com
SUMMARY:The Pearl Market
DESCRIPTION:Band (Christmas) Performance \n6:30 pm – 9 :00 PM
URL:https://michaelalanis.com/event/the-pearl-market/
LOCATION:Pearl Farmers Market\, 312 Pearl Pkwy\, San Antonio\, TX\, 7878215238\, United States
END:VEVENT
BEGIN:VEVENT
DTSTART;TZID=America/Chicago:20251207T170000
DTEND;TZID=America/Chicago:20251207T190000
DTSTAMP:20260423T180255
CREATED:20251107T134101Z
LAST-MODIFIED:20251107T134101Z
UID:10794-1765126800-1765134000@michaelalanis.com
SUMMARY:Private Wedding
DESCRIPTION:Private Wedding \n5 pm – 7 pm
URL:https://michaelalanis.com/event/private-wedding-31/
LOCATION:TX
END:VEVENT
BEGIN:VEVENT
DTSTART;TZID=America/Chicago:20251206T140000
DTEND;TZID=America/Chicago:20251206T180000
DTSTAMP:20260423T180255
CREATED:20251107T134005Z
LAST-MODIFIED:20251107T134005Z
UID:10792-1765029600-1765044000@michaelalanis.com
SUMMARY:Private Wedding
DESCRIPTION:Private Wedding
URL:https://michaelalanis.com/event/private-wedding-30/
LOCATION:TX
END:VEVENT
BEGIN:VEVENT
DTSTART;TZID=America/Chicago:20251205T163000
DTEND;TZID=America/Chicago:20251205T210000
DTSTAMP:20260423T180255
CREATED:20251202T114748Z
LAST-MODIFIED:20251202T114748Z
UID:10801-1764952200-1764968400@michaelalanis.com
SUMMARY:Private Wedding
DESCRIPTION:Private Wedding \n4:30 PM – 9 PM
URL:https://michaelalanis.com/event/private-wedding-32/
LOCATION:TX
END:VEVENT
BEGIN:VEVENT
DTSTART;TZID=America/Chicago:20251204T170000
DTEND;TZID=America/Chicago:20251204T200000
DTSTAMP:20260423T180255
CREATED:20251107T133729Z
LAST-MODIFIED:20251107T133729Z
UID:10790-1764867600-1764878400@michaelalanis.com
SUMMARY:Estancia del Norte - Paseo Bar
DESCRIPTION:Solo Acoustic Performance \n5 pm – 8 pm
URL:https://michaelalanis.com/event/estancia-del-norte-paseo-bar-86/
LOCATION:Estancia del Norte – Paseo Bar\, 37 NE Loop 410 at\, McCullough Ave\, San Antonio\, TX\, 78216\, United States
END:VEVENT
BEGIN:VEVENT
DTSTART;TZID=America/Chicago:20251203T190000
DTEND;TZID=America/Chicago:20251203T230000
DTSTAMP:20260423T180255
CREATED:20251107T133621Z
LAST-MODIFIED:20251107T133621Z
UID:10788-1764788400-1764802800@michaelalanis.com
SUMMARY:Private Event - Henry B Gonzales Center
DESCRIPTION:Band Performance \n7 pm – 11 pm
URL:https://michaelalanis.com/event/private-event-henry-b-gonzales-center/
LOCATION:TX
END:VEVENT
BEGIN:VEVENT
DTSTART;TZID=America/Chicago:20251202T080000
DTEND;TZID=America/Chicago:20251202T170000
DTSTAMP:20260423T180255
CREATED:20251202T122319Z
LAST-MODIFIED:20251202T122319Z
UID:10830-1764662400-1764694800@michaelalanis.com
SUMMARY:Hyatt Hill Country - New Year's Eve
DESCRIPTION:Band Performance \n7 PM – 9 PM
URL:https://michaelalanis.com/event/hyatt-hill-country-new-years-eve/
LOCATION:Hyatt Hill Country Resort\, 9800 Hyatt Resort Dr.\, San Antonio\, 78251\, United States
END:VEVENT
BEGIN:VEVENT
DTSTART;TZID=America/Chicago:20251202T080000
DTEND;TZID=America/Chicago:20251202T170000
DTSTAMP:20260423T180255
CREATED:20251202T121449Z
LAST-MODIFIED:20251202T121449Z
UID:10816-1764662400-1764694800@michaelalanis.com
SUMMARY:Dominion Lexus Showroom
DESCRIPTION:Solo Acoustic Performance \n4:30 PM – 6:30 PM
URL:https://michaelalanis.com/event/dominion-lexus-showroom/
LOCATION:TX
END:VEVENT
BEGIN:VEVENT
DTSTART;TZID=America/Chicago:20251130T150000
DTEND;TZID=America/Chicago:20251130T190000
DTSTAMP:20260423T180255
CREATED:20251107T133501Z
LAST-MODIFIED:20251107T133501Z
UID:10786-1764514800-1764529200@michaelalanis.com
SUMMARY:Private Event
DESCRIPTION:Solo Acoustic Performance \n3 pm – 7 pm
URL:https://michaelalanis.com/event/private-event-98/
LOCATION:TX
END:VEVENT
BEGIN:VEVENT
DTSTART;TZID=America/Chicago:20251129T213000
DTEND;TZID=America/Chicago:20251129T235900
DTSTAMP:20260423T180255
CREATED:20251107T133240Z
LAST-MODIFIED:20251107T133240Z
UID:10784-1764451800-1764460740@michaelalanis.com
SUMMARY:River Sun - Music Venue & Bar
DESCRIPTION:Band Performance \n9:30 pm – 12:30 AM
URL:https://michaelalanis.com/event/river-sun-music-venue-bar-3/
LOCATION:River Sun\, 1011 Avenue B\, San Antonio\, TX\, 78215\, United States
END:VEVENT
BEGIN:VEVENT
DTSTART;TZID=America/Chicago:20251127T140000
DTEND;TZID=America/Chicago:20251127T183000
DTSTAMP:20260423T180255
CREATED:20251107T131126Z
LAST-MODIFIED:20251107T131126Z
UID:10780-1764252000-1764268200@michaelalanis.com
SUMMARY:Hyatt Lost Pines - LBJ Pavilion
DESCRIPTION:Thanksgiving Event \n2 pm – 6:30 pm
URL:https://michaelalanis.com/event/hyatt-lost-pines-lbj-pavilion/
LOCATION:Hyatt Lost Pines Resort – LBJ Pavilion\, 575 Hyatt Lost Pines Rd\, Lost Pines\, TX\, 78612\, United States
END:VEVENT
BEGIN:VEVENT
DTSTART;TZID=America/Chicago:20251124T180000
DTEND;TZID=America/Chicago:20251124T210000
DTSTAMP:20260423T180255
CREATED:20251107T130648Z
LAST-MODIFIED:20251107T130648Z
UID:10778-1764007200-1764018000@michaelalanis.com
SUMMARY:Private Event
DESCRIPTION:Solo Acoustic \n6 pm – 9 pm
URL:https://michaelalanis.com/event/private-event-97/
LOCATION:TX
END:VEVENT
BEGIN:VEVENT
DTSTART;TZID=America/Chicago:20251123T110000
DTEND;TZID=America/Chicago:20251123T140000
DTSTAMP:20260423T180255
CREATED:20251107T130558Z
LAST-MODIFIED:20251107T130558Z
UID:10776-1763895600-1763906400@michaelalanis.com
SUMMARY:Food Bank Event - La Cantera
DESCRIPTION:Solo Acoustic Performance \n11 am – 2 pm
URL:https://michaelalanis.com/event/food-bank-event-la-cantera/
LOCATION:TX
END:VEVENT
BEGIN:VEVENT
DTSTART;TZID=America/Chicago:20251121T170000
DTEND;TZID=America/Chicago:20251121T200000
DTSTAMP:20260423T180255
CREATED:20251107T130351Z
LAST-MODIFIED:20251107T130351Z
UID:10774-1763744400-1763755200@michaelalanis.com
SUMMARY:Estancia del Norte - Paseo Bar
DESCRIPTION:Solo Acoustic Performance \n5 pm – 8 pm
URL:https://michaelalanis.com/event/estancia-del-norte-paseo-bar-85/
LOCATION:Estancia del Norte – Paseo Bar\, 37 NE Loop 410 at\, McCullough Ave\, San Antonio\, TX\, 78216\, United States
END:VEVENT
BEGIN:VEVENT
DTSTART;TZID=America/Chicago:20251120T170000
DTEND;TZID=America/Chicago:20251120T200000
DTSTAMP:20260423T180255
CREATED:20251107T130220Z
LAST-MODIFIED:20251107T130220Z
UID:10772-1763658000-1763668800@michaelalanis.com
SUMMARY:Estancia del Norte - Paseo Bar
DESCRIPTION:Solo Acoustic Performance \n5 pm – 8 pm
URL:https://michaelalanis.com/event/estancia-del-norte-paseo-bar-84/
LOCATION:Estancia del Norte – Paseo Bar\, 37 NE Loop 410 at\, McCullough Ave\, San Antonio\, TX\, 78216\, United States
END:VEVENT
BEGIN:VEVENT
DTSTART;TZID=America/Chicago:20251118T120000
DTEND;TZID=America/Chicago:20251118T130000
DTSTAMP:20260423T180255
CREATED:20251107T130058Z
LAST-MODIFIED:20251107T130058Z
UID:10770-1763467200-1763470800@michaelalanis.com
SUMMARY:Private Event
DESCRIPTION:Solo Acoustic \n12 pm – 1 pm
URL:https://michaelalanis.com/event/private-event-96/
LOCATION:TX
END:VEVENT
BEGIN:VEVENT
DTSTART;TZID=America/Chicago:20251115T110000
DTEND;TZID=America/Chicago:20251115T140000
DTSTAMP:20260423T180255
CREATED:20251107T130002Z
LAST-MODIFIED:20251107T130002Z
UID:10768-1763204400-1763215200@michaelalanis.com
SUMMARY:Private Event
DESCRIPTION:Solo Acoustic \n11 am – 2 pm
URL:https://michaelalanis.com/event/private-event-95/
LOCATION:TX
END:VEVENT
BEGIN:VEVENT
DTSTART;TZID=America/Chicago:20251114T190000
DTEND;TZID=America/Chicago:20251114T230000
DTSTAMP:20260423T180255
CREATED:20251107T125100Z
LAST-MODIFIED:20251107T125100Z
UID:10766-1763146800-1763161200@michaelalanis.com
SUMMARY:Aiden Hotel - "No Vacancy" Speakeasy Bar
DESCRIPTION:Band Performance \n7 PM – 11 PM
URL:https://michaelalanis.com/event/aiden-hotel-no-vacancy-speakeasy-bar-2/
LOCATION:Aiden Hotel – “No Vacancy” Speak Easy Bar\, 1103 E Comemrce St\, San Antonio\, 78205\, United States
END:VEVENT
BEGIN:VEVENT
DTSTART;TZID=America/Chicago:20251113T170000
DTEND;TZID=America/Chicago:20251113T230000
DTSTAMP:20260423T180255
CREATED:20251107T124927Z
LAST-MODIFIED:20251107T124927Z
UID:10764-1763053200-1763074800@michaelalanis.com
SUMMARY:Estancia del Norte - Paseo Bar
DESCRIPTION:Solo Acoustic Performance \n5 PM – 8 PM
URL:https://michaelalanis.com/event/estancia-del-norte-paseo-bar-83/
LOCATION:Estancia del Norte – Paseo Bar\, 37 NE Loop 410 at\, McCullough Ave\, San Antonio\, TX\, 78216\, United States
END:VEVENT
BEGIN:VEVENT
DTSTART;TZID=America/Chicago:20251111T190000
DTEND;TZID=America/Chicago:20251111T230000
DTSTAMP:20260423T180255
CREATED:20251107T124727Z
LAST-MODIFIED:20251107T124727Z
UID:10762-1762887600-1762902000@michaelalanis.com
SUMMARY:Big Bib Too Event Center
DESCRIPTION:Band Performance \n7 PM – 11 PM
URL:https://michaelalanis.com/event/big-bib-too-event-center-7/
LOCATION:Big Bib Too Event center\, 106 Lanark Dr\, San Antonio\, TX\, 78218\, United States
END:VEVENT
END:VCALENDAR