BEGIN:VCALENDAR
VERSION:2.0
PRODID:-//Michael Alanis - ECPv6.15.20//NONSGML v1.0//EN
CALSCALE:GREGORIAN
METHOD:PUBLISH
X-ORIGINAL-URL:https://michaelalanis.com
X-WR-CALDESC:Events for Michael Alanis
REFRESH-INTERVAL;VALUE=DURATION:PT1H
X-Robots-Tag:noindex
X-PUBLISHED-TTL:PT1H
BEGIN:VTIMEZONE
TZID:America/Chicago
BEGIN:DAYLIGHT
TZOFFSETFROM:-0600
TZOFFSETTO:-0500
TZNAME:CDT
DTSTART:20240310T080000
END:DAYLIGHT
BEGIN:STANDARD
TZOFFSETFROM:-0500
TZOFFSETTO:-0600
TZNAME:CST
DTSTART:20241103T070000
END:STANDARD
BEGIN:DAYLIGHT
TZOFFSETFROM:-0600
TZOFFSETTO:-0500
TZNAME:CDT
DTSTART:20250309T080000
END:DAYLIGHT
BEGIN:STANDARD
TZOFFSETFROM:-0500
TZOFFSETTO:-0600
TZNAME:CST
DTSTART:20251102T070000
END:STANDARD
BEGIN:DAYLIGHT
TZOFFSETFROM:-0600
TZOFFSETTO:-0500
TZNAME:CDT
DTSTART:20260308T080000
END:DAYLIGHT
BEGIN:STANDARD
TZOFFSETFROM:-0500
TZOFFSETTO:-0600
TZNAME:CST
DTSTART:20261101T070000
END:STANDARD
END:VTIMEZONE
BEGIN:VEVENT
DTSTART;TZID=America/Chicago:20250603T180000
DTEND;TZID=America/Chicago:20250603T210000
DTSTAMP:20260424T073531
CREATED:20250527T114245Z
LAST-MODIFIED:20250527T114245Z
UID:10537-1748973600-1748984400@michaelalanis.com
SUMMARY:Little Rhein Prost Haus - Riverwalk
DESCRIPTION:Acoustic Duo \nfeat. Anthony Thomas Martinez \n6 PM – 9 PM \nwww.littlerheinprosthaus.com
URL:https://michaelalanis.com/event/little-rhein-prost-haus-riverwalk/
END:VEVENT
BEGIN:VEVENT
DTSTART;TZID=America/Chicago:20250604T180000
DTEND;TZID=America/Chicago:20250604T210000
DTSTAMP:20260424T073531
CREATED:20250504T104454Z
LAST-MODIFIED:20250504T104454Z
UID:10508-1749060000-1749070800@michaelalanis.com
SUMMARY:Tower of the America's - Tower Grove Restaurant & Bar
DESCRIPTION:Solo Acoustic Performance \n6 PM – 9 PM
URL:https://michaelalanis.com/event/tower-of-the-americas-tower-grove-restaurant-bar-5/
LOCATION:Tower of the America’s – Tower Grove Restaurant & Bar\, 739 E Cesar E. Chavez Blvd\, San Antonio\, TX\, 78205\, United States
END:VEVENT
BEGIN:VEVENT
DTSTART;TZID=America/Chicago:20250605T180000
DTEND;TZID=America/Chicago:20250605T210000
DTSTAMP:20260424T073531
CREATED:20250507T124823Z
LAST-MODIFIED:20250507T124823Z
UID:10516-1749146400-1749157200@michaelalanis.com
SUMMARY:Hotel Emma - Sternewirth Tavern
DESCRIPTION:Duo Acoustic Performance \n6 pm – 9 pm
URL:https://michaelalanis.com/event/hotel-emma-sternewirth-tavern-29/
LOCATION:Hotel Emma – Sternewirth Tavern\, 136 E Grayson St\, San Antonio\, TX\, 78238\, United States
END:VEVENT
BEGIN:VEVENT
DTSTART;TZID=America/Chicago:20250606T190000
DTEND;TZID=America/Chicago:20250606T220000
DTSTAMP:20260424T073531
CREATED:20250528T201659Z
LAST-MODIFIED:20250528T201659Z
UID:10559-1749236400-1749247200@michaelalanis.com
SUMMARY:Party in The Park  - The Rim
DESCRIPTION:Band Performance \n7 PM – 10 PM \nCommons Park at The RIM Shopping Center \nhttps://therimsa.com/stores/commons-park
URL:https://michaelalanis.com/event/party-in-the-park-the-rim/
END:VEVENT
BEGIN:VEVENT
DTSTART;TZID=America/Chicago:20250607T200000
DTEND;TZID=America/Chicago:20250607T230000
DTSTAMP:20260424T073531
CREATED:20250507T125049Z
LAST-MODIFIED:20250507T125049Z
UID:10519-1749326400-1749337200@michaelalanis.com
SUMMARY:Aiden Hotel - "No Vacancy" Speakeasy Bar
DESCRIPTION:Band Performance \n8 PM – 11 PM
URL:https://michaelalanis.com/event/aiden-hotel-no-vacancy-speakeasy-bar/
LOCATION:Aiden Hotel – “No Vacancy” Speak Easy Bar\, 1103 E Comemrce St\, San Antonio\, 78205\, United States
END:VEVENT
BEGIN:VEVENT
DTSTART;TZID=America/Chicago:20250608T060000
DTEND;TZID=America/Chicago:20250608T210000
DTSTAMP:20260424T073531
CREATED:20250527T114622Z
LAST-MODIFIED:20250527T114622Z
UID:10539-1749362400-1749416400@michaelalanis.com
SUMMARY:Emigrant Boutique Hotel - Patio
DESCRIPTION:Solo Acoustic \n6 PM – 9 PM
URL:https://michaelalanis.com/event/emigrant-boutique-hotel-patio/
LOCATION:Emigrant Boutique Hotel – Maggie’s Speakeasy Bar\, 106 S Washington St\, Fredericksburg\, TX\, 78624\, United States
END:VEVENT
BEGIN:VEVENT
DTSTART;TZID=America/Chicago:20250611T180000
DTEND;TZID=America/Chicago:20250611T210000
DTSTAMP:20260424T073531
CREATED:20250504T104552Z
LAST-MODIFIED:20250507T124852Z
UID:10510-1749664800-1749675600@michaelalanis.com
SUMMARY:Tower of the America's - Tower Grove Restaurant & Bar
DESCRIPTION:Solo Acoustic Performance \n6 PM – 9 PM
URL:https://michaelalanis.com/event/tower-of-the-americas-tower-grove-restaurant-bar-6/
LOCATION:Tower of the America’s – Tower Grove Restaurant & Bar\, 739 E Cesar E. Chavez Blvd\, San Antonio\, TX\, 78205\, United States
END:VEVENT
BEGIN:VEVENT
DTSTART;TZID=America/Chicago:20250612T180000
DTEND;TZID=America/Chicago:20250612T210000
DTSTAMP:20260424T073531
CREATED:20250507T125204Z
LAST-MODIFIED:20250507T125204Z
UID:10521-1749751200-1749762000@michaelalanis.com
SUMMARY:Tower of the America's - Tower Grove Restaurant & Bar
DESCRIPTION:Solo Acoustic Performance \n6 PM – 9 PM
URL:https://michaelalanis.com/event/tower-of-the-americas-tower-grove-restaurant-bar-8/
LOCATION:Tower of the America’s – Tower Grove Restaurant & Bar\, 739 E Cesar E. Chavez Blvd\, San Antonio\, TX\, 78205\, United States
END:VEVENT
BEGIN:VEVENT
DTSTART;TZID=America/Chicago:20250613T170000
DTEND;TZID=America/Chicago:20250613T200000
DTSTAMP:20260424T073531
CREATED:20250507T125341Z
LAST-MODIFIED:20250507T125341Z
UID:10523-1749834000-1749844800@michaelalanis.com
SUMMARY:Estancia del Norte - Paseo Bar
DESCRIPTION:Solo Acoustic Performance \n5 PM – 8 PM
URL:https://michaelalanis.com/event/estancia-del-norte-paseo-bar-66/
LOCATION:Estancia del Norte – Paseo Bar\, 37 NE Loop 410 at\, McCullough Ave\, San Antonio\, TX\, 78216\, United States
END:VEVENT
BEGIN:VEVENT
DTSTART;TZID=America/Chicago:20250613T170000
DTEND;TZID=America/Chicago:20250613T200000
DTSTAMP:20260424T073531
CREATED:20250527T114837Z
LAST-MODIFIED:20250527T114837Z
UID:10541-1749834000-1749844800@michaelalanis.com
SUMMARY:Estancia del Norte - Paseo Bar
DESCRIPTION:Solo Acoustic Performance \n5 PM – 8 PM
URL:https://michaelalanis.com/event/estancia-del-norte-paseo-bar-67/
LOCATION:Estancia del Norte – Paseo Bar\, 37 NE Loop 410 at\, McCullough Ave\, San Antonio\, TX\, 78216\, United States
END:VEVENT
BEGIN:VEVENT
DTSTART;TZID=America/Chicago:20250614T200000
DTEND;TZID=America/Chicago:20250614T230000
DTSTAMP:20260424T073531
CREATED:20250507T125535Z
LAST-MODIFIED:20250507T125535Z
UID:10525-1749931200-1749942000@michaelalanis.com
SUMMARY:Emigrant Boutique Hotel - Maggie's Speakeasy Bar
DESCRIPTION:Band Performance \n8 PM – 11 PM
URL:https://michaelalanis.com/event/emigrant-boutique-hotel-maggies-speakeasy-bar-2/
LOCATION:Emigrant Boutique Hotel – Maggie’s Speakeasy Bar\, 106 S Washington St\, Fredericksburg\, TX\, 78624\, United States
END:VEVENT
BEGIN:VEVENT
DTSTART;TZID=America/Chicago:20250617T170000
DTEND;TZID=America/Chicago:20250617T210000
DTSTAMP:20260424T073531
CREATED:20250507T125658Z
LAST-MODIFIED:20250507T125658Z
UID:10527-1750179600-1750194000@michaelalanis.com
SUMMARY:Tommy Bahama - Marlin Bar
DESCRIPTION:Solo Acoustic Performance \n5 PM – 9 PM
URL:https://michaelalanis.com/event/tommy-bahama-marlin-bar-50/
LOCATION:Tommy Bahama – Marlin Bar\, 15900 La Cantera Pkwy #19110\, San Antonio\, TX\, 78256\, United States
END:VEVENT
BEGIN:VEVENT
DTSTART;TZID=America/Chicago:20250618T190000
DTEND;TZID=America/Chicago:20250618T220000
DTSTAMP:20260424T073531
CREATED:20250507T125816Z
LAST-MODIFIED:20250507T125816Z
UID:10529-1750273200-1750284000@michaelalanis.com
SUMMARY:Big Bib Too Event Center
DESCRIPTION:Band Performance \n7 PM – 10 PM
URL:https://michaelalanis.com/event/big-bib-too-event-center-4/
LOCATION:The Big Bib Too Event Center\, 106 Lanark Dr\, San Antonio\, TX\, 78218\, United States
END:VEVENT
BEGIN:VEVENT
DTSTART;TZID=America/Chicago:20250620T180000
DTEND;TZID=America/Chicago:20250620T210000
DTSTAMP:20260424T073531
CREATED:20250527T115107Z
LAST-MODIFIED:20250527T115107Z
UID:10545-1750442400-1750453200@michaelalanis.com
SUMMARY:Hyatt Regency Riverwalk - Q Bar & Kitchen
DESCRIPTION:Solo Acoustic Performance \n6 PM – 9 PM
URL:https://michaelalanis.com/event/hyatt-regency-riverwalk-q-bar-kitchen-68/
LOCATION:Hyatt Regency San Antonio Riverwalk\, 123 Losoya\, San Antonio\, TX\, 78205\, United States
END:VEVENT
BEGIN:VEVENT
DTSTART;TZID=America/Chicago:20250621T170000
DTEND;TZID=America/Chicago:20250621T230000
DTSTAMP:20260424T073531
CREATED:20250527T115212Z
LAST-MODIFIED:20250527T115212Z
UID:10547-1750525200-1750546800@michaelalanis.com
SUMMARY:Private Event
DESCRIPTION:Private Event
URL:https://michaelalanis.com/event/private-event-89/
END:VEVENT
BEGIN:VEVENT
DTSTART;TZID=America/Chicago:20250622T180000
DTEND;TZID=America/Chicago:20250622T210000
DTSTAMP:20260424T073531
CREATED:20250527T115340Z
LAST-MODIFIED:20250527T115340Z
UID:10549-1750615200-1750626000@michaelalanis.com
SUMMARY:Emigrant Boutique Hotel - Patio
DESCRIPTION:Solo Acoustic Performance \n6 PM – 9 PM
URL:https://michaelalanis.com/event/emigrant-boutique-hotel-patio-2/
LOCATION:Emigrant Boutique Hotel – Maggie’s Speakeasy Bar\, 106 S Washington St\, Fredericksburg\, TX\, 78624\, United States
END:VEVENT
BEGIN:VEVENT
DTSTART;TZID=America/Chicago:20250623T190000
DTEND;TZID=America/Chicago:20250623T220000
DTSTAMP:20260424T073531
CREATED:20250527T115520Z
LAST-MODIFIED:20250527T115520Z
UID:10551-1750705200-1750716000@michaelalanis.com
SUMMARY:Hotel Emma - Sternewirth Tavern
DESCRIPTION:Duo Acoustic Performance \n7 PM – 10 PM
URL:https://michaelalanis.com/event/hotel-emma-sternewirth-tavern-30/
LOCATION:Hotel Emma – Sternewirth Tavern\, 136 E Grayson St\, San Antonio\, TX\, 78238\, United States
END:VEVENT
BEGIN:VEVENT
DTSTART;TZID=America/Chicago:20250625T190000
DTEND;TZID=America/Chicago:20250625T230000
DTSTAMP:20260424T073531
CREATED:20250527T115637Z
LAST-MODIFIED:20250527T115637Z
UID:10553-1750878000-1750892400@michaelalanis.com
SUMMARY:Big Bib Too Event Center
DESCRIPTION:Band Performance \n7 PM – 11 PM
URL:https://michaelalanis.com/event/big-bib-too-event-center-5/
LOCATION:Big Bib Too Event center\, 106 Lanark Dr\, San Antonio\, TX\, 78218\, United States
END:VEVENT
BEGIN:VEVENT
DTSTART;TZID=America/Chicago:20250626T170000
DTEND;TZID=America/Chicago:20250626T200000
DTSTAMP:20260424T073531
CREATED:20250527T115817Z
LAST-MODIFIED:20250527T115817Z
UID:10555-1750957200-1750968000@michaelalanis.com
SUMMARY:Estancia del Norte - Paseo Bar
DESCRIPTION:Solo Acoustic Performance \n5 PM – 8 PM
URL:https://michaelalanis.com/event/estancia-del-norte-paseo-bar-68/
LOCATION:Estancia del Norte – Paseo Bar\, 37 NE Loop 410 at\, McCullough Ave\, San Antonio\, TX\, 78216\, United States
END:VEVENT
BEGIN:VEVENT
DTSTART;TZID=America/Chicago:20250627T160000
DTEND;TZID=America/Chicago:20250627T190000
DTSTAMP:20260424T073531
CREATED:20250527T120004Z
LAST-MODIFIED:20250527T120004Z
UID:10557-1751040000-1751050800@michaelalanis.com
SUMMARY:Hotel Emma - Sternewirth Tavern
DESCRIPTION:Solo Acoustic Performance \n4 PM – 7 PM
URL:https://michaelalanis.com/event/hotel-emma-sternewirth-tavern-31/
LOCATION:Hotel Emma – Sternewirth Tavern\, 136 E Grayson St\, San Antonio\, TX\, 78238\, United States
END:VEVENT
BEGIN:VEVENT
DTSTART;TZID=America/Chicago:20250628T213000
DTEND;TZID=America/Chicago:20250628T213000
DTSTAMP:20260424T073531
CREATED:20250507T125954Z
LAST-MODIFIED:20250507T125954Z
UID:10531-1751146200-1751146200@michaelalanis.com
SUMMARY:River Sun - Music Venue & Bar
DESCRIPTION:Band Performance \n9:30 pm – 12:30 am
URL:https://michaelalanis.com/event/river-sun-music-venue-bar-2/
LOCATION:River Sun\, 1011 Avenue B\, San Antonio\, TX\, 78215\, United States
END:VEVENT
BEGIN:VEVENT
DTSTART;TZID=America/Chicago:20250701T160000
DTEND;TZID=America/Chicago:20250701T200000
DTSTAMP:20260424T073531
CREATED:20250701T121046Z
LAST-MODIFIED:20250701T121046Z
UID:10579-1751385600-1751400000@michaelalanis.com
SUMMARY:Tommy Bahama - Marlin Bar
DESCRIPTION:Solo Acoustic Performance \n4 PM – 8 PM
URL:https://michaelalanis.com/event/tommy-bahama-marlin-bar-51/
LOCATION:Tommy Bahama – Marlin Bar\, 15900 La Cantera Pkwy #19110\, San Antonio\, TX\, 78256\, United States
END:VEVENT
BEGIN:VEVENT
DTSTART;TZID=America/Chicago:20250703T173000
DTEND;TZID=America/Chicago:20250703T203000
DTSTAMP:20260424T073531
CREATED:20250701T113947Z
LAST-MODIFIED:20250701T113947Z
UID:10568-1751563800-1751574600@michaelalanis.com
SUMMARY:JW Marriott - Cibolo Moon Backyard
DESCRIPTION:Solo Acoustic Performance \n5:30 pm – 8:30 PM
URL:https://michaelalanis.com/event/jw-marriott-cibolo-moon-backyard/
LOCATION:JW Marriott Resort – Cibolo Moon\, 23808 Resort Parkway\, San Antonio\, TX\, 78261\, United States
END:VEVENT
BEGIN:VEVENT
DTSTART;TZID=America/Chicago:20250704T180000
DTEND;TZID=America/Chicago:20250704T190000
DTSTAMP:20260424T073531
CREATED:20250701T114833Z
LAST-MODIFIED:20250701T115247Z
UID:10571-1751652000-1751655600@michaelalanis.com
SUMMARY:Leon Valley 4th of July Celebration - Raymond Rimkus Park
DESCRIPTION:Full Band Performance \n6 PM – 7 PM \nPark Celebration Details:  https://www.leonvalleytexas.gov/relations/page/4th-july-festival-0
URL:https://michaelalanis.com/event/leon-valley-4th-of-july-celebration-raymond-rimkus-park/
END:VEVENT
BEGIN:VEVENT
DTSTART;TZID=America/Chicago:20250705T173000
DTEND;TZID=America/Chicago:20250705T203000
DTSTAMP:20260424T073531
CREATED:20250701T120642Z
LAST-MODIFIED:20250701T120642Z
UID:10577-1751736600-1751747400@michaelalanis.com
SUMMARY:Hyatt Hill Country Resort - Lukenbach Pavilion
DESCRIPTION:Band Performance \n5:30 pm – 8:30 pm
URL:https://michaelalanis.com/event/hyatt-hill-country-resort-lukenbach-pavilion/
LOCATION:Hyatt Hill Country Resort – Luckenbach Pavillion\, 9800 Hyatt Resort Dr.\, San Antonio\, TX\, 78251\, United States
END:VEVENT
BEGIN:VEVENT
DTSTART;TZID=America/Chicago:20250710T170000
DTEND;TZID=America/Chicago:20250710T200000
DTSTAMP:20260424T073531
CREATED:20250701T121237Z
LAST-MODIFIED:20250701T121237Z
UID:10581-1752166800-1752177600@michaelalanis.com
SUMMARY:Estancia del Norte - Paseo Bar
DESCRIPTION:Solo Acoustic Performance \n5 PM – 8 PM
URL:https://michaelalanis.com/event/estancia-del-norte-paseo-bar-69/
LOCATION:Estancia del Norte – Paseo Bar\, 37 NE Loop 410 at\, McCullough Ave\, San Antonio\, TX\, 78216\, United States
END:VEVENT
BEGIN:VEVENT
DTSTART;TZID=America/Chicago:20250711T180000
DTEND;TZID=America/Chicago:20250711T210000
DTSTAMP:20260424T073531
CREATED:20250701T122005Z
LAST-MODIFIED:20250701T122030Z
UID:10586-1752256800-1752267600@michaelalanis.com
SUMMARY:Elevate on Fiorella - Castroville\, TX
DESCRIPTION:Solo Acoustic Performance \n6 pm – 9 pm
URL:https://michaelalanis.com/event/elevate-on-fiorella-castroville-tx/
LOCATION:Elevate on Fiorella\, 1201 Fiorella St\, Suite C\, Castroville\, TX\, 78009\, United States
END:VEVENT
BEGIN:VEVENT
DTSTART;TZID=America/Chicago:20250712T200000
DTEND;TZID=America/Chicago:20250712T230000
DTSTAMP:20260424T073531
CREATED:20250701T122251Z
LAST-MODIFIED:20250701T122251Z
UID:10590-1752350400-1752361200@michaelalanis.com
SUMMARY:Emigrant Boutique Hotel - Maggie's Speakeasy Bar
DESCRIPTION:Band Performance \n8 pm – 11 pm
URL:https://michaelalanis.com/event/emigrant-boutique-hotel-maggies-speakeasy-bar-3/
LOCATION:Emigrant Boutique Hotel – Maggie’s Speakeasy Bar\, 106 S Washington St\, Fredericksburg\, TX\, 78624\, United States
END:VEVENT
BEGIN:VEVENT
DTSTART;TZID=America/Chicago:20250716T190000
DTEND;TZID=America/Chicago:20250716T220000
DTSTAMP:20260424T073531
CREATED:20250701T122447Z
LAST-MODIFIED:20250701T122447Z
UID:10592-1752692400-1752703200@michaelalanis.com
SUMMARY:Big Bib Too  - Event Center
DESCRIPTION:Band Performance \n7 pm – 10 pm
URL:https://michaelalanis.com/event/big-bib-too-event-center-6/
LOCATION:Big Bib Too Event center\, 106 Lanark Dr\, San Antonio\, TX\, 78218\, United States
END:VEVENT
BEGIN:VEVENT
DTSTART;TZID=America/Chicago:20250717T170000
DTEND;TZID=America/Chicago:20250717T200000
DTSTAMP:20260424T073531
CREATED:20250701T121350Z
LAST-MODIFIED:20250701T121545Z
UID:10583-1752771600-1752782400@michaelalanis.com
SUMMARY:Estancia del Norte - Paseo Bar
DESCRIPTION:Solo Acoustic Performance \n5 pm – 8 pm
URL:https://michaelalanis.com/event/estancia-del-norte-paseo-bar-70/
LOCATION:Estancia del Norte – Paseo Bar\, 37 NE Loop 410 at\, McCullough Ave\, San Antonio\, TX\, 78216\, United States
END:VEVENT
END:VCALENDAR