BEGIN:VCALENDAR
VERSION:2.0
PRODID:-//Michael Alanis - ECPv6.15.20//NONSGML v1.0//EN
CALSCALE:GREGORIAN
METHOD:PUBLISH
X-ORIGINAL-URL:https://michaelalanis.com
X-WR-CALDESC:Events for Michael Alanis
REFRESH-INTERVAL;VALUE=DURATION:PT1H
X-Robots-Tag:noindex
X-PUBLISHED-TTL:PT1H
BEGIN:VTIMEZONE
TZID:America/Chicago
BEGIN:DAYLIGHT
TZOFFSETFROM:-0600
TZOFFSETTO:-0500
TZNAME:CDT
DTSTART:20240310T080000
END:DAYLIGHT
BEGIN:STANDARD
TZOFFSETFROM:-0500
TZOFFSETTO:-0600
TZNAME:CST
DTSTART:20241103T070000
END:STANDARD
BEGIN:DAYLIGHT
TZOFFSETFROM:-0600
TZOFFSETTO:-0500
TZNAME:CDT
DTSTART:20250309T080000
END:DAYLIGHT
BEGIN:STANDARD
TZOFFSETFROM:-0500
TZOFFSETTO:-0600
TZNAME:CST
DTSTART:20251102T070000
END:STANDARD
BEGIN:DAYLIGHT
TZOFFSETFROM:-0600
TZOFFSETTO:-0500
TZNAME:CDT
DTSTART:20260308T080000
END:DAYLIGHT
BEGIN:STANDARD
TZOFFSETFROM:-0500
TZOFFSETTO:-0600
TZNAME:CST
DTSTART:20261101T070000
END:STANDARD
END:VTIMEZONE
BEGIN:VEVENT
DTSTART;TZID=America/Chicago:20250221T180000
DTEND;TZID=America/Chicago:20250221T210000
DTSTAMP:20260424T102623
CREATED:20250212T114351Z
LAST-MODIFIED:20250212T114351Z
UID:10339-1740160800-1740171600@michaelalanis.com
SUMMARY:Hyatt Regency Riverwalk - Q Bar & Kitchen
DESCRIPTION:Solo Acoustic Performance \n6 PM – 9 PM
URL:https://michaelalanis.com/event/hyatt-regency-riverwalk-q-bar-kitchen-67/
LOCATION:Hyatt Regency San Antonio Riverwalk\, 123 Losoya\, San Antonio\, TX\, 78205\, United States
END:VEVENT
BEGIN:VEVENT
DTSTART;TZID=America/Chicago:20250222T200000
DTEND;TZID=America/Chicago:20250222T230000
DTSTAMP:20260424T102623
CREATED:20241217T122338Z
LAST-MODIFIED:20250116T205320Z
UID:10228-1740254400-1740265200@michaelalanis.com
SUMMARY:Aiden Hotel - "No Vacancy" Speak Easy Bar
DESCRIPTION:Band Performance \n8 PM – 11 PM
URL:https://michaelalanis.com/event/aiden-hotel-no-vacancy-speak-easy-bar-9/
END:VEVENT
BEGIN:VEVENT
DTSTART;TZID=America/Chicago:20250223T123000
DTEND;TZID=America/Chicago:20250223T153000
DTSTAMP:20260424T102623
CREATED:20250113T132543Z
LAST-MODIFIED:20250113T132543Z
UID:10276-1740313800-1740324600@michaelalanis.com
SUMMARY:Ravello Italian Cuisine
DESCRIPTION:Solo Acoustic Performance \n12:30 PM – 3:30 PM
URL:https://michaelalanis.com/event/ravello-italian-cuisine-5/
LOCATION:Ravello Italian Cuisine\, 4272 TPC Pkwy Suite 110\, San Antonio\, TX\, 78261\, United States
END:VEVENT
BEGIN:VEVENT
DTSTART;TZID=America/Chicago:20250223T170000
DTEND;TZID=America/Chicago:20250223T200000
DTSTAMP:20260424T102623
CREATED:20250207T122348Z
LAST-MODIFIED:20250207T122348Z
UID:10317-1740330000-1740340800@michaelalanis.com
SUMMARY:The Weighted Plate
DESCRIPTION:Solo Acoustic Performance \n5 PM – 8 PM
URL:https://michaelalanis.com/event/the-weighted-plate/
LOCATION:The Weighted Plate\, 5441 FM1102\, New Braunfels\, TX\, 78132\, United States
END:VEVENT
BEGIN:VEVENT
DTSTART;TZID=America/Chicago:20250228T160000
DTEND;TZID=America/Chicago:20250228T190000
DTSTAMP:20260424T102623
CREATED:20250123T120744Z
LAST-MODIFIED:20250212T113514Z
UID:10300-1740758400-1740769200@michaelalanis.com
SUMMARY:Hotel Emma - Sternewirth Tavern
DESCRIPTION:Solo Acoustic Performance \n4 PM – 7 PM
URL:https://michaelalanis.com/event/hyatt-regency-riverwalk-q-bar-kitchen-65/
LOCATION:Hotel Emma – Sternewirth Tavern\, 136 E Grayson St\, San Antonio\, TX\, 78238\, United States
END:VEVENT
BEGIN:VEVENT
DTSTART;TZID=America/Chicago:20250301T200000
DTEND;TZID=America/Chicago:20250301T230000
DTSTAMP:20260424T102623
CREATED:20250220T123716Z
LAST-MODIFIED:20250220T123716Z
UID:10355-1740859200-1740870000@michaelalanis.com
SUMMARY:Aiden Hotel - "No Vacancy" Speak Easy Bar
DESCRIPTION:Band Performance \n8 PM – 11 PM
URL:https://michaelalanis.com/event/aiden-hotel-no-vacancy-speak-easy-bar-12/
END:VEVENT
BEGIN:VEVENT
DTSTART;TZID=America/Chicago:20250302T110000
DTEND;TZID=America/Chicago:20250302T130000
DTSTAMP:20260424T102623
CREATED:20250220T123928Z
LAST-MODIFIED:20250220T124014Z
UID:10357-1740913200-1740920400@michaelalanis.com
SUMMARY:Private Event
DESCRIPTION:Solo Acoustic Performance \n11 AM – 1 PM
URL:https://michaelalanis.com/event/private-event-81/
END:VEVENT
BEGIN:VEVENT
DTSTART;TZID=America/Chicago:20250303T163000
DTEND;TZID=America/Chicago:20250303T183000
DTSTAMP:20260424T102623
CREATED:20250212T113944Z
LAST-MODIFIED:20250212T113944Z
UID:10335-1741019400-1741026600@michaelalanis.com
SUMMARY:Private Event
DESCRIPTION:Band Performance \n4:40 PM – 6:30 PM
URL:https://michaelalanis.com/event/private-event-80/
END:VEVENT
BEGIN:VEVENT
DTSTART;TZID=America/Chicago:20250304T170000
DTEND;TZID=America/Chicago:20250304T213000
DTSTAMP:20260424T102623
CREATED:20250123T120935Z
LAST-MODIFIED:20250123T120935Z
UID:10302-1741107600-1741123800@michaelalanis.com
SUMMARY:Tommy Bahama - Marlin Bar
DESCRIPTION:Solo Acoustic Performance \n5 PM – 9 PM
URL:https://michaelalanis.com/event/tommy-bahama-marlin-bar-44/
LOCATION:Tommy Bahama – Marlin Bar\, 15900 La Cantera Pkwy #19110\, San Antonio\, TX\, 78256\, United States
END:VEVENT
BEGIN:VEVENT
DTSTART;TZID=America/Chicago:20250305T060000
DTEND;TZID=America/Chicago:20250305T220000
DTSTAMP:20260424T102623
CREATED:20250212T113838Z
LAST-MODIFIED:20250212T113838Z
UID:10333-1741154400-1741212000@michaelalanis.com
SUMMARY:Private Event
DESCRIPTION:Band Performance \n6 PM – 10 PM
URL:https://michaelalanis.com/event/private-event-79/
END:VEVENT
BEGIN:VEVENT
DTSTART;TZID=America/Chicago:20250306T060000
DTEND;TZID=America/Chicago:20250306T220000
DTSTAMP:20260424T102623
CREATED:20250212T113729Z
LAST-MODIFIED:20250212T113729Z
UID:10331-1741240800-1741298400@michaelalanis.com
SUMMARY:San Antonio Botanical Garden
DESCRIPTION:Band Performance \n6 PM – 10 PM
URL:https://michaelalanis.com/event/san-antonio-botanical-garden-4/
LOCATION:San Antonio Botanical Garden\, 555 Funston Pl.\, San Antonio\, TX\, 78209\, United States
END:VEVENT
BEGIN:VEVENT
DTSTART;TZID=America/Chicago:20250307T100000
DTEND;TZID=America/Chicago:20250307T100000
DTSTAMP:20260424T102623
CREATED:20250207T122632Z
LAST-MODIFIED:20250207T122632Z
UID:10320-1741341600-1741341600@michaelalanis.com
SUMMARY:The Rose San Antonio
DESCRIPTION:Band Performance \n10 PM – 1 AM
URL:https://michaelalanis.com/event/the-rose-san-antonio-10/
LOCATION:The Rose San Antonio\, 420 East Houston St.\, San Antonio\, TX\, 78205\, United States
END:VEVENT
BEGIN:VEVENT
DTSTART;TZID=America/Chicago:20250307T180000
DTEND;TZID=America/Chicago:20250307T210000
DTSTAMP:20260424T102623
CREATED:20250207T122804Z
LAST-MODIFIED:20250207T122804Z
UID:10322-1741370400-1741381200@michaelalanis.com
SUMMARY:Hyatt Regency Riverwalk - Q Bar & Kitchen
DESCRIPTION:Solo Acoustic Performance \n6 PM – 9 PM
URL:https://michaelalanis.com/event/hyatt-regency-riverwalk-q-bar-kitchen-66/
LOCATION:Hyatt Regency San Antonio Riverwalk\, 123 Losoya\, San Antonio\, TX\, 78205\, United States
END:VEVENT
BEGIN:VEVENT
DTSTART;TZID=America/Chicago:20250308T210000
DTEND;TZID=America/Chicago:20250308T235900
DTSTAMP:20260424T102623
CREATED:20250116T211217Z
LAST-MODIFIED:20250116T211217Z
UID:10292-1741467600-1741478340@michaelalanis.com
SUMMARY:River Sun
DESCRIPTION:Band Performance \n9 PM – 12 AM
URL:https://michaelalanis.com/event/river-sun-9/
LOCATION:River Sun\, 1011 Avenue B\, San Antonio\, TX\, 78215\, United States
END:VEVENT
BEGIN:VEVENT
DTSTART;TZID=America/Chicago:20250311T160000
DTEND;TZID=America/Chicago:20250311T190000
DTSTAMP:20260424T102623
CREATED:20250228T170845Z
LAST-MODIFIED:20250228T170946Z
UID:10368-1741708800-1741719600@michaelalanis.com
SUMMARY:Estancia del Norte - Paseo Bar
DESCRIPTION:Solo Acoustic performance\n4 PM – 7 PM
URL:https://michaelalanis.com/event/estancia-del-norte-paseo-bar-64/
LOCATION:Estancia del Norte – Paseo Bar\, 37 NE Loop 410 at\, McCullough Ave\, San Antonio\, TX\, 78216\, United States
END:VEVENT
BEGIN:VEVENT
DTSTART;TZID=America/Chicago:20250313T210000
DTEND;TZID=America/Chicago:20250313T220000
DTSTAMP:20260424T102623
CREATED:20250207T123009Z
LAST-MODIFIED:20250313T132245Z
UID:10324-1741899600-1741903200@michaelalanis.com
SUMMARY:The Rose San Antonio
DESCRIPTION:Acoustic Duo Performance \n9 PM – 12 AM
URL:https://michaelalanis.com/event/the-rose-san-antonio-11/
LOCATION:The Rose San Antonio\, 420 East Houston St.\, San Antonio\, TX\, 78205\, United States
END:VEVENT
BEGIN:VEVENT
DTSTART;TZID=America/Chicago:20250315T190000
DTEND;TZID=America/Chicago:20250315T220000
DTSTAMP:20260424T102623
CREATED:20250123T121248Z
LAST-MODIFIED:20250123T121248Z
UID:10306-1742065200-1742076000@michaelalanis.com
SUMMARY:Ravello Italian Cuisine
DESCRIPTION:Solo Acoustic Performance \n7 PM – 10 PM
URL:https://michaelalanis.com/event/ravello-italian-cuisine-7/
LOCATION:Ravello Italian Cuisine\, 4272 TPC Pkwy Suite 110\, San Antonio\, TX\, 78261\, United States
END:VEVENT
BEGIN:VEVENT
DTSTART;TZID=America/Chicago:20250316T080000
DTEND;TZID=America/Chicago:20250316T170000
DTSTAMP:20260424T102623
CREATED:20250123T121412Z
LAST-MODIFIED:20250123T121412Z
UID:10308-1742112000-1742144400@michaelalanis.com
SUMMARY:Tony G's Soul Food
DESCRIPTION:Band “Brunch” Performance \n11 AM – 3 PM
URL:https://michaelalanis.com/event/tony-gs-soul-food-37/
LOCATION:Tony G’s Soul Food\, 915 S Hackberry\, San Antonio\, TX\, 78210\, United States
END:VEVENT
BEGIN:VEVENT
DTSTART;TZID=America/Chicago:20250318T170000
DTEND;TZID=America/Chicago:20250318T210000
DTSTAMP:20260424T102623
CREATED:20250212T114228Z
LAST-MODIFIED:20250212T114228Z
UID:10337-1742317200-1742331600@michaelalanis.com
SUMMARY:Tommy Bahama - Marlin Bar
DESCRIPTION:Solo Acoustic Performance \n5 PM – 9 PM
URL:https://michaelalanis.com/event/tommy-bahama-marlin-bar-43/
LOCATION:Tommy Bahama – Marlin Bar\, 15900 La Cantera Pkwy #19110\, San Antonio\, TX\, 78256\, United States
END:VEVENT
BEGIN:VEVENT
DTSTART;TZID=America/Chicago:20250320T170000
DTEND;TZID=America/Chicago:20250320T200000
DTSTAMP:20260424T102623
CREATED:20250313T124743Z
LAST-MODIFIED:20250313T124743Z
UID:10387-1742490000-1742500800@michaelalanis.com
SUMMARY:Estancia del Norte - Paseo Bar
DESCRIPTION:Solo Acoustic Performance \n5 PM – 8 PM
URL:https://michaelalanis.com/event/estancia-del-norte-paseo-bar-65/
LOCATION:Estancia del Norte – Paseo Bar\, 37 NE Loop 410 at\, McCullough Ave\, San Antonio\, TX\, 78216\, United States
END:VEVENT
BEGIN:VEVENT
DTSTART;TZID=America/Chicago:20250321T220000
DTEND;TZID=America/Chicago:20250321T220000
DTSTAMP:20260424T102623
CREATED:20250212T114511Z
LAST-MODIFIED:20250212T114511Z
UID:10341-1742594400-1742594400@michaelalanis.com
SUMMARY:The Rose San Antonio
DESCRIPTION:Band Performance \n10 PM – 1 AM
URL:https://michaelalanis.com/event/the-rose-san-antonio-12/
LOCATION:The Rose San Antonio\, 420 East Houston St.\, San Antonio\, TX\, 78205\, United States
END:VEVENT
BEGIN:VEVENT
DTSTART;TZID=America/Chicago:20250322T190000
DTEND;TZID=America/Chicago:20250322T220000
DTSTAMP:20260424T102623
CREATED:20250212T114651Z
LAST-MODIFIED:20250313T125840Z
UID:10343-1742670000-1742680800@michaelalanis.com
SUMMARY:1Watson Rooftop Bar - Riverwalk
DESCRIPTION:Acoustic Duo Performance \n8 PM – 11 PM \n111 Soledad\, San Antonio\, TX \nTake in the views 15 floors above downtown at our San Antonio Riverwalk Bar – serving craft cocktails & Southwestern cuisine. Reservations are encouraged\, Walk-ins are always available for the remaining seats.
URL:https://michaelalanis.com/event/aiden-hotel-no-vacancy-speak-easy-bar-10/
LOCATION:1Watson Rooftop Bar\, 111 Soledad\, San Antonio\, TX\, 78205\, United States
END:VEVENT
BEGIN:VEVENT
DTSTART;TZID=America/Chicago:20250323T123000
DTEND;TZID=America/Chicago:20250323T163000
DTSTAMP:20260424T102623
CREATED:20250228T171244Z
LAST-MODIFIED:20250228T172100Z
UID:10370-1742733000-1742747400@michaelalanis.com
SUMMARY:Hyatt Lost Pines - Maude's Bar & Terrace
DESCRIPTION:Solo acoustic performance \n12:30 pm – 4:40 pm
URL:https://michaelalanis.com/event/the-weighted-plate-2/
LOCATION:Hyatt Lost Pines – Maude’s Bar & Terrace\, 575 Hyatt Lost Pines Road\, Lost Pines\, TX\, 78612\, United States
END:VEVENT
BEGIN:VEVENT
DTSTART;TZID=America/Chicago:20250324T190000
DTEND;TZID=America/Chicago:20250324T220000
DTSTAMP:20260424T102623
CREATED:20250212T115109Z
LAST-MODIFIED:20250212T115109Z
UID:10349-1742842800-1742853600@michaelalanis.com
SUMMARY:Hotel Emma - Sternewirth Tavern
DESCRIPTION:7 PM – 10 PM
URL:https://michaelalanis.com/event/hotel-emma-sternewirth-tavern-26/
LOCATION:Hotel Emma – Sternewirth Tavern\, 136 E Grayson St\, San Antonio\, TX\, 78238\, United States
END:VEVENT
BEGIN:VEVENT
DTSTART;TZID=America/Chicago:20250325T183000
DTEND;TZID=America/Chicago:20250325T213000
DTSTAMP:20260424T102623
CREATED:20250228T171420Z
LAST-MODIFIED:20250228T171420Z
UID:10372-1742927400-1742938200@michaelalanis.com
SUMMARY:Private Event
DESCRIPTION:Private Event \n6:30 pm – 9:30 pm
URL:https://michaelalanis.com/event/private-event-83/
END:VEVENT
BEGIN:VEVENT
DTSTART;TZID=America/Chicago:20250327T170000
DTEND;TZID=America/Chicago:20250327T190000
DTSTAMP:20260424T102623
CREATED:20250220T124232Z
LAST-MODIFIED:20250220T124232Z
UID:10359-1743094800-1743102000@michaelalanis.com
SUMMARY:Private Event
DESCRIPTION:Private Event \n5 PM – 6 PM
URL:https://michaelalanis.com/event/private-event-82/
END:VEVENT
BEGIN:VEVENT
DTSTART;TZID=America/Chicago:20250328T190000
DTEND;TZID=America/Chicago:20250328T220000
DTSTAMP:20260424T102623
CREATED:20250228T171747Z
LAST-MODIFIED:20250313T130232Z
UID:10374-1743188400-1743199200@michaelalanis.com
SUMMARY:Renzo's Trattoria e Pizzeria
DESCRIPTION:Solo Acoustic Performance \n4 pm – 7 pm \n 
URL:https://michaelalanis.com/event/estancie-del-norte-paseo-bar/
LOCATION:Renzo’s Trattoria e Pizzeria\, 4323 N. Loop 1604 W\, Unit 112\, San Antonio\, TX\, 78249\, United States
END:VEVENT
BEGIN:VEVENT
DTSTART;TZID=America/Chicago:20250329T200000
DTEND;TZID=America/Chicago:20250329T200000
DTSTAMP:20260424T102623
CREATED:20250212T115247Z
LAST-MODIFIED:20250212T115247Z
UID:10351-1743278400-1743278400@michaelalanis.com
SUMMARY:River Sun
DESCRIPTION:Band Performance \n8 PM – 12 AM
URL:https://michaelalanis.com/event/river-sun-10/
LOCATION:River Sun\, 1011 Avenue B\, San Antonio\, TX\, 78215\, United States
END:VEVENT
BEGIN:VEVENT
DTSTART;TZID=America/Chicago:20250330T143000
DTEND;TZID=America/Chicago:20250330T173000
DTSTAMP:20260424T102623
CREATED:20250212T114941Z
LAST-MODIFIED:20250212T114941Z
UID:10345-1743345000-1743355800@michaelalanis.com
SUMMARY:Weighted Plate
DESCRIPTION:Duo Acoustic Performance \n(feat. Jennifer Espinoza) \n2:30 PM – 5:30 PM
URL:https://michaelalanis.com/event/weighted-plate/
LOCATION:The Weighted Plate\, 5441 FM1102\, New Braunfels\, TX\, 78132\, United States
END:VEVENT
BEGIN:VEVENT
DTSTART;TZID=America/Chicago:20250401T200000
DTEND;TZID=America/Chicago:20250401T230000
DTSTAMP:20260424T102623
CREATED:20250220T124406Z
LAST-MODIFIED:20250314T111055Z
UID:10361-1743537600-1743548400@michaelalanis.com
SUMMARY:Big Bib Too Event Center
DESCRIPTION:Band Performance \n8 PM – 11 PM
URL:https://michaelalanis.com/event/aiden-hotel-no-vacancy-speak-easy-bar-13/
END:VEVENT
END:VCALENDAR