BEGIN:VCALENDAR
VERSION:2.0
PRODID:-//Michael Alanis - ECPv6.15.20//NONSGML v1.0//EN
CALSCALE:GREGORIAN
METHOD:PUBLISH
X-WR-CALNAME:Michael Alanis
X-ORIGINAL-URL:https://michaelalanis.com
X-WR-CALDESC:Events for Michael Alanis
REFRESH-INTERVAL;VALUE=DURATION:PT1H
X-Robots-Tag:noindex
X-PUBLISHED-TTL:PT1H
BEGIN:VTIMEZONE
TZID:America/Chicago
BEGIN:DAYLIGHT
TZOFFSETFROM:-0600
TZOFFSETTO:-0500
TZNAME:CDT
DTSTART:20220313T080000
END:DAYLIGHT
BEGIN:STANDARD
TZOFFSETFROM:-0500
TZOFFSETTO:-0600
TZNAME:CST
DTSTART:20221106T070000
END:STANDARD
BEGIN:DAYLIGHT
TZOFFSETFROM:-0600
TZOFFSETTO:-0500
TZNAME:CDT
DTSTART:20230312T080000
END:DAYLIGHT
BEGIN:STANDARD
TZOFFSETFROM:-0500
TZOFFSETTO:-0600
TZNAME:CST
DTSTART:20231105T070000
END:STANDARD
BEGIN:DAYLIGHT
TZOFFSETFROM:-0600
TZOFFSETTO:-0500
TZNAME:CDT
DTSTART:20240310T080000
END:DAYLIGHT
BEGIN:STANDARD
TZOFFSETFROM:-0500
TZOFFSETTO:-0600
TZNAME:CST
DTSTART:20241103T070000
END:STANDARD
BEGIN:DAYLIGHT
TZOFFSETFROM:-0600
TZOFFSETTO:-0500
TZNAME:CDT
DTSTART:20250309T080000
END:DAYLIGHT
BEGIN:STANDARD
TZOFFSETFROM:-0500
TZOFFSETTO:-0600
TZNAME:CST
DTSTART:20251102T070000
END:STANDARD
END:VTIMEZONE
BEGIN:VEVENT
DTSTART;TZID=America/Chicago:20240303T163000
DTEND;TZID=America/Chicago:20240303T193000
DTSTAMP:20260425T060857
CREATED:20240302T132216Z
LAST-MODIFIED:20240302T132216Z
UID:9687-1709483400-1709494200@michaelalanis.com
SUMMARY:Grand Hyatt - Bar Rojo
DESCRIPTION:Solo Acoustic Performance \n4:40 pm – 7:30 PM
URL:https://michaelalanis.com/event/grand-hyatt-bar-rojo-34/
LOCATION:Grand Hyatt – Bar Rojo\, 600 E. Market Street\, San Antonio\, Texas\, 78205\, United States
END:VEVENT
BEGIN:VEVENT
DTSTART;TZID=America/Chicago:20240302T170000
DTEND;TZID=America/Chicago:20240302T230000
DTSTAMP:20260425T060857
CREATED:20240302T132059Z
LAST-MODIFIED:20240302T132059Z
UID:9685-1709398800-1709420400@michaelalanis.com
SUMMARY:Private Wedding
DESCRIPTION:Band Performance \n 
URL:https://michaelalanis.com/event/private-wedding-24/
END:VEVENT
BEGIN:VEVENT
DTSTART;TZID=America/Chicago:20240301T190000
DTEND;TZID=America/Chicago:20240301T220000
DTSTAMP:20260425T060857
CREATED:20240302T131941Z
LAST-MODIFIED:20240302T131941Z
UID:9683-1709319600-1709330400@michaelalanis.com
SUMMARY:Thompson Hotel - The Moon's Daughter's Bar
DESCRIPTION:Solo Acoustic Performance \n7 PM – 10 PM
URL:https://michaelalanis.com/event/thompson-hotel-the-moons-daughters-bar-5/
LOCATION:Thompson Hotel – Moon’s Daughters Rooftop Lounge & Bar\, 115 Lexington Ave\, San Antonio\, TX\, 78205\, United States
END:VEVENT
BEGIN:VEVENT
DTSTART;TZID=America/Chicago:20240228T160000
DTEND;TZID=America/Chicago:20240228T200000
DTSTAMP:20260425T060857
CREATED:20240201T132123Z
LAST-MODIFIED:20240201T132123Z
UID:9649-1709136000-1709150400@michaelalanis.com
SUMMARY:Estancia del Norte - Paseo Bar
DESCRIPTION:Solo Acoustic Performance \n4 pm – 8 pm
URL:https://michaelalanis.com/event/estancia-del-norte-paseo-bar-38/
LOCATION:Estancia del Norte – Paseo Bar\, 37 NE Loop 410 at\, McCullough Ave\, San Antonio\, TX\, 78216\, United States
END:VEVENT
BEGIN:VEVENT
DTSTART;TZID=America/Chicago:20240227T170000
DTEND;TZID=America/Chicago:20240227T210000
DTSTAMP:20260425T060857
CREATED:20240216T132751Z
LAST-MODIFIED:20240216T132808Z
UID:9679-1709053200-1709067600@michaelalanis.com
SUMMARY:Tommy Bahama - Marlin Bar
DESCRIPTION:Solo acoustic performance \n5 PM – 9 PM
URL:https://michaelalanis.com/event/tommy-bahama-marlin-bar-2/
LOCATION:Tommy Bahama – Marlin Bar\, 15900 La Cantera Pkwy #19110\, San Antonio\, TX\, 78256\, United States
END:VEVENT
BEGIN:VEVENT
DTSTART;TZID=America/Chicago:20240224T150000
DTEND;TZID=America/Chicago:20240224T170000
DTSTAMP:20260425T060857
CREATED:20240201T132308Z
LAST-MODIFIED:20240216T132530Z
UID:9651-1708786800-1708794000@michaelalanis.com
SUMMARY:Private Event - Menger Bar
DESCRIPTION:Solo Acoustic Performance \n3 PM – 5 PM
URL:https://michaelalanis.com/event/hyatt-regency-riverwalk-q-bar-kitchen-57/
END:VEVENT
BEGIN:VEVENT
DTSTART;TZID=America/Chicago:20240223T180000
DTEND;TZID=America/Chicago:20240223T210000
DTSTAMP:20260425T060857
CREATED:20240201T131255Z
LAST-MODIFIED:20240201T131255Z
UID:9645-1708711200-1708722000@michaelalanis.com
SUMMARY:Hyatt Regency Riverwalk - Q Bar & Kitchen
DESCRIPTION:Solo Acoustic Performance \n6 PM – 9 PM
URL:https://michaelalanis.com/event/hyatt-regency-riverwalk-q-bar-kitchen-56/
LOCATION:Hyatt Regency San Antonio Riverwalk\, 123 Losoya\, San Antonio\, TX\, 78205\, United States
END:VEVENT
BEGIN:VEVENT
DTSTART;TZID=America/Chicago:20240221T080000
DTEND;TZID=America/Chicago:20240221T170000
DTSTAMP:20260425T060857
CREATED:20240201T131139Z
LAST-MODIFIED:20240201T131139Z
UID:9643-1708502400-1708534800@michaelalanis.com
SUMMARY:Estancia del Norte - Paseo Bar
DESCRIPTION:Solo Acoustic Performance \n4 pm – 8 pm
URL:https://michaelalanis.com/event/estancia-del-norte-paseo-bar-37/
LOCATION:Estancia del Norte – Paseo Bar\, 37 NE Loop 410 at\, McCullough Ave\, San Antonio\, TX\, 78216\, United States
END:VEVENT
BEGIN:VEVENT
DTSTART;TZID=America/Chicago:20240220T110000
DTEND;TZID=America/Chicago:20240220T140000
DTSTAMP:20260425T060857
CREATED:20240216T132225Z
LAST-MODIFIED:20240216T132544Z
UID:9674-1708426800-1708437600@michaelalanis.com
SUMMARY:Tommy Bahama - Marlin Bar
DESCRIPTION:Solo acoustic performance \n11 AM – 2 PM
URL:https://michaelalanis.com/event/tommy-bahama-marlin-bar/
LOCATION:Tommy Bahama – Marlin Bar\, 15900 La Cantera Pkwy #19110\, San Antonio\, TX\, 78256\, United States
END:VEVENT
BEGIN:VEVENT
DTSTART;TZID=America/Chicago:20240217T180000
DTEND;TZID=America/Chicago:20240217T180000
DTSTAMP:20260425T060857
CREATED:20240201T131028Z
LAST-MODIFIED:20240216T131600Z
UID:9641-1708192800-1708192800@michaelalanis.com
SUMMARY:Hyatt Lost Pines - Shellers Barrelhouse Bar
DESCRIPTION:Solo Acoustic \n6 PM – 9 PM
URL:https://michaelalanis.com/event/private-event-55/
LOCATION:Hyatt Lost Pines – Shellers Barrelhouse Bar\, 575 Hyatt Lost Pines Rd\, Ceadar Creek\, TX\, 78612\, United States
END:VEVENT
BEGIN:VEVENT
DTSTART;TZID=America/Chicago:20240214T190000
DTEND;TZID=America/Chicago:20240214T220000
DTSTAMP:20260425T060857
CREATED:20240126T210443Z
LAST-MODIFIED:20240212T174806Z
UID:9636-1707937200-1707948000@michaelalanis.com
SUMMARY:River Sun
DESCRIPTION:Band Performance \n7 PM – 10 PM
URL:https://michaelalanis.com/event/estancia-del-norte-paseo-bar-36/
LOCATION:River Sun\, 1011 Avenue B\, San Antonio\, TX\, 78215\, United States
END:VEVENT
BEGIN:VEVENT
DTSTART;TZID=America/Chicago:20240212T183000
DTEND;TZID=America/Chicago:20240212T213000
DTSTAMP:20260425T060857
CREATED:20240126T210309Z
LAST-MODIFIED:20240126T210309Z
UID:9634-1707762600-1707773400@michaelalanis.com
SUMMARY:JW Marriott - 18 Oaks
DESCRIPTION:Solo Acoustic Performance \n6:30 pm – 9:30 PM
URL:https://michaelalanis.com/event/jw-marriott-18-oaks-3/
LOCATION:JW Marriott Resort – 18 Oaks\, 23808 Resort Pkwy\, San Antonio\, TX\, 78261\, United States
END:VEVENT
BEGIN:VEVENT
DTSTART;TZID=America/Chicago:20240210T180000
DTEND;TZID=America/Chicago:20240210T210000
DTSTAMP:20260425T060857
CREATED:20240126T210055Z
LAST-MODIFIED:20240126T210055Z
UID:9632-1707588000-1707598800@michaelalanis.com
SUMMARY:Hyatt Regency Riverwalk - Q Bar & Kitchen
DESCRIPTION:Solo Acoustic Performance \n6 pm – 9 pm
URL:https://michaelalanis.com/event/hyatt-regency-riverwalk-q-bar-kitchen-54/
END:VEVENT
BEGIN:VEVENT
DTSTART;TZID=America/Chicago:20240203T120000
DTEND;TZID=America/Chicago:20240203T150000
DTSTAMP:20260425T060857
CREATED:20240126T205846Z
LAST-MODIFIED:20240126T205846Z
UID:9626-1706961600-1706972400@michaelalanis.com
SUMMARY:Hyatt Regency Riverwalk - Sauced Food Truck Area
DESCRIPTION:Solo Acoustic \n12 pm – 3 pm
URL:https://michaelalanis.com/event/hyatt-regency-riverwalk-sauced-food-truck-area/
LOCATION:Hyatt Regency San Antonio Riverwalk\, 123 Losoya\, San Antonio\, TX\, 78205\, United States
END:VEVENT
BEGIN:VEVENT
DTSTART;TZID=America/Chicago:20240202T180000
DTEND;TZID=America/Chicago:20240202T210000
DTSTAMP:20260425T060857
CREATED:20240126T205633Z
LAST-MODIFIED:20240126T205633Z
UID:9623-1706896800-1706907600@michaelalanis.com
SUMMARY:Hyatt Regency Riverwalk - Q Bar & Kitchen
DESCRIPTION:Solo acoustic performance \n6 pm – 9 pm
URL:https://michaelalanis.com/event/hyatt-regency-riverwalk-q-bar-kitchen-52/
LOCATION:Hyatt Regency San Antonio Riverwalk\, 123 Losoya\, San Antonio\, TX\, 78205\, United States
END:VEVENT
BEGIN:VEVENT
DTSTART;TZID=America/Chicago:20240128T123000
DTEND;TZID=America/Chicago:20240128T153000
DTSTAMP:20260425T060857
CREATED:20240124T182912Z
LAST-MODIFIED:20240124T182912Z
UID:9621-1706445000-1706455800@michaelalanis.com
SUMMARY:Renzo's Trattoria and Pizzeria
DESCRIPTION:Solo Acoustic Performance \n12:30 PM – 3:30 PM
URL:https://michaelalanis.com/event/renzos-trattoria-and-pizzeria/
LOCATION:Renzo’s Trattoria e Pizzeria\, 4323 N. Loop 1604 W\, Unit 112\, San Antonio\, TX\, 78249\, United States
END:VEVENT
BEGIN:VEVENT
DTSTART;TZID=America/Chicago:20240126T180000
DTEND;TZID=America/Chicago:20240126T210000
DTSTAMP:20260425T060857
CREATED:20240124T182605Z
LAST-MODIFIED:20240124T182605Z
UID:9617-1706292000-1706302800@michaelalanis.com
SUMMARY:Hyatt Regency Riverwalk - Q Bar & Kitchen
DESCRIPTION:Solo Acoustic Performance \n6 PM – 9 PM
URL:https://michaelalanis.com/event/hyatt-regency-riverwalk-q-bar-kitchen-50/
LOCATION:Hyatt Regency San Antonio Riverwalk\, 123 Losoya\, San Antonio\, TX\, 78205\, United States
END:VEVENT
BEGIN:VEVENT
DTSTART;TZID=America/Chicago:20240124T080000
DTEND;TZID=America/Chicago:20240124T170000
DTSTAMP:20260425T060857
CREATED:20240124T182703Z
LAST-MODIFIED:20240124T182703Z
UID:9619-1706083200-1706115600@michaelalanis.com
SUMMARY:Hyatt Regency Riverwalk - Q Bar & Kitchen
DESCRIPTION:Duo Performance \nFeat:  Jennifer Ezpinoza \n6 PM – 9 PM
URL:https://michaelalanis.com/event/hyatt-regency-riverwalk-q-bar-kitchen-51/
LOCATION:Hyatt Regency San Antonio Riverwalk\, 123 Losoya\, San Antonio\, TX\, 78205\, United States
END:VEVENT
BEGIN:VEVENT
DTSTART;TZID=America/Chicago:20240122T190000
DTEND;TZID=America/Chicago:20240122T220000
DTSTAMP:20260425T060857
CREATED:20240124T182449Z
LAST-MODIFIED:20240124T182449Z
UID:9615-1705950000-1705960800@michaelalanis.com
SUMMARY:Hotel Emma - Sternewirth Tavern
DESCRIPTION:Solo Acoustic Performance \n7 PM – 10 PM
URL:https://michaelalanis.com/event/hotel-emma-sternewirth-tavern-15/
LOCATION:Hotel Emma – Sternewirth Tavern\, 136 E Grayson St\, San Antonio\, TX\, 78238\, United States
END:VEVENT
BEGIN:VEVENT
DTSTART;TZID=America/Chicago:20240121T110000
DTEND;TZID=America/Chicago:20240121T140000
DTSTAMP:20260425T060857
CREATED:20240124T182242Z
LAST-MODIFIED:20240124T182242Z
UID:9612-1705834800-1705845600@michaelalanis.com
SUMMARY:1Watson Rooftop Bar
DESCRIPTION:Solo Acoustic Performance \n6 PM – 9 PM
URL:https://michaelalanis.com/event/1watson-rooftop-bar/
LOCATION:1 Watson Rooftop Bar\, 111 Soledad St\, San Antonio\, TX\, 78205\, United States
END:VEVENT
BEGIN:VEVENT
DTSTART;TZID=America/Chicago:20240120T180000
DTEND;TZID=America/Chicago:20240120T210000
DTSTAMP:20260425T060857
CREATED:20240124T181840Z
LAST-MODIFIED:20240124T181840Z
UID:9610-1705773600-1705784400@michaelalanis.com
SUMMARY:Hyatt Regency Riverwalk - Q Bar & Kitchen
DESCRIPTION:Solo acoustic performance \n6 PM – 9 PM
URL:https://michaelalanis.com/event/hyatt-regency-riverwalk-q-bar-kitchen-49/
LOCATION:Hyatt Regency San Antonio Riverwalk\, 123 Losoya\, San Antonio\, TX\, 78205\, United States
END:VEVENT
BEGIN:VEVENT
DTSTART;TZID=America/Chicago:20240119T180000
DTEND;TZID=America/Chicago:20240119T210000
DTSTAMP:20260425T060857
CREATED:20240124T181730Z
LAST-MODIFIED:20240124T181730Z
UID:9608-1705687200-1705698000@michaelalanis.com
SUMMARY:Hyatt Regency Riverwalk - Q Bar & Kitchen
DESCRIPTION:Duo performance \nFeat:  Jennifer Ezpinoza \n6 PM – 9 PM
URL:https://michaelalanis.com/event/hyatt-regency-riverwalk-q-bar-kitchen-48/
LOCATION:Hyatt Regency San Antonio Riverwalk\, 123 Losoya\, San Antonio\, TX\, 78205\, United States
END:VEVENT
BEGIN:VEVENT
DTSTART;TZID=America/Chicago:20240118T170000
DTEND;TZID=America/Chicago:20240118T190000
DTSTAMP:20260425T060857
CREATED:20240124T181436Z
LAST-MODIFIED:20240124T181436Z
UID:9606-1705597200-1705604400@michaelalanis.com
SUMMARY:Private Wedding
DESCRIPTION:Private Wedding \n5 PM – 7 PM
URL:https://michaelalanis.com/event/private-wedding-23/
END:VEVENT
BEGIN:VEVENT
DTSTART;TZID=America/Chicago:20240112T180000
DTEND;TZID=America/Chicago:20240112T210000
DTSTAMP:20260425T060857
CREATED:20240124T181338Z
LAST-MODIFIED:20240124T181338Z
UID:9604-1705082400-1705093200@michaelalanis.com
SUMMARY:Hyatt Regency Riverwalk - Q Bar & Kitchen
DESCRIPTION:Solo Acoustic Performance \n6 PM – 9 PM
URL:https://michaelalanis.com/event/hyatt-regency-riverwalk-q-bar-kitchen-47/
LOCATION:Hyatt Regency San Antonio Riverwalk\, 123 Losoya\, San Antonio\, TX\, 78205\, United States
END:VEVENT
BEGIN:VEVENT
DTSTART;TZID=America/Chicago:20240106T180000
DTEND;TZID=America/Chicago:20240106T210000
DTSTAMP:20260425T060857
CREATED:20240124T181141Z
LAST-MODIFIED:20240124T181141Z
UID:9602-1704564000-1704574800@michaelalanis.com
SUMMARY:Hyatt Regency Riverwalk - Q Bar
DESCRIPTION:Duo Performance \nFeat:  Jennifer Ezpinoza \n6 PM – 9 PM
URL:https://michaelalanis.com/event/hyatt-regency-riverwalk-q-bar-4/
LOCATION:Hyatt Regency San Antonio Riverwalk\, 123 Losoya\, San Antonio\, TX\, 78205\, United States
END:VEVENT
BEGIN:VEVENT
DTSTART;TZID=America/Chicago:20240105T180000
DTEND;TZID=America/Chicago:20240105T210000
DTSTAMP:20260425T060857
CREATED:20240124T180908Z
LAST-MODIFIED:20240124T180908Z
UID:9599-1704477600-1704488400@michaelalanis.com
SUMMARY:Dog & Pony Grill- Boerne\, TX
DESCRIPTION:Solo acoustic performance \n6 PM – 9 PM
URL:https://michaelalanis.com/event/dog-pony-grill-boerne-tx/
LOCATION:Dog & Pony Grill\, 1481 S Main St\, Boerne\, TX\, 78006\, United States
END:VEVENT
BEGIN:VEVENT
DTSTART;TZID=America/Chicago:20231231T220000
DTEND;TZID=America/Chicago:20231231T233000
DTSTAMP:20260425T060857
CREATED:20240124T180437Z
LAST-MODIFIED:20240124T180437Z
UID:9597-1704060000-1704065400@michaelalanis.com
SUMMARY:Hyatt Regency Riverwalk - New Years Eve Party
DESCRIPTION:Private New Year’s Eve Party \nRio Ballroom \n10 pm – 11:30 pm
URL:https://michaelalanis.com/event/hyatt-regency-riverwalk-new-years-eve-party/
LOCATION:Hyatt Regency San Antonio Riverwalk\, 123 Losoya\, San Antonio\, TX\, 78205\, United States
END:VEVENT
BEGIN:VEVENT
DTSTART;TZID=America/Chicago:20231223T133000
DTEND;TZID=America/Chicago:20231223T163000
DTSTAMP:20260425T060857
CREATED:20231117T163515Z
LAST-MODIFIED:20231117T163602Z
UID:9562-1703338200-1703349000@michaelalanis.com
SUMMARY:Rebecca Creek Distillery
DESCRIPTION:Solo Acoustic Performance \n1:30 pm – 4:30
URL:https://michaelalanis.com/event/rebecca-creek-distillery-3/
LOCATION:Rebecca Creek Distillery\, 26605 Bulverde Rd\, San Antonio\, TX\, 78260\, United States
END:VEVENT
BEGIN:VEVENT
DTSTART;TZID=America/Chicago:20231222T213000
DTEND;TZID=America/Chicago:20231222T230000
DTSTAMP:20260425T060857
CREATED:20231117T162936Z
LAST-MODIFIED:20231117T162936Z
UID:9560-1703280600-1703286000@michaelalanis.com
SUMMARY:The Rustic - SA
DESCRIPTION:Band Performance \n9:30 pm – 11:00 pm
URL:https://michaelalanis.com/event/the-rustic-sa-23/
LOCATION:The Rustic – San Antonio\, 17619 La Cantera Pkwy #204\, San Antonio\, TX\, 78257\, United States
END:VEVENT
BEGIN:VEVENT
DTSTART;TZID=America/Chicago:20231216T180000
DTEND;TZID=America/Chicago:20231216T220000
DTSTAMP:20260425T060857
CREATED:20231128T170612Z
LAST-MODIFIED:20231128T170612Z
UID:9571-1702749600-1702764000@michaelalanis.com
SUMMARY:Christmas Party
DESCRIPTION:Private event \n6 PM – 10 PM
URL:https://michaelalanis.com/event/christmas-party/
END:VEVENT
END:VCALENDAR