BEGIN:VCALENDAR
VERSION:2.0
PRODID:-//Michael Alanis - ECPv6.15.20//NONSGML v1.0//EN
CALSCALE:GREGORIAN
METHOD:PUBLISH
X-WR-CALNAME:Michael Alanis
X-ORIGINAL-URL:https://michaelalanis.com
X-WR-CALDESC:Events for Michael Alanis
REFRESH-INTERVAL;VALUE=DURATION:PT1H
X-Robots-Tag:noindex
X-PUBLISHED-TTL:PT1H
BEGIN:VTIMEZONE
TZID:America/Chicago
BEGIN:DAYLIGHT
TZOFFSETFROM:-0600
TZOFFSETTO:-0500
TZNAME:CDT
DTSTART:20220313T080000
END:DAYLIGHT
BEGIN:STANDARD
TZOFFSETFROM:-0500
TZOFFSETTO:-0600
TZNAME:CST
DTSTART:20221106T070000
END:STANDARD
BEGIN:DAYLIGHT
TZOFFSETFROM:-0600
TZOFFSETTO:-0500
TZNAME:CDT
DTSTART:20230312T080000
END:DAYLIGHT
BEGIN:STANDARD
TZOFFSETFROM:-0500
TZOFFSETTO:-0600
TZNAME:CST
DTSTART:20231105T070000
END:STANDARD
BEGIN:DAYLIGHT
TZOFFSETFROM:-0600
TZOFFSETTO:-0500
TZNAME:CDT
DTSTART:20240310T080000
END:DAYLIGHT
BEGIN:STANDARD
TZOFFSETFROM:-0500
TZOFFSETTO:-0600
TZNAME:CST
DTSTART:20241103T070000
END:STANDARD
END:VTIMEZONE
BEGIN:VEVENT
DTSTART;TZID=America/Chicago:20231019T173000
DTEND;TZID=America/Chicago:20231019T203000
DTSTAMP:20260425T112835
CREATED:20230909T190418Z
LAST-MODIFIED:20230909T190418Z
UID:9466-1697736600-1697747400@michaelalanis.com
SUMMARY:Private Event
DESCRIPTION:Private Event \nBand Performance \n5:30 pm – 8:30 pm
URL:https://michaelalanis.com/event/private-event-50/
END:VEVENT
BEGIN:VEVENT
DTSTART;TZID=America/Chicago:20231015T100000
DTEND;TZID=America/Chicago:20231015T130000
DTSTAMP:20260425T112835
CREATED:20230909T190302Z
LAST-MODIFIED:20230909T190302Z
UID:9464-1697364000-1697374800@michaelalanis.com
SUMMARY:Hotel Contessa - Ambler Bar
DESCRIPTION:Solo Acoustic Performance \n10 am – 1 pm
URL:https://michaelalanis.com/event/hotel-contessa-ambler-bar-20/
LOCATION:Hotel Contessa- Ambler Bar\, 306 W Market St\, San Antonio\, TX\, United States
END:VEVENT
BEGIN:VEVENT
DTSTART;TZID=America/Chicago:20231014T200000
DTEND;TZID=America/Chicago:20231014T230000
DTSTAMP:20260425T112835
CREATED:20230909T190143Z
LAST-MODIFIED:20230909T190143Z
UID:9462-1697313600-1697324400@michaelalanis.com
SUMMARY:Senorita's Wine Bar
DESCRIPTION:Solo Acoustic Performance \n8 pm – 11pm
URL:https://michaelalanis.com/event/senoritas-wine-bar-2/
LOCATION:Senoritas Wine Bar\, 5514 Lone Star Pkwy #109\, San Antonio\, TX\, 78253\, United States
END:VEVENT
BEGIN:VEVENT
DTSTART;TZID=America/Chicago:20231013T190000
DTEND;TZID=America/Chicago:20231013T230000
DTSTAMP:20260425T112835
CREATED:20230922T113441Z
LAST-MODIFIED:20230922T113441Z
UID:9500-1697223600-1697238000@michaelalanis.com
SUMMARY:Stone Werks - The Rim
DESCRIPTION:Band Performance \n7 pm – 11 pm
URL:https://michaelalanis.com/event/stone-werks-the-rim-12/
LOCATION:Stone Werks – The Rim\, 5807 Worth Pkwy\, San Antonio\, TX\, 78257\, United States
END:VEVENT
BEGIN:VEVENT
DTSTART;TZID=America/Chicago:20231012T190000
DTEND;TZID=America/Chicago:20231012T230000
DTSTAMP:20260425T112835
CREATED:20230922T113212Z
LAST-MODIFIED:20230922T113212Z
UID:9498-1697137200-1697151600@michaelalanis.com
SUMMARY:Stone Werks - Culebra Commons
DESCRIPTION:Band Performance \n7 pm – 11 pm
URL:https://michaelalanis.com/event/stone-werks-culebra-commons-4/
LOCATION:Stone Werks – Culebra Commons\, 6626 W Loop 1604 N\, San Antonio\, TX\, 78254\, United States
END:VEVENT
BEGIN:VEVENT
DTSTART;TZID=America/Chicago:20231008T160000
DTEND;TZID=America/Chicago:20231008T180000
DTSTAMP:20260425T112835
CREATED:20230909T190007Z
LAST-MODIFIED:20230909T190007Z
UID:9458-1696780800-1696788000@michaelalanis.com
SUMMARY:The Rustic - SA
DESCRIPTION:Solo acoustic performance \n4 pm – 6 pm
URL:https://michaelalanis.com/event/the-rustic-sa-19/
LOCATION:The Rustic – San Antonio\, 17619 La Cantera Pkwy #204\, San Antonio\, TX\, 78257\, United States
END:VEVENT
BEGIN:VEVENT
DTSTART;TZID=America/Chicago:20231007T180000
DTEND;TZID=America/Chicago:20231007T230000
DTSTAMP:20260425T112835
CREATED:20230909T185858Z
LAST-MODIFIED:20230909T185858Z
UID:9456-1696701600-1696719600@michaelalanis.com
SUMMARY:Private Event
DESCRIPTION:Private Event
URL:https://michaelalanis.com/event/private-event-49/
END:VEVENT
BEGIN:VEVENT
DTSTART;TZID=America/Chicago:20231006T203000
DTEND;TZID=America/Chicago:20231006T235900
DTSTAMP:20260425T112835
CREATED:20230909T185807Z
LAST-MODIFIED:20230909T185807Z
UID:9454-1696624200-1696636740@michaelalanis.com
SUMMARY:Sage Restaurant & Lounge
DESCRIPTION:Solo Acoustic Performance \n8:30 pm – 12:00 am
URL:https://michaelalanis.com/event/sage-restaurant-lounge-2/
LOCATION:Sage Restaurant & Lounge\, 241 E Austin St\, Fredericksburg\, 78624\, United States
END:VEVENT
BEGIN:VEVENT
DTSTART;TZID=America/Chicago:20231005T180000
DTEND;TZID=America/Chicago:20231005T210000
DTSTAMP:20260425T112835
CREATED:20230922T113005Z
LAST-MODIFIED:20230922T113005Z
UID:9496-1696528800-1696539600@michaelalanis.com
SUMMARY:Waterwheel Event
DESCRIPTION:Band Performance \n6 pm – 9 pm \nhttp://www.lifeatwaterwheel.com/
URL:https://michaelalanis.com/event/waterwheel-event/
END:VEVENT
BEGIN:VEVENT
DTSTART;TZID=America/Chicago:20231004T080000
DTEND;TZID=America/Chicago:20231004T170000
DTSTAMP:20260425T112835
CREATED:20230909T185625Z
LAST-MODIFIED:20230909T185625Z
UID:9452-1696406400-1696438800@michaelalanis.com
SUMMARY:JW Marriott Resort
DESCRIPTION:Solo Acoustic Performance \n6 pm – 10 pm
URL:https://michaelalanis.com/event/jw-marriott-resort/
LOCATION:JW Marriott Resort – 18 Oaks\, 23808 Resort Pkwy\, San Antonio\, TX\, 78261\, United States
END:VEVENT
BEGIN:VEVENT
DTSTART;TZID=America/Chicago:20230930T200000
DTEND;TZID=America/Chicago:20230930T230000
DTSTAMP:20260425T112835
CREATED:20230830T201031Z
LAST-MODIFIED:20230830T201031Z
UID:9430-1696104000-1696114800@michaelalanis.com
SUMMARY:Seniorita's Wine Bar
DESCRIPTION:Solo Acoustic Performance \n8 pm – 11 pm
URL:https://michaelalanis.com/event/senioritas-wine-bar/
LOCATION:Senoritas Wine Bar\, 5514 Lone Star Pkwy #109\, San Antonio\, TX\, 78253\, United States
END:VEVENT
BEGIN:VEVENT
DTSTART;TZID=America/Chicago:20230930T160000
DTEND;TZID=America/Chicago:20230930T190000
DTSTAMP:20260425T112835
CREATED:20230913T113302Z
LAST-MODIFIED:20230913T113302Z
UID:9485-1696089600-1696100400@michaelalanis.com
SUMMARY:Estancia Hotel - Paseo Bar
DESCRIPTION:Solo Acoustic Performance \n4 pm – 7 pm
URL:https://michaelalanis.com/event/estancia-hotel-paseo-bar-12/
LOCATION:Estancia del Norte – Paseo Bar\, 37 NE Loop 410 at\, McCullough Ave\, San Antonio\, TX\, 78216\, United States
END:VEVENT
BEGIN:VEVENT
DTSTART;TZID=America/Chicago:20230930T160000
DTEND;TZID=America/Chicago:20230930T190000
DTSTAMP:20260425T112835
CREATED:20230909T185153Z
LAST-MODIFIED:20230909T185153Z
UID:9448-1696089600-1696100400@michaelalanis.com
SUMMARY:Estancia Hotel - Paseo Bar
DESCRIPTION:Solo Acoustic performance \n4 pm – 7 pm
URL:https://michaelalanis.com/event/estancia-hotel-paseo-bar-2/
LOCATION:Estancia del Norte – Paseo Bar\, 37 NE Loop 410 at\, McCullough Ave\, San Antonio\, TX\, 78216\, United States
END:VEVENT
BEGIN:VEVENT
DTSTART;TZID=America/Chicago:20230929T180000
DTEND;TZID=America/Chicago:20230929T210000
DTSTAMP:20260425T112835
CREATED:20230830T200851Z
LAST-MODIFIED:20230909T184910Z
UID:9428-1696010400-1696021200@michaelalanis.com
SUMMARY:Hyatt Regency Riverwalk - Q Bar - w/ Special Guest
DESCRIPTION:Solo Acoustic Performance \nSpecial Guest – Anthony Thomas Martinez \n6 pm – 9 pm
URL:https://michaelalanis.com/event/hyatt-regency-riverwalk-q-bar-kitchen-41/
LOCATION:Hyatt Regency San Antonio Riverwalk\, 123 Losoya\, San Antonio\, TX\, 78205\, United States
END:VEVENT
BEGIN:VEVENT
DTSTART;TZID=America/Chicago:20230928T080000
DTEND;TZID=America/Chicago:20230928T170000
DTSTAMP:20260425T112835
CREATED:20230909T184704Z
LAST-MODIFIED:20230909T184704Z
UID:9444-1695888000-1695920400@michaelalanis.com
SUMMARY:Hotel Contessa - Ambler Bar
DESCRIPTION:Solo Acoustic Performance \n6 pm – 9 pm
URL:https://michaelalanis.com/event/hotel-contessa-ambler-bar-19/
LOCATION:Hotel Contessa- Ambler Bar\, 306 W Market St\, San Antonio\, TX\, United States
END:VEVENT
BEGIN:VEVENT
DTSTART;TZID=America/Chicago:20230927T170000
DTEND;TZID=America/Chicago:20230927T200000
DTSTAMP:20260425T112835
CREATED:20230830T200735Z
LAST-MODIFIED:20230830T200735Z
UID:9426-1695834000-1695844800@michaelalanis.com
SUMMARY:JL Events
DESCRIPTION:Acoustic Performance \n5 pm – 8 pm \n7600 Broadway\, San Antonio
URL:https://michaelalanis.com/event/jl-events/
END:VEVENT
BEGIN:VEVENT
DTSTART;TZID=America/Chicago:20230925T160000
DTEND;TZID=America/Chicago:20230925T183000
DTSTAMP:20260425T112835
CREATED:20230925T190305Z
LAST-MODIFIED:20230925T190349Z
UID:9512-1695657600-1695666600@michaelalanis.com
SUMMARY:Aiden Hotel Riverwalk- Rendezous Bar
DESCRIPTION:Solo Acoustic Performance \n4:00 pm – 6:30 pm
URL:https://michaelalanis.com/event/aiden-hotel-riverwalk-rendezous-bar/
END:VEVENT
BEGIN:VEVENT
DTSTART;TZID=America/Chicago:20230924T100000
DTEND;TZID=America/Chicago:20230924T133000
DTSTAMP:20260425T112835
CREATED:20230909T184542Z
LAST-MODIFIED:20230909T184542Z
UID:9442-1695549600-1695562200@michaelalanis.com
SUMMARY:Hotel Contessa - Ambler Bar
DESCRIPTION:Solo Acoustic Performance \n10 am – 1 pm
URL:https://michaelalanis.com/event/hotel-contessa-ambler-bar-18/
LOCATION:Hotel Contessa- Ambler Bar\, 306 W Market St\, San Antonio\, TX\, United States
END:VEVENT
BEGIN:VEVENT
DTSTART;TZID=America/Chicago:20230923T200000
DTEND;TZID=America/Chicago:20230923T230000
DTSTAMP:20260425T112835
CREATED:20230830T200308Z
LAST-MODIFIED:20230830T200610Z
UID:9422-1695499200-1695510000@michaelalanis.com
SUMMARY:Senoritas Wine Bar
DESCRIPTION:Solo Acoustic Performance \n8 pm – 11 – pm
URL:https://michaelalanis.com/event/senoritas-wine-bar/
LOCATION:Senoritas Wine Bar\, 5514 Lone Star Pkwy #109\, San Antonio\, TX\, 78253\, United States
END:VEVENT
BEGIN:VEVENT
DTSTART;TZID=America/Chicago:20230922T183000
DTEND;TZID=America/Chicago:20230922T213000
DTSTAMP:20260425T112835
CREATED:20230830T192732Z
LAST-MODIFIED:20230830T192817Z
UID:9420-1695407400-1695418200@michaelalanis.com
SUMMARY:La Cantera - Plaza San Saba
DESCRIPTION:Band Performance \n6:30 pm – 9:30 pm
URL:https://michaelalanis.com/event/la-cantera-plaza-san-saba/
LOCATION:La Cantera Resort\, 16641 La Cantera Pkwy\, San Antonio\, TX\, 78256
END:VEVENT
BEGIN:VEVENT
DTSTART;TZID=America/Chicago:20230921T180000
DTEND;TZID=America/Chicago:20230921T210000
DTSTAMP:20260425T112835
CREATED:20230608T161236Z
LAST-MODIFIED:20230830T192759Z
UID:9348-1695319200-1695330000@michaelalanis.com
SUMMARY:La Cantera - Private Event
DESCRIPTION:Solo Acoustic Performance \n6 PM – 9 PM
URL:https://michaelalanis.com/event/stone-werks-culebra-commons-2/
LOCATION:La Cantera Resort\, 16641 La Cantera Pkwy\, San Antonio\, TX\, 78256
END:VEVENT
BEGIN:VEVENT
DTSTART;TZID=America/Chicago:20230921T103000
DTEND;TZID=America/Chicago:20230921T140000
DTSTAMP:20260425T112835
CREATED:20230922T111831Z
LAST-MODIFIED:20230922T111831Z
UID:9494-1695292200-1695304800@michaelalanis.com
SUMMARY:Tony G's Soul Food - SAC
DESCRIPTION:Solo Acoustic Performance \n10:30 am – 2:00 pm
URL:https://michaelalanis.com/event/tony-gs-soul-food-sac/
END:VEVENT
BEGIN:VEVENT
DTSTART;TZID=America/Chicago:20230917T100000
DTEND;TZID=America/Chicago:20230917T130000
DTSTAMP:20260425T112835
CREATED:20230909T184353Z
LAST-MODIFIED:20230909T184353Z
UID:9438-1694944800-1694955600@michaelalanis.com
SUMMARY:Hotel Contessa - Ambler Bar
DESCRIPTION:Solo Acoustic Performance \n10 am – 1 pm
URL:https://michaelalanis.com/event/hotel-contessa-ambler-bar-17/
LOCATION:Hotel Contessa- Ambler Bar\, 306 W Market St\, San Antonio\, TX\, United States
END:VEVENT
BEGIN:VEVENT
DTSTART;TZID=America/Chicago:20230916T173000
DTEND;TZID=America/Chicago:20230916T230000
DTSTAMP:20260425T112835
CREATED:20230830T192250Z
LAST-MODIFIED:20230830T192250Z
UID:9416-1694885400-1694905200@michaelalanis.com
SUMMARY:Private Event
DESCRIPTION:Private Wedding
URL:https://michaelalanis.com/event/private-event-47/
END:VEVENT
BEGIN:VEVENT
DTSTART;TZID=America/Chicago:20230915T180000
DTEND;TZID=America/Chicago:20230915T210000
DTSTAMP:20260425T112835
CREATED:20230830T192157Z
LAST-MODIFIED:20230913T112937Z
UID:9413-1694800800-1694811600@michaelalanis.com
SUMMARY:Private Event
DESCRIPTION:Private Event \n6 pm – 9 pm
URL:https://michaelalanis.com/event/hyatt-regency-riverwalk-q-bar-kitchen-40/
END:VEVENT
BEGIN:VEVENT
DTSTART;TZID=America/Chicago:20230914T190000
DTEND;TZID=America/Chicago:20230914T230000
DTSTAMP:20260425T112835
CREATED:20230811T212630Z
LAST-MODIFIED:20230913T112731Z
UID:9403-1694718000-1694732400@michaelalanis.com
SUMMARY:Stone Werks - Culebra Commons - w/Special Guest
DESCRIPTION:Band Performance \nSpecial Guest:  Jennifer Espinoza \n7 PM – 11 PM
URL:https://michaelalanis.com/event/stone-werks-culebra-commons-3/
LOCATION:Stone Werks – Culebra Commons\, 6626 W Loop 1604 N\, San Antonio\, TX\, 78254\, United States
END:VEVENT
BEGIN:VEVENT
DTSTART;TZID=America/Chicago:20230911T080000
DTEND;TZID=America/Chicago:20230911T170000
DTSTAMP:20260425T112835
CREATED:20230721T162842Z
LAST-MODIFIED:20230721T162842Z
UID:9384-1694419200-1694451600@michaelalanis.com
SUMMARY:Hotel Emma - Sternewirth Tavern
DESCRIPTION:Solo Acoustic Performance \n7 pm – 10 pm
URL:https://michaelalanis.com/event/hotel-emma-sternewirth-tavern-13/
LOCATION:Hotel Emma – Sternewirth Tavern\, 136 E Grayson St\, San Antonio\, TX\, 78238\, United States
END:VEVENT
BEGIN:VEVENT
DTSTART;TZID=America/Chicago:20230910T100000
DTEND;TZID=America/Chicago:20230910T130000
DTSTAMP:20260425T112835
CREATED:20230909T184109Z
LAST-MODIFIED:20230909T184109Z
UID:9433-1694340000-1694350800@michaelalanis.com
SUMMARY:Hotel Contessa - Ambler Bar
DESCRIPTION:Solo acoustic performance \n10 am – 1 pm
URL:https://michaelalanis.com/event/hotel-contessa-ambler-bar-16/
LOCATION:Hotel Contessa- Ambler Bar\, 306 W Market St\, San Antonio\, TX\, United States
END:VEVENT
BEGIN:VEVENT
DTSTART;TZID=America/Chicago:20230909T190000
DTEND;TZID=America/Chicago:20230909T220000
DTSTAMP:20260425T112835
CREATED:20230830T192012Z
LAST-MODIFIED:20230830T192012Z
UID:9410-1694286000-1694296800@michaelalanis.com
SUMMARY:Sky Lounge on Lady Bird - Austin
DESCRIPTION:Solo Acoustic Performance \n7 pm – 10 pm
URL:https://michaelalanis.com/event/sky-lounge-on-lady-bird-austin/
LOCATION:Sky Lounge on Lady Bird at RiverSouth\, 401 S 1st St\, Austin\, TX\, 78704\, United States
END:VEVENT
BEGIN:VEVENT
DTSTART;TZID=America/Chicago:20230908T190000
DTEND;TZID=America/Chicago:20230908T230000
DTSTAMP:20260425T112835
CREATED:20230608T161425Z
LAST-MODIFIED:20230608T161425Z
UID:9350-1694199600-1694214000@michaelalanis.com
SUMMARY:Stone Werks - The Rim
DESCRIPTION:Band Performance \n7 PM – 11 PM
URL:https://michaelalanis.com/event/stone-werks-the-rim-10/
LOCATION:Stone Werks – The Rim\, 5807 Worth Pkwy\, San Antonio\, TX\, 78257\, United States
END:VEVENT
END:VCALENDAR