BEGIN:VCALENDAR
VERSION:2.0
PRODID:-//Michael Alanis - ECPv6.15.20//NONSGML v1.0//EN
CALSCALE:GREGORIAN
METHOD:PUBLISH
X-WR-CALNAME:Michael Alanis
X-ORIGINAL-URL:https://michaelalanis.com
X-WR-CALDESC:Events for Michael Alanis
REFRESH-INTERVAL;VALUE=DURATION:PT1H
X-Robots-Tag:noindex
X-PUBLISHED-TTL:PT1H
BEGIN:VTIMEZONE
TZID:America/Chicago
BEGIN:DAYLIGHT
TZOFFSETFROM:-0600
TZOFFSETTO:-0500
TZNAME:CDT
DTSTART:20230312T080000
END:DAYLIGHT
BEGIN:STANDARD
TZOFFSETFROM:-0500
TZOFFSETTO:-0600
TZNAME:CST
DTSTART:20231105T070000
END:STANDARD
BEGIN:DAYLIGHT
TZOFFSETFROM:-0600
TZOFFSETTO:-0500
TZNAME:CDT
DTSTART:20240310T080000
END:DAYLIGHT
BEGIN:STANDARD
TZOFFSETFROM:-0500
TZOFFSETTO:-0600
TZNAME:CST
DTSTART:20241103T070000
END:STANDARD
BEGIN:DAYLIGHT
TZOFFSETFROM:-0600
TZOFFSETTO:-0500
TZNAME:CDT
DTSTART:20250309T080000
END:DAYLIGHT
BEGIN:STANDARD
TZOFFSETFROM:-0500
TZOFFSETTO:-0600
TZNAME:CST
DTSTART:20251102T070000
END:STANDARD
END:VTIMEZONE
BEGIN:VEVENT
DTSTART;TZID=America/Chicago:20241015T160000
DTEND;TZID=America/Chicago:20241015T203000
DTSTAMP:20260425T054343
CREATED:20241013T180813Z
LAST-MODIFIED:20241013T180813Z
UID:10082-1729008000-1729024200@michaelalanis.com
SUMMARY:Tommy Bahama - Marlin Bar
DESCRIPTION:Solo Acoustic Performance \n4 PM – 8 PM
URL:https://michaelalanis.com/event/tommy-bahama-marlin-bar-32/
LOCATION:Tommy Bahama – Marlin Bar\, 15900 La Cantera Pkwy #19110\, San Antonio\, TX\, 78256\, United States
END:VEVENT
BEGIN:VEVENT
DTSTART;TZID=America/Chicago:20241013T080000
DTEND;TZID=America/Chicago:20241013T170000
DTSTAMP:20260425T054343
CREATED:20240903T113706Z
LAST-MODIFIED:20240903T113706Z
UID:10049-1728806400-1728838800@michaelalanis.com
SUMMARY:Renzo's Trattoria e Pizzeria
DESCRIPTION:Solo Acoustic “Brunch” Performance \n12:30 PM – 3:30 PM
URL:https://michaelalanis.com/event/renzos-trattoria-e-pizzeria-4/
LOCATION:Renzo’s Trattoria e Pizzeria\, 4323 N. Loop 1604 W\, Unit 112\, San Antonio\, TX\, 78249\, United States
END:VEVENT
BEGIN:VEVENT
DTSTART;TZID=America/Chicago:20241012T170000
DTEND;TZID=America/Chicago:20241012T233000
DTSTAMP:20260425T054343
CREATED:20241013T180653Z
LAST-MODIFIED:20241013T180653Z
UID:10080-1728752400-1728775800@michaelalanis.com
SUMMARY:Private Wedding
DESCRIPTION:Band
URL:https://michaelalanis.com/event/private-wedding-28/
LOCATION:TX
END:VEVENT
BEGIN:VEVENT
DTSTART;TZID=America/Chicago:20241011T190000
DTEND;TZID=America/Chicago:20241011T230000
DTSTAMP:20260425T054343
CREATED:20241013T180556Z
LAST-MODIFIED:20241013T180556Z
UID:10078-1728673200-1728687600@michaelalanis.com
SUMMARY:The Venues at San Fernando - Private Event
DESCRIPTION:Solo Acoustic Performance \n7 PM – 11 PM
URL:https://michaelalanis.com/event/the-venues-at-san-fernando-private-event/
LOCATION:TX
END:VEVENT
BEGIN:VEVENT
DTSTART;TZID=America/Chicago:20241010T163000
DTEND;TZID=America/Chicago:20241010T193000
DTSTAMP:20260425T054343
CREATED:20241013T180409Z
LAST-MODIFIED:20241013T180409Z
UID:10076-1728577800-1728588600@michaelalanis.com
SUMMARY:Carver Center - Private Event
DESCRIPTION:Solo Acoustic \n4:30 PM – 7:30 PM
URL:https://michaelalanis.com/event/carver-center-private-event/
LOCATION:TX
END:VEVENT
BEGIN:VEVENT
DTSTART;TZID=America/Chicago:20241009T163000
DTEND;TZID=America/Chicago:20241009T203000
DTSTAMP:20260425T054343
CREATED:20241013T180249Z
LAST-MODIFIED:20241013T180249Z
UID:10074-1728491400-1728505800@michaelalanis.com
SUMMARY:Estancia del Norte - Paseo Bar
DESCRIPTION:Solo Acoustic Performance \n4:30 PM – 8:30 PM
URL:https://michaelalanis.com/event/estancia-del-norte-paseo-bar-55/
LOCATION:Estancia del Norte – Paseo Bar\, 37 NE Loop 410 at\, McCullough Ave\, San Antonio\, TX\, 78216\, United States
END:VEVENT
BEGIN:VEVENT
DTSTART;TZID=America/Chicago:20241008T190000
DTEND;TZID=America/Chicago:20241008T220000
DTSTAMP:20260425T054343
CREATED:20241013T180138Z
LAST-MODIFIED:20241013T180138Z
UID:10071-1728414000-1728424800@michaelalanis.com
SUMMARY:Big Bib Too Event Center
DESCRIPTION:Band Performance \n7 PM 10 PM
URL:https://michaelalanis.com/event/big-bib-too-event-center/
LOCATION:Big Bib Too Event center\, 106 Lanark Dr\, San Antonio\, TX\, 78218\, United States
END:VEVENT
BEGIN:VEVENT
DTSTART;TZID=America/Chicago:20241007T190000
DTEND;TZID=America/Chicago:20241007T220000
DTSTAMP:20260425T054343
CREATED:20240903T113457Z
LAST-MODIFIED:20240903T113457Z
UID:10046-1728327600-1728338400@michaelalanis.com
SUMMARY:Hotel Emma - Sternewirth Tavern
DESCRIPTION:Solo Acoustic Performance \n7 PM – 10 PM
URL:https://michaelalanis.com/event/hotel-emma-sternewirth-tavern-21/
LOCATION:Hotel Emma – Sternewirth Tavern\, 136 E Grayson St\, San Antonio\, TX\, 78238\, United States
END:VEVENT
BEGIN:VEVENT
DTSTART;TZID=America/Chicago:20241005T200000
DTEND;TZID=America/Chicago:20241005T230000
DTSTAMP:20260425T054343
CREATED:20241013T175525Z
LAST-MODIFIED:20241013T175555Z
UID:10064-1728158400-1728169200@michaelalanis.com
SUMMARY:Aiden Hotel - "No Vacancy" Speak Easy Bar
DESCRIPTION:Band Performance \n8 PM – 11 PM
URL:https://michaelalanis.com/event/aiden-hotel-no-vacancy-speak-easy-bar-5/
LOCATION:TX
END:VEVENT
BEGIN:VEVENT
DTSTART;TZID=America/Chicago:20241004T220000
DTEND;TZID=America/Chicago:20241004T230000
DTSTAMP:20260425T054343
CREATED:20241013T175838Z
LAST-MODIFIED:20241013T175838Z
UID:10068-1728079200-1728082800@michaelalanis.com
SUMMARY:The Rose San Antonio
DESCRIPTION:Band Performance \n10 PM – 1 PM
URL:https://michaelalanis.com/event/the-rose-san-antonio-4/
LOCATION:The Rose San Antonio\, 420 East Houston St.\, San Antonio\, TX\, 78205\, United States
END:VEVENT
BEGIN:VEVENT
DTSTART;TZID=America/Chicago:20241004T080000
DTEND;TZID=America/Chicago:20241004T170000
DTSTAMP:20260425T054343
CREATED:20241013T175705Z
LAST-MODIFIED:20241013T175705Z
UID:10066-1728028800-1728061200@michaelalanis.com
SUMMARY:Hyatt Regency Riverwalk - Q Bar & Kitchen
DESCRIPTION:Solo Acoustic Performance \n6 PM 9 PM
URL:https://michaelalanis.com/event/hyatt-regency-riverwalk-q-bar-kitchen-62/
LOCATION:Hyatt Regency San Antonio Riverwalk\, 123 Losoya\, San Antonio\, TX\, 78205\, United States
END:VEVENT
BEGIN:VEVENT
DTSTART;TZID=America/Chicago:20241002T160000
DTEND;TZID=America/Chicago:20241002T190000
DTSTAMP:20260425T054343
CREATED:20241013T175340Z
LAST-MODIFIED:20241013T175340Z
UID:10062-1727884800-1727895600@michaelalanis.com
SUMMARY:Estancia del Norte - Paseo Bar
DESCRIPTION:Solo Acoustic Performance \n4 PM – 7 PM
URL:https://michaelalanis.com/event/estancia-del-norte-paseo-bar-54/
LOCATION:Estancia del Norte – Paseo Bar\, 37 NE Loop 410 at\, McCullough Ave\, San Antonio\, TX\, 78216\, United States
END:VEVENT
BEGIN:VEVENT
DTSTART;TZID=America/Chicago:20241001T163000
DTEND;TZID=America/Chicago:20241001T203000
DTSTAMP:20260425T054343
CREATED:20241013T175215Z
LAST-MODIFIED:20241013T175215Z
UID:10060-1727800200-1727814600@michaelalanis.com
SUMMARY:Tommy Bahama - Marlin Bar
DESCRIPTION:Solo Acoustic Performance \n4:30 PM – 8:30 PM
URL:https://michaelalanis.com/event/tommy-bahama-marlin-bar-31/
LOCATION:Tommy Bahama – Marlin Bar\, 15900 La Cantera Pkwy #19110\, San Antonio\, TX\, 78256\, United States
END:VEVENT
BEGIN:VEVENT
DTSTART;TZID=America/Chicago:20240929T110000
DTEND;TZID=America/Chicago:20240929T150000
DTSTAMP:20260425T054343
CREATED:20240903T113251Z
LAST-MODIFIED:20240903T113251Z
UID:10044-1727607600-1727622000@michaelalanis.com
SUMMARY:Qulture - Vibe Dining
DESCRIPTION:Band “Brunch” Performance \n11 AM – 3 PM
URL:https://michaelalanis.com/event/qulture-vibe-dining-2/
LOCATION:Qulturè – Vibe Dining\, 700 E Sonterra Blvd #318\, San Antonio\, TX\, 78258\, United States
END:VEVENT
BEGIN:VEVENT
DTSTART;TZID=America/Chicago:20240928T180000
DTEND;TZID=America/Chicago:20240928T220000
DTSTAMP:20260425T054343
CREATED:20240820T185502Z
LAST-MODIFIED:20240820T185502Z
UID:10012-1727546400-1727560800@michaelalanis.com
SUMMARY:Sky Lounge on Lady Bird at RiverSouth
DESCRIPTION:Band Performance \n6 pm – 10 pm
URL:https://michaelalanis.com/event/sky-lounge-on-lady-bird-at-riversouth-2/
LOCATION:Sky Lounge on Lady Bird at RiverSouth\, 401 S 1st St\, Austin\, TX\, 78704\, United States
END:VEVENT
BEGIN:VEVENT
DTSTART;TZID=America/Chicago:20240927T190000
DTEND;TZID=America/Chicago:20240927T220000
DTSTAMP:20260425T054343
CREATED:20240903T113019Z
LAST-MODIFIED:20240903T113019Z
UID:10042-1727463600-1727474400@michaelalanis.com
SUMMARY:Grand Hyatt - Bar Rojo
DESCRIPTION:Solo Acoustic Performance \n7 PM – 10 PM
URL:https://michaelalanis.com/event/grand-hyatt-bar-rojo-39/
LOCATION:Grand Hyatt – Bar Rojo\, 600 E. Market Street\, San Antonio\, Texas\, 78205\, United States
END:VEVENT
BEGIN:VEVENT
DTSTART;TZID=America/Chicago:20240926T200000
DTEND;TZID=America/Chicago:20240926T230000
DTSTAMP:20260425T054343
CREATED:20240903T112834Z
LAST-MODIFIED:20240903T112834Z
UID:10040-1727380800-1727391600@michaelalanis.com
SUMMARY:Aiden Hotel - No Vacancy Bar
DESCRIPTION:Band Performance \n8 PM – 11 pm
URL:https://michaelalanis.com/event/aiden-hotel-no-vacancy-bar/
LOCATION:TX
END:VEVENT
BEGIN:VEVENT
DTSTART;TZID=America/Chicago:20240925T160000
DTEND;TZID=America/Chicago:20240925T200000
DTSTAMP:20260425T054343
CREATED:20240903T112644Z
LAST-MODIFIED:20240903T112644Z
UID:10037-1727280000-1727294400@michaelalanis.com
SUMMARY:Estancia del Norte - Paseo Bar
DESCRIPTION:Solo Acoustic Performance \n4 PM – 8 PM
URL:https://michaelalanis.com/event/estancia-del-norte-paseo-bar-53/
LOCATION:Estancia del Norte – Paseo Bar\, 37 NE Loop 410 at\, McCullough Ave\, San Antonio\, TX\, 78216\, United States
END:VEVENT
BEGIN:VEVENT
DTSTART;TZID=America/Chicago:20240924T080000
DTEND;TZID=America/Chicago:20240924T170000
DTSTAMP:20260425T054343
CREATED:20240903T112529Z
LAST-MODIFIED:20240903T112529Z
UID:10034-1727164800-1727197200@michaelalanis.com
SUMMARY:Tommy Bahama - Marlin Bar
DESCRIPTION:Solo Acoustic Performance \n4 PM – 8 PM
URL:https://michaelalanis.com/event/tommy-bahama-marlin-bar-30/
LOCATION:Tommy Bahama – Marlin Bar\, 15900 La Cantera Pkwy #19110\, San Antonio\, TX\, 78256\, United States
END:VEVENT
BEGIN:VEVENT
DTSTART;TZID=America/Chicago:20240922T110000
DTEND;TZID=America/Chicago:20240922T150000
DTSTAMP:20260425T054343
CREATED:20240903T111523Z
LAST-MODIFIED:20240903T112419Z
UID:10032-1727002800-1727017200@michaelalanis.com
SUMMARY:Tony G's Soul Food
DESCRIPTION:Band “Brunch” Performance \n11 AM – 3 PM
URL:https://michaelalanis.com/event/tony-gs-soul-food-34/
LOCATION:Tony G’s Soul Food\, 915 S Hackberry\, San Antonio\, TX\, 78210\, United States
END:VEVENT
BEGIN:VEVENT
DTSTART;TZID=America/Chicago:20240921T210000
DTEND;TZID=America/Chicago:20240921T210000
DTSTAMP:20260425T054343
CREATED:20240903T111327Z
LAST-MODIFIED:20240903T111327Z
UID:10030-1726952400-1726952400@michaelalanis.com
SUMMARY:River Sun Jazz Lounge
DESCRIPTION:Band Performance \n9 PM – 12 AM
URL:https://michaelalanis.com/event/river-sun-jazz-lounge/
LOCATION:River Sun\, 1011 Avenue B\, San Antonio\, TX\, 78215\, United States
END:VEVENT
BEGIN:VEVENT
DTSTART;TZID=America/Chicago:20240920T180000
DTEND;TZID=America/Chicago:20240920T210000
DTSTAMP:20260425T054343
CREATED:20240820T185210Z
LAST-MODIFIED:20240820T185210Z
UID:10010-1726855200-1726866000@michaelalanis.com
SUMMARY:Centre Club
DESCRIPTION:Solo Acoustic Performance \n6 pm – 9 pm
URL:https://michaelalanis.com/event/centre-club/
LOCATION:Centre Club San Antonio\, 112 E Pecan St\, San Antonio\, TX\, 78205\, United States
END:VEVENT
BEGIN:VEVENT
DTSTART;TZID=America/Chicago:20240919T180000
DTEND;TZID=America/Chicago:20240919T210000
DTSTAMP:20260425T054343
CREATED:20240820T185100Z
LAST-MODIFIED:20240820T185100Z
UID:10008-1726768800-1726779600@michaelalanis.com
SUMMARY:Witte Museum Dawson Hall - Private Event
DESCRIPTION:Band Performance \n6 pm – 8 pm
URL:https://michaelalanis.com/event/witte-museum-dawson-hall-private-event/
LOCATION:TX
END:VEVENT
BEGIN:VEVENT
DTSTART;TZID=America/Chicago:20240918T163000
DTEND;TZID=America/Chicago:20240918T200000
DTSTAMP:20260425T054343
CREATED:20240820T184855Z
LAST-MODIFIED:20240820T184855Z
UID:10006-1726677000-1726689600@michaelalanis.com
SUMMARY:Estancia del Norte - Paseo Bar
DESCRIPTION:Solo Acoustic Performance \n5 pm – 8 pm
URL:https://michaelalanis.com/event/estancia-del-norte-paseo-bar-51/
LOCATION:Estancia del Norte – Paseo Bar\, 37 NE Loop 410 at\, McCullough Ave\, San Antonio\, TX\, 78216\, United States
END:VEVENT
BEGIN:VEVENT
DTSTART;TZID=America/Chicago:20240917T190000
DTEND;TZID=America/Chicago:20240917T210000
DTSTAMP:20260425T054343
CREATED:20240820T184719Z
LAST-MODIFIED:20240820T184719Z
UID:10004-1726599600-1726606800@michaelalanis.com
SUMMARY:Centre Club - Private Event
DESCRIPTION:Solo Acoustic Performance \n7 pm – 9 pm
URL:https://michaelalanis.com/event/centre-club-private-event/
LOCATION:Centre Club San Antonio\, 112 E Pecan St\, San Antonio\, TX\, 78205\, United States
END:VEVENT
BEGIN:VEVENT
DTSTART;TZID=America/Chicago:20240915T110000
DTEND;TZID=America/Chicago:20240915T150000
DTSTAMP:20260425T054343
CREATED:20240904T173456Z
LAST-MODIFIED:20240904T173456Z
UID:10055-1726398000-1726412400@michaelalanis.com
SUMMARY:The Creek Restaurant - Boerne
DESCRIPTION:Acoustic “Brunch” Performance \n11 AM – 3 PM \nThe Creek Restaurant \n119 Staffel Street \nBoerne\, TX. \nhttp://www.thecreekrestaurant.com/main/index.php
URL:https://michaelalanis.com/event/the-creek-restaurant-boerne/
LOCATION:TX
END:VEVENT
BEGIN:VEVENT
DTSTART;TZID=America/Chicago:20240914T180000
DTEND;TZID=America/Chicago:20240914T210000
DTSTAMP:20260425T054343
CREATED:20240903T110938Z
LAST-MODIFIED:20240903T110938Z
UID:10028-1726336800-1726347600@michaelalanis.com
SUMMARY:Hyatt Regency Riverwalk - Q Bar & Kitchen
DESCRIPTION:Solo Acoustic Performance \n6 PM – 9 PM
URL:https://michaelalanis.com/event/hyatt-regency-riverwalk-q-bar-kitchen-61/
LOCATION:Hyatt Regency San Antonio Riverwalk\, 123 Losoya\, San Antonio\, TX\, 78205\, United States
END:VEVENT
BEGIN:VEVENT
DTSTART;TZID=America/Chicago:20240913T170000
DTEND;TZID=America/Chicago:20240913T200000
DTSTAMP:20260425T054343
CREATED:20240903T110736Z
LAST-MODIFIED:20240903T110736Z
UID:10026-1726246800-1726257600@michaelalanis.com
SUMMARY:Estancia del Norte - Paseo Bar
DESCRIPTION:Solo Acoustic Performance \n5 PM – 8 PM
URL:https://michaelalanis.com/event/estancia-del-norte-paseo-bar-52/
LOCATION:Estancia del Norte – Paseo Bar\, 37 NE Loop 410 at\, McCullough Ave\, San Antonio\, TX\, 78216\, United States
END:VEVENT
BEGIN:VEVENT
DTSTART;TZID=America/Chicago:20240912T200000
DTEND;TZID=America/Chicago:20240912T230000
DTSTAMP:20260425T054343
CREATED:20240820T184520Z
LAST-MODIFIED:20240903T110520Z
UID:10002-1726171200-1726182000@michaelalanis.com
SUMMARY:Aiden Hotel - No Vacancy Bar
DESCRIPTION:Solo Acoustic Performance \n5 pm – 8 pm
URL:https://michaelalanis.com/event/estancia-del-norte-paseo-bar-50/
LOCATION:Aiden Hotel – “No Vacancy” Speak Easy Bar\, 1103 E Comemrce St\, San Antonio\, 78205\, United States
END:VEVENT
BEGIN:VEVENT
DTSTART;TZID=America/Chicago:20240911T170000
DTEND;TZID=America/Chicago:20240911T200000
DTSTAMP:20260425T054343
CREATED:20240820T184417Z
LAST-MODIFIED:20240820T184417Z
UID:10000-1726074000-1726084800@michaelalanis.com
SUMMARY:Estancia del Norte - Paseo Bar
DESCRIPTION:Solo Acoustic Performance \n5 pm – 8 pm
URL:https://michaelalanis.com/event/estancia-del-norte-paseo-bar-49/
LOCATION:Estancia del Norte – Paseo Bar\, 37 NE Loop 410 at\, McCullough Ave\, San Antonio\, TX\, 78216\, United States
END:VEVENT
END:VCALENDAR