BEGIN:VCALENDAR
VERSION:2.0
PRODID:-//Michael Alanis - ECPv6.15.20//NONSGML v1.0//EN
CALSCALE:GREGORIAN
METHOD:PUBLISH
X-ORIGINAL-URL:https://michaelalanis.com
X-WR-CALDESC:Events for Michael Alanis
REFRESH-INTERVAL;VALUE=DURATION:PT1H
X-Robots-Tag:noindex
X-PUBLISHED-TTL:PT1H
BEGIN:VTIMEZONE
TZID:America/Chicago
BEGIN:DAYLIGHT
TZOFFSETFROM:-0600
TZOFFSETTO:-0500
TZNAME:CDT
DTSTART:20230312T080000
END:DAYLIGHT
BEGIN:STANDARD
TZOFFSETFROM:-0500
TZOFFSETTO:-0600
TZNAME:CST
DTSTART:20231105T070000
END:STANDARD
BEGIN:DAYLIGHT
TZOFFSETFROM:-0600
TZOFFSETTO:-0500
TZNAME:CDT
DTSTART:20240310T080000
END:DAYLIGHT
BEGIN:STANDARD
TZOFFSETFROM:-0500
TZOFFSETTO:-0600
TZNAME:CST
DTSTART:20241103T070000
END:STANDARD
BEGIN:DAYLIGHT
TZOFFSETFROM:-0600
TZOFFSETTO:-0500
TZNAME:CDT
DTSTART:20250309T080000
END:DAYLIGHT
BEGIN:STANDARD
TZOFFSETFROM:-0500
TZOFFSETTO:-0600
TZNAME:CST
DTSTART:20251102T070000
END:STANDARD
BEGIN:DAYLIGHT
TZOFFSETFROM:-0600
TZOFFSETTO:-0500
TZNAME:CDT
DTSTART:20260308T080000
END:DAYLIGHT
BEGIN:STANDARD
TZOFFSETFROM:-0500
TZOFFSETTO:-0600
TZNAME:CST
DTSTART:20261101T070000
END:STANDARD
END:VTIMEZONE
BEGIN:VEVENT
DTSTART;TZID=America/Chicago:20241215T170000
DTEND;TZID=America/Chicago:20241215T200000
DTSTAMP:20260425T101255
CREATED:20241208T193258Z
LAST-MODIFIED:20241208T193258Z
UID:10190-1734282000-1734292800@michaelalanis.com
SUMMARY:Private Event
DESCRIPTION:5 PM – 8 PM
URL:https://michaelalanis.com/event/private-event-77/
END:VEVENT
BEGIN:VEVENT
DTSTART;TZID=America/Chicago:20241217T160000
DTEND;TZID=America/Chicago:20241217T200000
DTSTAMP:20260425T101255
CREATED:20241208T193401Z
LAST-MODIFIED:20241208T193828Z
UID:10192-1734451200-1734465600@michaelalanis.com
SUMMARY:Tommy Bahama - Marlin Bar
DESCRIPTION:Solo Acoustic Performance \n4 PM – 8 PM
URL:https://michaelalanis.com/event/tommy-bahama-marlin-bar-40/
LOCATION:Tommy Bahama – Marlin Bar\, 15900 La Cantera Pkwy #19110\, San Antonio\, TX\, 78256\, United States
END:VEVENT
BEGIN:VEVENT
DTSTART;TZID=America/Chicago:20241218T170000
DTEND;TZID=America/Chicago:20241218T200000
DTSTAMP:20260425T101255
CREATED:20241208T193538Z
LAST-MODIFIED:20241208T193538Z
UID:10194-1734541200-1734552000@michaelalanis.com
SUMMARY:Sky Lounge on Lady Bird at RiverSouth
DESCRIPTION:Solo Acoustic Performance \n5 PM – 8 PM
URL:https://michaelalanis.com/event/sky-lounge-on-lady-bird-at-riversouth-4/
LOCATION:Sky Lounge on Lady Bird at RiverSouth\, 401 S 1st St\, Austin\, TX\, 78704\, United States
END:VEVENT
BEGIN:VEVENT
DTSTART;TZID=America/Chicago:20241219T170000
DTEND;TZID=America/Chicago:20241219T200000
DTSTAMP:20260425T101255
CREATED:20241208T193728Z
LAST-MODIFIED:20241208T193918Z
UID:10196-1734627600-1734638400@michaelalanis.com
SUMMARY:Estancia del Norte - Paseo Bar
DESCRIPTION:Solo Acoustic Performance \n5 PM – 8 PM
URL:https://michaelalanis.com/event/estancia-del-norte-paseo-bar-63/
LOCATION:Estancia del Norte – Paseo Bar\, 37 NE Loop 410 at\, McCullough Ave\, San Antonio\, TX\, 78216\, United States
END:VEVENT
BEGIN:VEVENT
DTSTART;TZID=America/Chicago:20241220T200000
DTEND;TZID=America/Chicago:20241220T230000
DTSTAMP:20260425T101255
CREATED:20241208T194605Z
LAST-MODIFIED:20241208T194605Z
UID:10200-1734724800-1734735600@michaelalanis.com
SUMMARY:InterContinental San Antonio Riverwalk - Rooftop Bar
DESCRIPTION:Solo Acoustic Performance \n8 PM – 11 PM
URL:https://michaelalanis.com/event/intercontinental-san-antonio-riverwalk-rooftop-bar/
LOCATION:InterContinental San Antonio Riverwalk\, 111 E Pecan St\, San Antonio\, TX\, 78205\, United States
END:VEVENT
BEGIN:VEVENT
DTSTART;TZID=America/Chicago:20241221T210000
DTEND;TZID=America/Chicago:20241221T230000
DTSTAMP:20260425T101255
CREATED:20241208T194926Z
LAST-MODIFIED:20241208T194926Z
UID:10203-1734814800-1734822000@michaelalanis.com
SUMMARY:Idle Beer Hall & Brewery
DESCRIPTION:Band Performance \n9 PM – 11 PM
URL:https://michaelalanis.com/event/idle-beer-hall-brewery/
LOCATION:Idle Beer Hall & Brewery\, 414 Brooklyn Ave\, San Antonio\, TX\, 78215\, United States
END:VEVENT
BEGIN:VEVENT
DTSTART;TZID=America/Chicago:20241224T170000
DTEND;TZID=America/Chicago:20241224T200000
DTSTAMP:20260425T101255
CREATED:20241217T123837Z
LAST-MODIFIED:20241224T020904Z
UID:10247-1735059600-1735070400@michaelalanis.com
SUMMARY:Ravello Italian Cuisine
DESCRIPTION:Solo Acoustic Performance \n5 PM -8 PM
URL:https://michaelalanis.com/event/ravello-italian-cuisine-2/
LOCATION:Ravello Italian Cuisine\, 4272 TPC Pkwy Suite 110\, San Antonio\, TX\, 78261\, United States
END:VEVENT
BEGIN:VEVENT
DTSTART;TZID=America/Chicago:20241227T200000
DTEND;TZID=America/Chicago:20241227T230000
DTSTAMP:20260425T101255
CREATED:20241208T195623Z
LAST-MODIFIED:20241208T195623Z
UID:10211-1735329600-1735340400@michaelalanis.com
SUMMARY:Aiden Hotel - "No Vacancy" Speak Easy Bar
DESCRIPTION:Band Performance \n8 PM – 11 PM
URL:https://michaelalanis.com/event/aiden-hotel-no-vacancy-speak-easy-bar-8/
END:VEVENT
BEGIN:VEVENT
DTSTART;TZID=America/Chicago:20241228T210000
DTEND;TZID=America/Chicago:20241228T210000
DTSTAMP:20260425T101255
CREATED:20241208T195810Z
LAST-MODIFIED:20241224T020950Z
UID:10213-1735419600-1735419600@michaelalanis.com
SUMMARY:River Sun
DESCRIPTION:Band Performance \n9:30 PM – 12:30 AM
URL:https://michaelalanis.com/event/river-sun-6/
LOCATION:River Sun\, 1011 Avenue B\, San Antonio\, TX\, 78215\, United States
END:VEVENT
BEGIN:VEVENT
DTSTART;TZID=America/Chicago:20241229T200000
DTEND;TZID=America/Chicago:20241229T200000
DTSTAMP:20260425T101255
CREATED:20241217T121412Z
LAST-MODIFIED:20241217T121505Z
UID:10218-1735502400-1735502400@michaelalanis.com
SUMMARY:Hotel Emma - Sternewirth Tavern
DESCRIPTION:Acoustic Duo \nFeaturing – Anthony Thomas Martinez \n8 PM – 12 AM
URL:https://michaelalanis.com/event/hotel-emma-sternewirth-tavern-23/
LOCATION:Sternewirth Tavern\, 136 E Grayson St\, San Antonio\, TX\, 78215\, United States
END:VEVENT
BEGIN:VEVENT
DTSTART;TZID=America/Chicago:20241231T180000
DTEND;TZID=America/Chicago:20241231T220000
DTSTAMP:20260425T101255
CREATED:20241208T195946Z
LAST-MODIFIED:20241208T195946Z
UID:10215-1735668000-1735682400@michaelalanis.com
SUMMARY:JW Marriott - 18 Oaks
DESCRIPTION:Band Performance \n6 PM – 10 PM
URL:https://michaelalanis.com/event/jw-marriott-18-oaks-4/
LOCATION:JW Marriott Resort – 18 Oaks\, 23808 Resort Pkwy\, San Antonio\, TX\, 78261\, United States
END:VEVENT
BEGIN:VEVENT
DTSTART;TZID=America/Chicago:20250103T213000
DTEND;TZID=America/Chicago:20250103T213000
DTSTAMP:20260425T101255
CREATED:20241217T121621Z
LAST-MODIFIED:20241217T121653Z
UID:10220-1735939800-1735939800@michaelalanis.com
SUMMARY:The Rose San Antonio
DESCRIPTION:Band Performance \n9:30 PM – 12:30 PM
URL:https://michaelalanis.com/event/the-rose-san-antonio-8/
LOCATION:The Rose San Antonio\, 420 East Houston St.\, San Antonio\, TX\, 78205\, United States
END:VEVENT
BEGIN:VEVENT
DTSTART;TZID=America/Chicago:20250104T180000
DTEND;TZID=America/Chicago:20250104T210000
DTSTAMP:20260425T101255
CREATED:20241217T122948Z
LAST-MODIFIED:20241217T122948Z
UID:10237-1736013600-1736024400@michaelalanis.com
SUMMARY:Grand Hyatt - Bar Rojo
DESCRIPTION:Solo Acoustic Performance \n6 PM – 9 PM
URL:https://michaelalanis.com/event/grand-hyatt-bar-rojo-40/
LOCATION:Grand Hyatt – Bar Rojo\, 600 E. Market Street\, San Antonio\, Texas\, 78205\, United States
END:VEVENT
BEGIN:VEVENT
DTSTART;TZID=America/Chicago:20250109T190000
DTEND;TZID=America/Chicago:20250109T220000
DTSTAMP:20260425T101255
CREATED:20250113T130338Z
LAST-MODIFIED:20250113T130338Z
UID:10254-1736449200-1736460000@michaelalanis.com
SUMMARY:Ravello Italian Cuisine
DESCRIPTION:Solo acoustic performance \n7 PM – 10 PM
URL:https://michaelalanis.com/event/ravello-italian-cuisine-3/
LOCATION:Ravello Italian Cuisine\, 4272 TPC Pkwy Suite 110\, San Antonio\, TX\, 78261\, United States
END:VEVENT
BEGIN:VEVENT
DTSTART;TZID=America/Chicago:20250110T210000
DTEND;TZID=America/Chicago:20250110T230000
DTSTAMP:20260425T101255
CREATED:20241217T121747Z
LAST-MODIFIED:20241217T121747Z
UID:10223-1736542800-1736550000@michaelalanis.com
SUMMARY:Idle Beer Hall & Brewery
DESCRIPTION:Band Performance \n9 PM – 11 PM
URL:https://michaelalanis.com/event/idle-beer-hall-brewery-2/
LOCATION:Idle Beer Hall & Brewery\, 414 Brooklyn Ave\, San Antonio\, TX\, 78215\, United States
END:VEVENT
BEGIN:VEVENT
DTSTART;TZID=America/Chicago:20250111T183000
DTEND;TZID=America/Chicago:20250111T213000
DTSTAMP:20260425T101255
CREATED:20241217T122113Z
LAST-MODIFIED:20241217T122113Z
UID:10225-1736620200-1736631000@michaelalanis.com
SUMMARY:Texas Pride Barbecue
DESCRIPTION:Band Performance \n6:30 PM – 9:30 PM
URL:https://michaelalanis.com/event/texas-pride-barbecue/
LOCATION:Texas Pride Barbecue\, 2980 E Loop 1604 S Access Rd\, Adkins\, TX\, 78101\, United States
END:VEVENT
BEGIN:VEVENT
DTSTART;TZID=America/Chicago:20250112T110000
DTEND;TZID=America/Chicago:20250112T150000
DTSTAMP:20260425T101255
CREATED:20250113T130513Z
LAST-MODIFIED:20250113T130513Z
UID:10256-1736679600-1736694000@michaelalanis.com
SUMMARY:Tony G's Soul Food
DESCRIPTION:Band “Brunch” Performance \n11 AM – 3 PM
URL:https://michaelalanis.com/event/tony-gs-soul-food-35/
LOCATION:Tony G’s Soul Food\, 915 S Hackberry\, San Antonio\, TX\, 78210\, United States
END:VEVENT
BEGIN:VEVENT
DTSTART;TZID=America/Chicago:20250116T210000
DTEND;TZID=America/Chicago:20250116T230000
DTSTAMP:20260425T101255
CREATED:20250113T130728Z
LAST-MODIFIED:20250113T130728Z
UID:10259-1737061200-1737068400@michaelalanis.com
SUMMARY:Sky Lounge on Lady Bird at RiverSouth
DESCRIPTION:Band Performance \n5:30 PM – 8:00 PM
URL:https://michaelalanis.com/event/sky-lounge-on-lady-bird-at-riversouth-5/
LOCATION:Sky Lounge on Lady Bird at RiverSouth\, 401 S 1st St\, Austin\, TX\, 78704\, United States
END:VEVENT
BEGIN:VEVENT
DTSTART;TZID=America/Chicago:20250117T180000
DTEND;TZID=America/Chicago:20250117T210000
DTSTAMP:20260425T101255
CREATED:20250116T205836Z
LAST-MODIFIED:20250116T205836Z
UID:10279-1737136800-1737147600@michaelalanis.com
SUMMARY:Hyatt Lost Pines - Maude's Bar & Terrace
DESCRIPTION:Solo Acoustic Performance \n6 PM – 9 PM
URL:https://michaelalanis.com/event/hyatt-lost-pines-maudes-bar-terrace/
LOCATION:Hyatt Lost Pines – Maude’s Bar & Terrace\, 575 Hyatt Lost Pines Road\, Lost Pines\, TX\, 78612\, United States
END:VEVENT
BEGIN:VEVENT
DTSTART;TZID=America/Chicago:20250118T180000
DTEND;TZID=America/Chicago:20250118T210000
DTSTAMP:20260425T101255
CREATED:20250113T131003Z
LAST-MODIFIED:20250113T131003Z
UID:10261-1737223200-1737234000@michaelalanis.com
SUMMARY:Hyatt Regency Riverwalk - Q Bar & Kitchen
DESCRIPTION:Solo Acoustic Performance \n6 PM – 9 PM
URL:https://michaelalanis.com/event/hyatt-regency-riverwalk-q-bar-kitchen-64/
LOCATION:Hyatt Regency San Antonio Riverwalk\, 123 Losoya\, San Antonio\, TX\, 78205\, United States
END:VEVENT
BEGIN:VEVENT
DTSTART;TZID=America/Chicago:20250119T190000
DTEND;TZID=America/Chicago:20250119T210000
DTSTAMP:20260425T101255
CREATED:20250113T131155Z
LAST-MODIFIED:20250113T131155Z
UID:10263-1737313200-1737320400@michaelalanis.com
SUMMARY:Private Party
DESCRIPTION:Private Event \n7 PM – 9 PM
URL:https://michaelalanis.com/event/private-party-16/
END:VEVENT
BEGIN:VEVENT
DTSTART;TZID=America/Chicago:20250121T160000
DTEND;TZID=America/Chicago:20250121T200000
DTSTAMP:20260425T101255
CREATED:20250113T131321Z
LAST-MODIFIED:20250113T131321Z
UID:10265-1737475200-1737489600@michaelalanis.com
SUMMARY:Tommy Bahama - Marlin Bar
DESCRIPTION:Solo Acoustic Performance \n4 PM – 8 PM
URL:https://michaelalanis.com/event/tommy-bahama-marlin-bar-41/
END:VEVENT
BEGIN:VEVENT
DTSTART;TZID=America/Chicago:20250123T173000
DTEND;TZID=America/Chicago:20250123T200000
DTSTAMP:20260425T101255
CREATED:20241217T122818Z
LAST-MODIFIED:20241217T122818Z
UID:10235-1737653400-1737662400@michaelalanis.com
SUMMARY:Private Event
DESCRIPTION:Band Performance \n5:30 PM – 8:00 PM
URL:https://michaelalanis.com/event/private-event-78/
END:VEVENT
BEGIN:VEVENT
DTSTART;TZID=America/Chicago:20250124T160000
DTEND;TZID=America/Chicago:20250124T190000
DTSTAMP:20260425T101255
CREATED:20241217T122647Z
LAST-MODIFIED:20250113T131416Z
UID:10233-1737734400-1737745200@michaelalanis.com
SUMMARY:Hotel Emma - Sternewirth Tavern
DESCRIPTION:Acoustic Duo Performance \n4 PM – 7 PM
URL:https://michaelalanis.com/event/hotel-emma-sternewirth-tavern-24/
LOCATION:Hotel Emma – Sternewirth Tavern\, 136 E Grayson St\, San Antonio\, TX\, 78238\, United States
END:VEVENT
BEGIN:VEVENT
DTSTART;TZID=America/Chicago:20250125T200000
DTEND;TZID=America/Chicago:20250125T230000
DTSTAMP:20260425T101255
CREATED:20241218T200548Z
LAST-MODIFIED:20250116T210207Z
UID:10250-1737835200-1737846000@michaelalanis.com
SUMMARY:Aiden Hotel - "No Vacancy" Speak Easy Bar
DESCRIPTION:Band Performance \n8 PM – 11 AM
URL:https://michaelalanis.com/event/river-sun-7/
END:VEVENT
BEGIN:VEVENT
DTSTART;TZID=America/Chicago:20250126T123000
DTEND;TZID=America/Chicago:20250126T153000
DTSTAMP:20260425T101255
CREATED:20250113T131609Z
LAST-MODIFIED:20250113T131609Z
UID:10268-1737894600-1737905400@michaelalanis.com
SUMMARY:Ravello Italian Cuisine
DESCRIPTION:Solo Acoustic Performance \n12:30 PM – 3:30 PM
URL:https://michaelalanis.com/event/ravello-italian-cuisine-4/
LOCATION:Ravello Italian Cuisine\, 4272 TPC Pkwy Suite 110\, San Antonio\, TX\, 78261\, United States
END:VEVENT
BEGIN:VEVENT
DTSTART;TZID=America/Chicago:20250127T180000
DTEND;TZID=America/Chicago:20250127T190000
DTSTAMP:20260425T101255
CREATED:20241217T123317Z
LAST-MODIFIED:20241217T123317Z
UID:10241-1738000800-1738004400@michaelalanis.com
SUMMARY:JW Marriott - 18 Oaks
DESCRIPTION:Solo Acoustic Performance \n6 PM – 7 PM
URL:https://michaelalanis.com/event/jw-marriott-18-oaks-5/
LOCATION:JW Marriott Resort – 18 Oaks\, 23808 Resort Pkwy\, San Antonio\, TX\, 78261\, United States
END:VEVENT
BEGIN:VEVENT
DTSTART;TZID=America/Chicago:20250131T190000
DTEND;TZID=America/Chicago:20250131T220000
DTSTAMP:20260425T101255
CREATED:20241217T123105Z
LAST-MODIFIED:20250113T132921Z
UID:10239-1738350000-1738360800@michaelalanis.com
SUMMARY:Grand Hyatt - Bar Rojo
DESCRIPTION:Solo Acoustic Performance \n7 PM – 10 PM
URL:https://michaelalanis.com/event/grand-hyatt-bar-rojo-41/
LOCATION:Grand Hyatt – Bar Rojo\, 600 E. Market Street\, San Antonio\, Texas\, 78205\, United States
END:VEVENT
BEGIN:VEVENT
DTSTART;TZID=America/Chicago:20250201T213000
DTEND;TZID=America/Chicago:20250201T213000
DTSTAMP:20260425T101255
CREATED:20241217T123432Z
LAST-MODIFIED:20250113T133002Z
UID:10243-1738445400-1738445400@michaelalanis.com
SUMMARY:The Rose San Antonio
DESCRIPTION:Band Performance \n9:30 PM – 12:30 PM
URL:https://michaelalanis.com/event/the-rose-san-antonio-9/
LOCATION:The Rose San Antonio\, 420 East Houston St.\, San Antonio\, TX\, 78205\, United States
END:VEVENT
BEGIN:VEVENT
DTSTART;TZID=America/Chicago:20250204T160000
DTEND;TZID=America/Chicago:20250204T190000
DTSTAMP:20260425T101255
CREATED:20250113T131823Z
LAST-MODIFIED:20250113T131823Z
UID:10270-1738684800-1738695600@michaelalanis.com
SUMMARY:Tommy Bahama - Marlin Bar
DESCRIPTION:Solo Acoustic Performance \n4 PM – 7 PM
URL:https://michaelalanis.com/event/tommy-bahama-marlin-bar-42/
LOCATION:Tommy Bahama – Marlin Bar\, 15900 La Cantera Pkwy #19110\, San Antonio\, TX\, 78256\, United States
END:VEVENT
END:VCALENDAR