BEGIN:VCALENDAR
VERSION:2.0
PRODID:-//Michael Alanis - ECPv6.15.20//NONSGML v1.0//EN
CALSCALE:GREGORIAN
METHOD:PUBLISH
X-ORIGINAL-URL:https://michaelalanis.com
X-WR-CALDESC:Events for Michael Alanis
REFRESH-INTERVAL;VALUE=DURATION:PT1H
X-Robots-Tag:noindex
X-PUBLISHED-TTL:PT1H
BEGIN:VTIMEZONE
TZID:America/Chicago
BEGIN:DAYLIGHT
TZOFFSETFROM:-0600
TZOFFSETTO:-0500
TZNAME:CDT
DTSTART:20230312T080000
END:DAYLIGHT
BEGIN:STANDARD
TZOFFSETFROM:-0500
TZOFFSETTO:-0600
TZNAME:CST
DTSTART:20231105T070000
END:STANDARD
BEGIN:DAYLIGHT
TZOFFSETFROM:-0600
TZOFFSETTO:-0500
TZNAME:CDT
DTSTART:20240310T080000
END:DAYLIGHT
BEGIN:STANDARD
TZOFFSETFROM:-0500
TZOFFSETTO:-0600
TZNAME:CST
DTSTART:20241103T070000
END:STANDARD
BEGIN:DAYLIGHT
TZOFFSETFROM:-0600
TZOFFSETTO:-0500
TZNAME:CDT
DTSTART:20250309T080000
END:DAYLIGHT
BEGIN:STANDARD
TZOFFSETFROM:-0500
TZOFFSETTO:-0600
TZNAME:CST
DTSTART:20251102T070000
END:STANDARD
END:VTIMEZONE
BEGIN:VEVENT
DTSTART;TZID=America/Chicago:20240220T110000
DTEND;TZID=America/Chicago:20240220T140000
DTSTAMP:20260425T060705
CREATED:20240216T132225Z
LAST-MODIFIED:20240216T132544Z
UID:9674-1708426800-1708437600@michaelalanis.com
SUMMARY:Tommy Bahama - Marlin Bar
DESCRIPTION:Solo acoustic performance \n11 AM – 2 PM
URL:https://michaelalanis.com/event/tommy-bahama-marlin-bar/
LOCATION:Tommy Bahama – Marlin Bar\, 15900 La Cantera Pkwy #19110\, San Antonio\, TX\, 78256\, United States
END:VEVENT
BEGIN:VEVENT
DTSTART;TZID=America/Chicago:20240221T080000
DTEND;TZID=America/Chicago:20240221T170000
DTSTAMP:20260425T060705
CREATED:20240201T131139Z
LAST-MODIFIED:20240201T131139Z
UID:9643-1708502400-1708534800@michaelalanis.com
SUMMARY:Estancia del Norte - Paseo Bar
DESCRIPTION:Solo Acoustic Performance \n4 pm – 8 pm
URL:https://michaelalanis.com/event/estancia-del-norte-paseo-bar-37/
LOCATION:Estancia del Norte – Paseo Bar\, 37 NE Loop 410 at\, McCullough Ave\, San Antonio\, TX\, 78216\, United States
END:VEVENT
BEGIN:VEVENT
DTSTART;TZID=America/Chicago:20240223T180000
DTEND;TZID=America/Chicago:20240223T210000
DTSTAMP:20260425T060705
CREATED:20240201T131255Z
LAST-MODIFIED:20240201T131255Z
UID:9645-1708711200-1708722000@michaelalanis.com
SUMMARY:Hyatt Regency Riverwalk - Q Bar & Kitchen
DESCRIPTION:Solo Acoustic Performance \n6 PM – 9 PM
URL:https://michaelalanis.com/event/hyatt-regency-riverwalk-q-bar-kitchen-56/
LOCATION:Hyatt Regency San Antonio Riverwalk\, 123 Losoya\, San Antonio\, TX\, 78205\, United States
END:VEVENT
BEGIN:VEVENT
DTSTART;TZID=America/Chicago:20240224T150000
DTEND;TZID=America/Chicago:20240224T170000
DTSTAMP:20260425T060705
CREATED:20240201T132308Z
LAST-MODIFIED:20240216T132530Z
UID:9651-1708786800-1708794000@michaelalanis.com
SUMMARY:Private Event - Menger Bar
DESCRIPTION:Solo Acoustic Performance \n3 PM – 5 PM
URL:https://michaelalanis.com/event/hyatt-regency-riverwalk-q-bar-kitchen-57/
LOCATION:TX
END:VEVENT
BEGIN:VEVENT
DTSTART;TZID=America/Chicago:20240227T170000
DTEND;TZID=America/Chicago:20240227T210000
DTSTAMP:20260425T060705
CREATED:20240216T132751Z
LAST-MODIFIED:20240216T132808Z
UID:9679-1709053200-1709067600@michaelalanis.com
SUMMARY:Tommy Bahama - Marlin Bar
DESCRIPTION:Solo acoustic performance \n5 PM – 9 PM
URL:https://michaelalanis.com/event/tommy-bahama-marlin-bar-2/
LOCATION:Tommy Bahama – Marlin Bar\, 15900 La Cantera Pkwy #19110\, San Antonio\, TX\, 78256\, United States
END:VEVENT
BEGIN:VEVENT
DTSTART;TZID=America/Chicago:20240228T160000
DTEND;TZID=America/Chicago:20240228T200000
DTSTAMP:20260425T060705
CREATED:20240201T132123Z
LAST-MODIFIED:20240201T132123Z
UID:9649-1709136000-1709150400@michaelalanis.com
SUMMARY:Estancia del Norte - Paseo Bar
DESCRIPTION:Solo Acoustic Performance \n4 pm – 8 pm
URL:https://michaelalanis.com/event/estancia-del-norte-paseo-bar-38/
LOCATION:Estancia del Norte – Paseo Bar\, 37 NE Loop 410 at\, McCullough Ave\, San Antonio\, TX\, 78216\, United States
END:VEVENT
BEGIN:VEVENT
DTSTART;TZID=America/Chicago:20240301T190000
DTEND;TZID=America/Chicago:20240301T220000
DTSTAMP:20260425T060705
CREATED:20240302T131941Z
LAST-MODIFIED:20240302T131941Z
UID:9683-1709319600-1709330400@michaelalanis.com
SUMMARY:Thompson Hotel - The Moon's Daughter's Bar
DESCRIPTION:Solo Acoustic Performance \n7 PM – 10 PM
URL:https://michaelalanis.com/event/thompson-hotel-the-moons-daughters-bar-5/
LOCATION:Thompson Hotel – Moon’s Daughters Rooftop Lounge & Bar\, 115 Lexington Ave\, San Antonio\, TX\, 78205\, United States
END:VEVENT
BEGIN:VEVENT
DTSTART;TZID=America/Chicago:20240302T170000
DTEND;TZID=America/Chicago:20240302T230000
DTSTAMP:20260425T060705
CREATED:20240302T132059Z
LAST-MODIFIED:20240302T132059Z
UID:9685-1709398800-1709420400@michaelalanis.com
SUMMARY:Private Wedding
DESCRIPTION:Band Performance \n 
URL:https://michaelalanis.com/event/private-wedding-24/
LOCATION:TX
END:VEVENT
BEGIN:VEVENT
DTSTART;TZID=America/Chicago:20240303T163000
DTEND;TZID=America/Chicago:20240303T193000
DTSTAMP:20260425T060705
CREATED:20240302T132216Z
LAST-MODIFIED:20240302T132216Z
UID:9687-1709483400-1709494200@michaelalanis.com
SUMMARY:Grand Hyatt - Bar Rojo
DESCRIPTION:Solo Acoustic Performance \n4:40 pm – 7:30 PM
URL:https://michaelalanis.com/event/grand-hyatt-bar-rojo-34/
LOCATION:Grand Hyatt – Bar Rojo\, 600 E. Market Street\, San Antonio\, Texas\, 78205\, United States
END:VEVENT
BEGIN:VEVENT
DTSTART;TZID=America/Chicago:20240304T190000
DTEND;TZID=America/Chicago:20240304T220000
DTSTAMP:20260425T060705
CREATED:20240212T175206Z
LAST-MODIFIED:20240212T175206Z
UID:9659-1709578800-1709589600@michaelalanis.com
SUMMARY:Hotel Emma - Sternewirth Tavern
DESCRIPTION:Solo acoustic performance \n7 pm – 10 pm
URL:https://michaelalanis.com/event/hotel-emma-sternewirth-tavern-16/
LOCATION:Hotel Emma – Sternewirth Tavern\, 136 E Grayson St\, San Antonio\, TX\, 78238\, United States
END:VEVENT
BEGIN:VEVENT
DTSTART;TZID=America/Chicago:20240305T170000
DTEND;TZID=America/Chicago:20240305T190000
DTSTAMP:20260425T060705
CREATED:20240212T175357Z
LAST-MODIFIED:20240212T175357Z
UID:9661-1709658000-1709665200@michaelalanis.com
SUMMARY:Grand Hyatt - Bar Rojo
DESCRIPTION:Duo performance \nfeat:  Jennifer Ezpinosa \n5 pm – 7 pm
URL:https://michaelalanis.com/event/grand-hyatt-bar-rojo-33/
LOCATION:Grand Hyatt – Bar Rojo\, 600 E. Market Street\, San Antonio\, Texas\, 78205\, United States
END:VEVENT
BEGIN:VEVENT
DTSTART;TZID=America/Chicago:20240305T170000
DTEND;TZID=America/Chicago:20240305T190000
DTSTAMP:20260425T060705
CREATED:20240302T132422Z
LAST-MODIFIED:20240302T132422Z
UID:9689-1709658000-1709665200@michaelalanis.com
SUMMARY:Grand Hyatt - Bar Rojo
DESCRIPTION:Duo Performance \nFeat:  Jennifer Ezpinosa \n5 PM – 7 PM
URL:https://michaelalanis.com/event/grand-hyatt-bar-rojo-35/
LOCATION:Grand Hyatt – Bar Rojo\, 600 E. Market Street\, San Antonio\, Texas\, 78205\, United States
END:VEVENT
BEGIN:VEVENT
DTSTART;TZID=America/Chicago:20240306T160000
DTEND;TZID=America/Chicago:20240306T200000
DTSTAMP:20260425T060705
CREATED:20240212T175529Z
LAST-MODIFIED:20240212T175529Z
UID:9663-1709740800-1709755200@michaelalanis.com
SUMMARY:Estancia del Norte - Paseo Bar
DESCRIPTION:Solo acoustic \n4 pm – 8 pm
URL:https://michaelalanis.com/event/estancia-del-norte-paseo-bar-39/
LOCATION:Estancia del Norte – Paseo Bar\, 37 NE Loop 410 at\, McCullough Ave\, San Antonio\, TX\, 78216\, United States
END:VEVENT
BEGIN:VEVENT
DTSTART;TZID=America/Chicago:20240307T190000
DTEND;TZID=America/Chicago:20240307T213000
DTSTAMP:20260425T060705
CREATED:20240212T175628Z
LAST-MODIFIED:20240302T132626Z
UID:9665-1709838000-1709847000@michaelalanis.com
SUMMARY:The Alamo
DESCRIPTION:Duo performance \n7 pm – 9:30 pm
URL:https://michaelalanis.com/event/estancia-del-norte-paseo-bar-40/
LOCATION:TX
END:VEVENT
BEGIN:VEVENT
DTSTART;TZID=America/Chicago:20240308T170000
DTEND;TZID=America/Chicago:20240308T200000
DTSTAMP:20260425T060705
CREATED:20240212T180003Z
LAST-MODIFIED:20240212T180003Z
UID:9667-1709917200-1709928000@michaelalanis.com
SUMMARY:The Weighted Plate - Outdoor Lounge Venue
DESCRIPTION:Solo acoustic performance \n1260 FM1863 \nNew Braunfels\, TX  78132
URL:https://michaelalanis.com/event/the-weighted-plate-outdoor-lounge-venue/
LOCATION:TX
END:VEVENT
BEGIN:VEVENT
DTSTART;TZID=America/Chicago:20240309T170000
DTEND;TZID=America/Chicago:20240309T200000
DTSTAMP:20260425T060705
CREATED:20240305T130900Z
LAST-MODIFIED:20240305T131343Z
UID:9737-1710003600-1710014400@michaelalanis.com
SUMMARY:Hyatt Hill Country - Springhouse Cafe
DESCRIPTION:Solo acoustic performance \n5 PM – 8 PM
URL:https://michaelalanis.com/event/hyatt-hill-country-9/
LOCATION:Hyatt Regency Hill Country Resort – Springhouse Cafe\, 9800 Hyatt Resort Drive\, San Antonio\, TX\, 782251\, United States
END:VEVENT
BEGIN:VEVENT
DTSTART;TZID=America/Chicago:20240309T220000
DTEND;TZID=America/Chicago:20240309T235900
DTSTAMP:20260425T060705
CREATED:20240212T180118Z
LAST-MODIFIED:20240305T130518Z
UID:9669-1710021600-1710028740@michaelalanis.com
SUMMARY:River Sun
DESCRIPTION:Band performance \n10 pm – 1 AM
URL:https://michaelalanis.com/event/river-sun/
LOCATION:River Sun\, 1011 Avenue B\, San Antonio\, TX\, 78215\, United States
END:VEVENT
BEGIN:VEVENT
DTSTART;TZID=America/Chicago:20240310T170000
DTEND;TZID=America/Chicago:20240310T200000
DTSTAMP:20260425T060705
CREATED:20240304T211217Z
LAST-MODIFIED:20240304T211217Z
UID:9726-1710090000-1710100800@michaelalanis.com
SUMMARY:Private Event
DESCRIPTION:Private Event
URL:https://michaelalanis.com/event/private-event-56/
LOCATION:TX
END:VEVENT
BEGIN:VEVENT
DTSTART;TZID=America/Chicago:20240311T180000
DTEND;TZID=America/Chicago:20240311T210000
DTSTAMP:20260425T060705
CREATED:20240302T133044Z
LAST-MODIFIED:20240304T211304Z
UID:9693-1710180000-1710190800@michaelalanis.com
SUMMARY:Hyatt Lost Pines - Maude's Lobby Bar
DESCRIPTION:Solo acoustic performance \n6 pm – 9 pm
URL:https://michaelalanis.com/event/hyatt-lost-pines-shellers-barrelhouse-bar-2/
LOCATION:Hyatt Lost Pines – Shellers Barrelhouse Bar\, 575 Hyatt Lost Pines Rd\, Ceadar Creek\, TX\, 78612\, United States
END:VEVENT
BEGIN:VEVENT
DTSTART;TZID=America/Chicago:20240312T170000
DTEND;TZID=America/Chicago:20240312T210000
DTSTAMP:20260425T060705
CREATED:20240302T133239Z
LAST-MODIFIED:20240302T133239Z
UID:9695-1710262800-1710277200@michaelalanis.com
SUMMARY:Tommy Bahama - Marlin Bar
DESCRIPTION:Solo Acoustic Performance \n5 pm – 9 pm
URL:https://michaelalanis.com/event/tommy-bahama-marlin-bar-3/
LOCATION:Tommy Bahama – Marlin Bar\, 15900 La Cantera Pkwy #19110\, San Antonio\, TX\, 78256\, United States
END:VEVENT
BEGIN:VEVENT
DTSTART;TZID=America/Chicago:20240313T160000
DTEND;TZID=America/Chicago:20240313T200000
DTSTAMP:20260425T060705
CREATED:20240302T133405Z
LAST-MODIFIED:20240302T133405Z
UID:9697-1710345600-1710360000@michaelalanis.com
SUMMARY:Estancia del Norte - Paseo Bar
DESCRIPTION:Solo Acoustic Performance \n4 pm – 8 pm
URL:https://michaelalanis.com/event/estancia-del-norte-paseo-bar-41/
LOCATION:Estancia del Norte – Paseo Bar\, 37 NE Loop 410 at\, McCullough Ave\, San Antonio\, TX\, 78216\, United States
END:VEVENT
BEGIN:VEVENT
DTSTART;TZID=America/Chicago:20240315T173000
DTEND;TZID=America/Chicago:20240315T203000
DTSTAMP:20260425T060705
CREATED:20240302T133730Z
LAST-MODIFIED:20240302T133730Z
UID:9701-1710523800-1710534600@michaelalanis.com
SUMMARY:Hyatt Hill Country - Springhouse Cafe
DESCRIPTION:Solo acoustic performance \n5:30 pm – 8:30 pm
URL:https://michaelalanis.com/event/hyatt-hill-country-springhouse-cafe-2/
LOCATION:Hyatt Regency Hill Country Resort – Springhouse Cafe\, 9800 Hyatt Resort Drive\, San Antonio\, TX\, 782251\, United States
END:VEVENT
BEGIN:VEVENT
DTSTART;TZID=America/Chicago:20240316T123000
DTEND;TZID=America/Chicago:20240316T140000
DTSTAMP:20260425T060705
CREATED:20240302T133905Z
LAST-MODIFIED:20240302T133905Z
UID:9703-1710592200-1710597600@michaelalanis.com
SUMMARY:The Rustic SA
DESCRIPTION:Solo acoustic performance \n12:30 pm – 2:00 pm
URL:https://michaelalanis.com/event/the-rustic-sa-24/
LOCATION:The Rustic – San Antonio\, 17619 La Cantera Pkwy #204\, San Antonio\, TX\, 78257\, United States
END:VEVENT
BEGIN:VEVENT
DTSTART;TZID=America/Chicago:20240316T180000
DTEND;TZID=America/Chicago:20240316T210000
DTSTAMP:20260425T060705
CREATED:20240302T134024Z
LAST-MODIFIED:20240302T134024Z
UID:9705-1710612000-1710622800@michaelalanis.com
SUMMARY:Hyatt Regency Riverwalk - Q Bar & Kitchen
DESCRIPTION:Solo acoustic performance \n6 pm – 9 pm
URL:https://michaelalanis.com/event/hyatt-regency-riverwalk-q-bar-kitchen-53/
LOCATION:Hyatt Regency San Antonio Riverwalk\, 123 Losoya\, San Antonio\, TX\, 78205\, United States
END:VEVENT
BEGIN:VEVENT
DTSTART;TZID=America/Chicago:20240317T170000
DTEND;TZID=America/Chicago:20240317T210000
DTSTAMP:20260425T060705
CREATED:20240302T134158Z
LAST-MODIFIED:20240302T135549Z
UID:9707-1710694800-1710709200@michaelalanis.com
SUMMARY:Stonewerks - The Rim (St Patrick's Day)
DESCRIPTION:Band Performance \n5 pm – 9 pm
URL:https://michaelalanis.com/event/stonewerks-the-rim-st-patricks-day/
LOCATION:Stone Werks – The Rim\, 5807 Worth Pkwy\, San Antonio\, TX\, 78257\, United States
END:VEVENT
BEGIN:VEVENT
DTSTART;TZID=America/Chicago:20240319T170000
DTEND;TZID=America/Chicago:20240319T210000
DTSTAMP:20260425T060705
CREATED:20240302T134344Z
LAST-MODIFIED:20240302T134406Z
UID:9709-1710867600-1710882000@michaelalanis.com
SUMMARY:Tommy Bahama - Marlin Bar
DESCRIPTION:Solo acoustic performance \n5 pm – 9 pm
URL:https://michaelalanis.com/event/tommy-bahama-marlin-bar-4/
LOCATION:Tommy Bahama – Marlin Bar\, 15900 La Cantera Pkwy #19110\, San Antonio\, TX\, 78256\, United States
END:VEVENT
BEGIN:VEVENT
DTSTART;TZID=America/Chicago:20240322T200000
DTEND;TZID=America/Chicago:20240322T230000
DTSTAMP:20260425T060705
CREATED:20240302T134756Z
LAST-MODIFIED:20240304T210818Z
UID:9716-1711137600-1711148400@michaelalanis.com
SUMMARY:Grand Hyatt - Bar Rojo
DESCRIPTION:Solo acoustic performance \n8 pm – 11 pm
URL:https://michaelalanis.com/event/grand-hyatt-bar-rojo-36/
LOCATION:Grand Hyatt – Bar Rojo\, 600 E. Market Street\, San Antonio\, Texas\, 78205\, United States
END:VEVENT
BEGIN:VEVENT
DTSTART;TZID=America/Chicago:20240323T170000
DTEND;TZID=America/Chicago:20240323T210000
DTSTAMP:20260425T060705
CREATED:20240302T134917Z
LAST-MODIFIED:20240302T134917Z
UID:9718-1711213200-1711227600@michaelalanis.com
SUMMARY:Tommy Bahama - Marlin Bar
DESCRIPTION:Solo acoustic performance \n5 pm – 9 pm
URL:https://michaelalanis.com/event/tommy-bahama-marlin-bar-5/
LOCATION:Tommy Bahama – Marlin Bar\, 15900 La Cantera Pkwy #19110\, San Antonio\, TX\, 78256\, United States
END:VEVENT
BEGIN:VEVENT
DTSTART;TZID=America/Chicago:20240324T123000
DTEND;TZID=America/Chicago:20240324T153000
DTSTAMP:20260425T060705
CREATED:20240302T135203Z
LAST-MODIFIED:20240302T135203Z
UID:9720-1711283400-1711294200@michaelalanis.com
SUMMARY:Renzo's Trattoria e Pizzaria
DESCRIPTION:Solo acoustic performance \n23:30 pm – 3:30 pm
URL:https://michaelalanis.com/event/renzos-trattoria-e-pizzaria/
LOCATION:Renzo’s Trattoria e Pizzeria\, 4323 N. Loop 1604 W\, Unit 112\, San Antonio\, TX\, 78249\, United States
END:VEVENT
BEGIN:VEVENT
DTSTART;TZID=America/Chicago:20240326T170000
DTEND;TZID=America/Chicago:20240326T210000
DTSTAMP:20260425T060705
CREATED:20240302T135401Z
LAST-MODIFIED:20240302T135401Z
UID:9722-1711472400-1711486800@michaelalanis.com
SUMMARY:Tommy Bahama - Marlin Bar
DESCRIPTION:Solo acoustic performance \n5 pm – 9 pm
URL:https://michaelalanis.com/event/tommy-bahama-marlin-bar-6/
LOCATION:Tommy Bahama – Marlin Bar\, 15900 La Cantera Pkwy #19110\, San Antonio\, TX\, 78256\, United States
END:VEVENT
END:VCALENDAR