BEGIN:VCALENDAR
VERSION:2.0
PRODID:-//Michael Alanis - ECPv6.15.20//NONSGML v1.0//EN
CALSCALE:GREGORIAN
METHOD:PUBLISH
X-ORIGINAL-URL:https://michaelalanis.com
X-WR-CALDESC:Events for Michael Alanis
REFRESH-INTERVAL;VALUE=DURATION:PT1H
X-Robots-Tag:noindex
X-PUBLISHED-TTL:PT1H
BEGIN:VTIMEZONE
TZID:America/Chicago
BEGIN:DAYLIGHT
TZOFFSETFROM:-0600
TZOFFSETTO:-0500
TZNAME:CDT
DTSTART:20220313T080000
END:DAYLIGHT
BEGIN:STANDARD
TZOFFSETFROM:-0500
TZOFFSETTO:-0600
TZNAME:CST
DTSTART:20221106T070000
END:STANDARD
BEGIN:DAYLIGHT
TZOFFSETFROM:-0600
TZOFFSETTO:-0500
TZNAME:CDT
DTSTART:20230312T080000
END:DAYLIGHT
BEGIN:STANDARD
TZOFFSETFROM:-0500
TZOFFSETTO:-0600
TZNAME:CST
DTSTART:20231105T070000
END:STANDARD
BEGIN:DAYLIGHT
TZOFFSETFROM:-0600
TZOFFSETTO:-0500
TZNAME:CDT
DTSTART:20240310T080000
END:DAYLIGHT
BEGIN:STANDARD
TZOFFSETFROM:-0500
TZOFFSETTO:-0600
TZNAME:CST
DTSTART:20241103T070000
END:STANDARD
END:VTIMEZONE
BEGIN:VEVENT
DTSTART;TZID=America/Chicago:20231012T190000
DTEND;TZID=America/Chicago:20231012T230000
DTSTAMP:20260425T112731
CREATED:20230922T113212Z
LAST-MODIFIED:20230922T113212Z
UID:9498-1697137200-1697151600@michaelalanis.com
SUMMARY:Stone Werks - Culebra Commons
DESCRIPTION:Band Performance \n7 pm – 11 pm
URL:https://michaelalanis.com/event/stone-werks-culebra-commons-4/
LOCATION:Stone Werks – Culebra Commons\, 6626 W Loop 1604 N\, San Antonio\, TX\, 78254\, United States
END:VEVENT
BEGIN:VEVENT
DTSTART;TZID=America/Chicago:20231013T190000
DTEND;TZID=America/Chicago:20231013T230000
DTSTAMP:20260425T112731
CREATED:20230922T113441Z
LAST-MODIFIED:20230922T113441Z
UID:9500-1697223600-1697238000@michaelalanis.com
SUMMARY:Stone Werks - The Rim
DESCRIPTION:Band Performance \n7 pm – 11 pm
URL:https://michaelalanis.com/event/stone-werks-the-rim-12/
LOCATION:Stone Werks – The Rim\, 5807 Worth Pkwy\, San Antonio\, TX\, 78257\, United States
END:VEVENT
BEGIN:VEVENT
DTSTART;TZID=America/Chicago:20231014T200000
DTEND;TZID=America/Chicago:20231014T230000
DTSTAMP:20260425T112731
CREATED:20230909T190143Z
LAST-MODIFIED:20230909T190143Z
UID:9462-1697313600-1697324400@michaelalanis.com
SUMMARY:Senorita's Wine Bar
DESCRIPTION:Solo Acoustic Performance \n8 pm – 11pm
URL:https://michaelalanis.com/event/senoritas-wine-bar-2/
LOCATION:Senoritas Wine Bar\, 5514 Lone Star Pkwy #109\, San Antonio\, TX\, 78253\, United States
END:VEVENT
BEGIN:VEVENT
DTSTART;TZID=America/Chicago:20231015T100000
DTEND;TZID=America/Chicago:20231015T130000
DTSTAMP:20260425T112731
CREATED:20230909T190302Z
LAST-MODIFIED:20230909T190302Z
UID:9464-1697364000-1697374800@michaelalanis.com
SUMMARY:Hotel Contessa - Ambler Bar
DESCRIPTION:Solo Acoustic Performance \n10 am – 1 pm
URL:https://michaelalanis.com/event/hotel-contessa-ambler-bar-20/
LOCATION:Hotel Contessa- Ambler Bar\, 306 W Market St\, San Antonio\, TX\, United States
END:VEVENT
BEGIN:VEVENT
DTSTART;TZID=America/Chicago:20231019T173000
DTEND;TZID=America/Chicago:20231019T203000
DTSTAMP:20260425T112731
CREATED:20230909T190418Z
LAST-MODIFIED:20230909T190418Z
UID:9466-1697736600-1697747400@michaelalanis.com
SUMMARY:Private Event
DESCRIPTION:Private Event \nBand Performance \n5:30 pm – 8:30 pm
URL:https://michaelalanis.com/event/private-event-50/
LOCATION:TX
END:VEVENT
BEGIN:VEVENT
DTSTART;TZID=America/Chicago:20231020T180000
DTEND;TZID=America/Chicago:20231020T210000
DTSTAMP:20260425T112731
CREATED:20230922T113621Z
LAST-MODIFIED:20230922T113621Z
UID:9502-1697824800-1697835600@michaelalanis.com
SUMMARY:Hyatt Regency Riverwalk - Q-Bar & Kitchen
DESCRIPTION:Solo Acoustic Performance \n6 pm – 9 pm
URL:https://michaelalanis.com/event/hyatt-regency-riverwalk-q-bar-kitchen-42/
LOCATION:Hyatt Regency San Antonio Riverwalk\, 123 Losoya\, San Antonio\, TX\, 78205\, United States
END:VEVENT
BEGIN:VEVENT
DTSTART;TZID=America/Chicago:20231021T080000
DTEND;TZID=America/Chicago:20231021T170000
DTSTAMP:20260425T112731
CREATED:20230909T191051Z
LAST-MODIFIED:20230909T191051Z
UID:9468-1697875200-1697907600@michaelalanis.com
SUMMARY:Redland Estates Festival
DESCRIPTION:Solo Acoustic Performance \n5:30 pm – 7:30 pm
URL:https://michaelalanis.com/event/redland-estates-festival/
LOCATION:TX
END:VEVENT
BEGIN:VEVENT
DTSTART;TZID=America/Chicago:20231021T123000
DTEND;TZID=America/Chicago:20231021T140000
DTSTAMP:20260425T112731
CREATED:20230909T191200Z
LAST-MODIFIED:20230909T191200Z
UID:9470-1697891400-1697896800@michaelalanis.com
SUMMARY:The Rustic - SA
DESCRIPTION:Solo Acoustic Performance \n12:30 pm – 2:00 pm
URL:https://michaelalanis.com/event/the-rustic-sa-20/
LOCATION:The Rustic – San Antonio\, 17619 La Cantera Pkwy #204\, San Antonio\, TX\, 78257\, United States
END:VEVENT
BEGIN:VEVENT
DTSTART;TZID=America/Chicago:20231021T210000
DTEND;TZID=America/Chicago:20231021T235900
DTSTAMP:20260425T112731
CREATED:20230909T191850Z
LAST-MODIFIED:20230909T191850Z
UID:9472-1697922000-1697932740@michaelalanis.com
SUMMARY:LUNA - w/ Special Guest
DESCRIPTION:Band Performance \nw/special guest – Jennifer Espinoza \n9 pm – 12 am
URL:https://michaelalanis.com/event/luna-w-special-guest/
LOCATION:Hyatt Hill Country Resort – Luckenbach Pavillion\, 9800 Hyatt Resort Dr.\, San Antonio\, TX\, 78251\, United States
END:VEVENT
BEGIN:VEVENT
DTSTART;TZID=America/Chicago:20231022T100000
DTEND;TZID=America/Chicago:20231022T130000
DTSTAMP:20260425T112731
CREATED:20230909T192025Z
LAST-MODIFIED:20230909T192025Z
UID:9474-1697968800-1697979600@michaelalanis.com
SUMMARY:Hotel Contessa - Ambler Bar
DESCRIPTION:Solo Acoustic Performance \n10 am – 1 pm
URL:https://michaelalanis.com/event/hotel-contessa-ambler-bar-21/
LOCATION:Hotel Contessa- Ambler Bar\, 306 W Market St\, San Antonio\, TX\, United States
END:VEVENT
BEGIN:VEVENT
DTSTART;TZID=America/Chicago:20231023T190000
DTEND;TZID=America/Chicago:20231023T220000
DTSTAMP:20260425T112731
CREATED:20230909T192156Z
LAST-MODIFIED:20230909T192156Z
UID:9476-1698087600-1698098400@michaelalanis.com
SUMMARY:Hotel Emma - Sternewirth Tavern
DESCRIPTION:Solo Acoustic Performance \n7 pm – 10 pm
URL:https://michaelalanis.com/event/hotel-emma-sternewirth-tavern-14/
LOCATION:Hotel Emma – Sternewirth Tavern\, 136 E Grayson St\, San Antonio\, TX\, 78238\, United States
END:VEVENT
BEGIN:VEVENT
DTSTART;TZID=America/Chicago:20231026T190000
DTEND;TZID=America/Chicago:20231026T230000
DTSTAMP:20260425T112731
CREATED:20230922T113820Z
LAST-MODIFIED:20230922T113820Z
UID:9504-1698346800-1698361200@michaelalanis.com
SUMMARY:Stone Werks - Culebra Commons
DESCRIPTION:Band Performance \n7 pm – 11 pm
URL:https://michaelalanis.com/event/stone-werks-culebra-commons-5/
LOCATION:Stone Werks – Culebra Commons\, 6626 W Loop 1604 N\, San Antonio\, TX\, 78254\, United States
END:VEVENT
BEGIN:VEVENT
DTSTART;TZID=America/Chicago:20231027T180000
DTEND;TZID=America/Chicago:20231027T210000
DTSTAMP:20260425T112731
CREATED:20230922T114152Z
LAST-MODIFIED:20230922T114152Z
UID:9506-1698429600-1698440400@michaelalanis.com
SUMMARY:Hyatt Regency Riverwalk - Q-Bar & Kitchen
DESCRIPTION:Solo Acoustic Performance \n6 pm – 9 pm
URL:https://michaelalanis.com/event/hyatt-regency-riverwalk-q-bar-kitchen-43/
LOCATION:Hyatt Regency San Antonio Riverwalk\, 123 Losoya\, San Antonio\, TX\, 78205\, United States
END:VEVENT
BEGIN:VEVENT
DTSTART;TZID=America/Chicago:20231028T173000
DTEND;TZID=America/Chicago:20231028T193000
DTSTAMP:20260425T112731
CREATED:20230909T192301Z
LAST-MODIFIED:20230909T192301Z
UID:9478-1698514200-1698521400@michaelalanis.com
SUMMARY:Private Event
DESCRIPTION:Private Event \n5:30 pm – 7:30 pm
URL:https://michaelalanis.com/event/private-event-51/
LOCATION:TX
END:VEVENT
BEGIN:VEVENT
DTSTART;TZID=America/Chicago:20231029T170000
DTEND;TZID=America/Chicago:20231029T210000
DTSTAMP:20260425T112731
CREATED:20230909T192422Z
LAST-MODIFIED:20230909T192422Z
UID:9480-1698598800-1698613200@michaelalanis.com
SUMMARY:Private Event
DESCRIPTION:Private Event \nBand Performance \n5 pm – 9 pm \n 
URL:https://michaelalanis.com/event/private-event-52/
LOCATION:TX
END:VEVENT
BEGIN:VEVENT
DTSTART;TZID=America/Chicago:20231101T173000
DTEND;TZID=America/Chicago:20231101T203000
DTSTAMP:20260425T112731
CREATED:20230922T114412Z
LAST-MODIFIED:20230922T114412Z
UID:9508-1698859800-1698870600@michaelalanis.com
SUMMARY:Hyatt Hill Country Resort - Sunday House
DESCRIPTION:Solo Acoustic Performance \n5:30 pm – 8:30 pm
URL:https://michaelalanis.com/event/hyatt-hill-country-resort-sunday-house/
LOCATION:Hyatt Regency Hill Country Resort – Springhouse Cafe\, 9800 Hyatt Resort Drive\, San Antonio\, TX\, 782251\, United States
END:VEVENT
BEGIN:VEVENT
DTSTART;TZID=America/Chicago:20231102T173000
DTEND;TZID=America/Chicago:20231102T200000
DTSTAMP:20260425T112731
CREATED:20230913T113802Z
LAST-MODIFIED:20230913T113802Z
UID:9487-1698946200-1698955200@michaelalanis.com
SUMMARY:Quarry Golf Club - Patio
DESCRIPTION:Band Performance \n5:30 pm – 8:00 pm
URL:https://michaelalanis.com/event/quarry-golf-club-patio/
LOCATION:The Quarry Golf Club\, 444 E Basse Rd\, San Antonio\, TX\, 78209\, United States
END:VEVENT
BEGIN:VEVENT
DTSTART;TZID=America/Chicago:20231103T180000
DTEND;TZID=America/Chicago:20231103T210000
DTSTAMP:20260425T112731
CREATED:20231105T153347Z
LAST-MODIFIED:20231105T153436Z
UID:9517-1699034400-1699045200@michaelalanis.com
SUMMARY:Hyatt Regency Riverwalk - Q Bar & Kitchen
DESCRIPTION:Solo Acoustic Performance \n6 PM – 9 PM
URL:https://michaelalanis.com/event/hyatt-regency-riverwalk-q-bar-kitchen-44/
LOCATION:Hyatt Regency San Antonio Riverwalk\, 123 Losoya\, San Antonio\, TX\, 78205\, United States
END:VEVENT
BEGIN:VEVENT
DTSTART;TZID=America/Chicago:20231104T170000
DTEND;TZID=America/Chicago:20231104T200000
DTSTAMP:20260425T112731
CREATED:20230913T113924Z
LAST-MODIFIED:20230913T113924Z
UID:9489-1699117200-1699128000@michaelalanis.com
SUMMARY:Private Event
DESCRIPTION:Private Event \n5 pm – 8 pm
URL:https://michaelalanis.com/event/private-event-53/
LOCATION:TX
END:VEVENT
BEGIN:VEVENT
DTSTART;TZID=America/Chicago:20231105T100000
DTEND;TZID=America/Chicago:20231105T130000
DTSTAMP:20260425T112731
CREATED:20231105T153637Z
LAST-MODIFIED:20231105T153637Z
UID:9519-1699178400-1699189200@michaelalanis.com
SUMMARY:United Way Event
DESCRIPTION:Private Event – Fredericksburg\, TX \nBand Performance \n10 AM – 1 PM
URL:https://michaelalanis.com/event/united-way-event/
LOCATION:TX
END:VEVENT
BEGIN:VEVENT
DTSTART;TZID=America/Chicago:20231108T160000
DTEND;TZID=America/Chicago:20231108T190000
DTSTAMP:20260425T112731
CREATED:20231105T153932Z
LAST-MODIFIED:20231105T153932Z
UID:9521-1699459200-1699470000@michaelalanis.com
SUMMARY:Cellars At Pearl
DESCRIPTION:Solo Acoustic Performance \n4 PM – 7 PM
URL:https://michaelalanis.com/event/cellars-at-pearl/
LOCATION:TX
END:VEVENT
BEGIN:VEVENT
DTSTART;TZID=America/Chicago:20231109T160000
DTEND;TZID=America/Chicago:20231109T190000
DTSTAMP:20260425T112731
CREATED:20231105T154105Z
LAST-MODIFIED:20231105T154105Z
UID:9523-1699545600-1699556400@michaelalanis.com
SUMMARY:Estancia del Norte - Paseo Bar
DESCRIPTION:Solo Acoustic Performance \n4 PM – 7 PM
URL:https://michaelalanis.com/event/estancia-del-norte-paseo-bar-28/
LOCATION:Estancia del Norte – Paseo Bar\, 37 NE Loop 410 at\, McCullough Ave\, San Antonio\, TX\, 78216\, United States
END:VEVENT
BEGIN:VEVENT
DTSTART;TZID=America/Chicago:20231110T180000
DTEND;TZID=America/Chicago:20231110T210000
DTSTAMP:20260425T112731
CREATED:20230922T114637Z
LAST-MODIFIED:20230922T114637Z
UID:9510-1699639200-1699650000@michaelalanis.com
SUMMARY:San Antonio River Authority
DESCRIPTION:Solo Acoustic Performance \n6 pm – 9 pm
URL:https://michaelalanis.com/event/san-antonio-river-authority/
LOCATION:TX
END:VEVENT
BEGIN:VEVENT
DTSTART;TZID=America/Chicago:20231111T123000
DTEND;TZID=America/Chicago:20231111T140000
DTSTAMP:20260425T112731
CREATED:20231105T154355Z
LAST-MODIFIED:20231105T154355Z
UID:9525-1699705800-1699711200@michaelalanis.com
SUMMARY:The Rustic - SA
DESCRIPTION:Solo Acoustic Performance \n12:30 PM – 2:00 PM
URL:https://michaelalanis.com/event/the-rustic-sa-22/
LOCATION:The Rustic – San Antonio\, 17619 La Cantera Pkwy #204\, San Antonio\, TX\, 78257\, United States
END:VEVENT
BEGIN:VEVENT
DTSTART;TZID=America/Chicago:20231111T213000
DTEND;TZID=America/Chicago:20231111T230000
DTSTAMP:20260425T112731
CREATED:20230913T114057Z
LAST-MODIFIED:20230913T114057Z
UID:9491-1699738200-1699743600@michaelalanis.com
SUMMARY:The Rustic - SA
DESCRIPTION:Band Performance \n9:30 pm – 11:00 PM
URL:https://michaelalanis.com/event/the-rustic-sa-21/
LOCATION:The Rustic – San Antonio\, 17619 La Cantera Pkwy #204\, San Antonio\, TX\, 78257\, United States
END:VEVENT
BEGIN:VEVENT
DTSTART;TZID=America/Chicago:20231115T160000
DTEND;TZID=America/Chicago:20231115T190000
DTSTAMP:20260425T112731
CREATED:20231105T154554Z
LAST-MODIFIED:20231105T154554Z
UID:9527-1700064000-1700074800@michaelalanis.com
SUMMARY:Estancia del Norte - Paseo Bar
DESCRIPTION:Solo Acoustic Performance \n4 PM – 7 PM
URL:https://michaelalanis.com/event/estancia-del-norte-paseo-bar-29/
LOCATION:Estancia del Norte – Paseo Bar\, 37 NE Loop 410 at\, McCullough Ave\, San Antonio\, TX\, 78216\, United States
END:VEVENT
BEGIN:VEVENT
DTSTART;TZID=America/Chicago:20231116T160000
DTEND;TZID=America/Chicago:20231116T190000
DTSTAMP:20260425T112731
CREATED:20231105T155131Z
LAST-MODIFIED:20231105T155131Z
UID:9539-1700150400-1700161200@michaelalanis.com
SUMMARY:Private Event
DESCRIPTION:Solo Acoustic Performance \n4 PM – 7 PM
URL:https://michaelalanis.com/event/private-event-48/
LOCATION:TX
END:VEVENT
BEGIN:VEVENT
DTSTART;TZID=America/Chicago:20231117T190000
DTEND;TZID=America/Chicago:20231117T230000
DTSTAMP:20260425T112731
CREATED:20231105T155257Z
LAST-MODIFIED:20231117T161919Z
UID:9541-1700247600-1700262000@michaelalanis.com
SUMMARY:Stone Werks - The Rim
DESCRIPTION:Band Performance \nSpecial Guest:  Jennifer Ezpinoza & Stormy Anderson \n7 PM – 11 PM
URL:https://michaelalanis.com/event/hyatt-regency-riverwalk-q-bar-kitchen-45/
LOCATION:Stone Werks – The Rim\, 5807 Worth Pkwy\, San Antonio\, TX\, 78257\, United States
END:VEVENT
BEGIN:VEVENT
DTSTART;TZID=America/Chicago:20231118T170000
DTEND;TZID=America/Chicago:20231118T230000
DTSTAMP:20260425T112731
CREATED:20231105T155417Z
LAST-MODIFIED:20231105T155417Z
UID:9543-1700326800-1700348400@michaelalanis.com
SUMMARY:Private Wedding
DESCRIPTION:Band Performance \n5 PM – 11 PM
URL:https://michaelalanis.com/event/private-wedding-20/
LOCATION:TX
END:VEVENT
BEGIN:VEVENT
DTSTART;TZID=America/Chicago:20231122T160000
DTEND;TZID=America/Chicago:20231122T190000
DTSTAMP:20260425T112731
CREATED:20231105T154657Z
LAST-MODIFIED:20231105T154657Z
UID:9529-1700668800-1700679600@michaelalanis.com
SUMMARY:Estancia del Norte - Paseo Bar
DESCRIPTION:Sol.o Acoustic Performance \n4 PM – 7 PM
URL:https://michaelalanis.com/event/estancia-del-norte-paseo-bar-30/
LOCATION:Estancia del Norte – Paseo Bar\, 37 NE Loop 410 at\, McCullough Ave\, San Antonio\, TX\, 78216\, United States
END:VEVENT
END:VCALENDAR