BEGIN:VCALENDAR
VERSION:2.0
PRODID:-//Michael Alanis - ECPv6.15.20//NONSGML v1.0//EN
CALSCALE:GREGORIAN
METHOD:PUBLISH
X-WR-CALNAME:Michael Alanis
X-ORIGINAL-URL:https://michaelalanis.com
X-WR-CALDESC:Events for Michael Alanis
REFRESH-INTERVAL;VALUE=DURATION:PT1H
X-Robots-Tag:noindex
X-PUBLISHED-TTL:PT1H
BEGIN:VTIMEZONE
TZID:America/Chicago
BEGIN:DAYLIGHT
TZOFFSETFROM:-0600
TZOFFSETTO:-0500
TZNAME:CDT
DTSTART:20220313T080000
END:DAYLIGHT
BEGIN:STANDARD
TZOFFSETFROM:-0500
TZOFFSETTO:-0600
TZNAME:CST
DTSTART:20221106T070000
END:STANDARD
BEGIN:DAYLIGHT
TZOFFSETFROM:-0600
TZOFFSETTO:-0500
TZNAME:CDT
DTSTART:20230312T080000
END:DAYLIGHT
BEGIN:STANDARD
TZOFFSETFROM:-0500
TZOFFSETTO:-0600
TZNAME:CST
DTSTART:20231105T070000
END:STANDARD
BEGIN:DAYLIGHT
TZOFFSETFROM:-0600
TZOFFSETTO:-0500
TZNAME:CDT
DTSTART:20240310T080000
END:DAYLIGHT
BEGIN:STANDARD
TZOFFSETFROM:-0500
TZOFFSETTO:-0600
TZNAME:CST
DTSTART:20241103T070000
END:STANDARD
END:VTIMEZONE
BEGIN:VEVENT
DTSTART;TZID=America/Chicago:20230506T170000
DTEND;TZID=America/Chicago:20230506T230000
DTSTAMP:20260425T233735
CREATED:20230329T203915Z
LAST-MODIFIED:20230329T204639Z
UID:9173-1683392400-1683414000@michaelalanis.com
SUMMARY:Private Wedding
DESCRIPTION:RD Wedding \n 
URL:https://michaelalanis.com/event/the-rustic-2/
LOCATION:TX
END:VEVENT
BEGIN:VEVENT
DTSTART;TZID=America/Chicago:20230506T110000
DTEND;TZID=America/Chicago:20230506T123000
DTSTAMP:20260425T233735
CREATED:20230403T225807Z
LAST-MODIFIED:20230403T225807Z
UID:9202-1683370800-1683376200@michaelalanis.com
SUMMARY:Franklin Park
DESCRIPTION:Trio Acoustic Performance \n11 pm – 12:30 pm
URL:https://michaelalanis.com/event/franklin-park/
LOCATION:TX
END:VEVENT
BEGIN:VEVENT
DTSTART;TZID=America/Chicago:20230505T190000
DTEND;TZID=America/Chicago:20230505T230000
DTSTAMP:20260425T233735
CREATED:20230414T112849Z
LAST-MODIFIED:20230414T113004Z
UID:9210-1683313200-1683327600@michaelalanis.com
SUMMARY:Stone Werks - The Rim
DESCRIPTION:Band Performance \n7 PM – 11 PM
URL:https://michaelalanis.com/event/stone-werks-the-rim-7/
LOCATION:Stone Werks – The Rim\, 5807 Worth Pkwy\, San Antonio\, TX\, 78257\, United States
END:VEVENT
BEGIN:VEVENT
DTSTART;TZID=America/Chicago:20230504T210000
DTEND;TZID=America/Chicago:20230504T235900
DTSTAMP:20260425T233735
CREATED:20230414T115113Z
LAST-MODIFIED:20230414T115315Z
UID:9217-1683234000-1683244740@michaelalanis.com
SUMMARY:Luna - Music Venue
DESCRIPTION:Band Performance \n9 pm – 12 am
URL:https://michaelalanis.com/event/luna-music-venue-5/
LOCATION:Hyatt Hill Country Resort – Luckenbach Pavillion\, 9800 Hyatt Resort Dr.\, San Antonio\, TX\, 78251\, United States
END:VEVENT
BEGIN:VEVENT
DTSTART;TZID=America/Chicago:20230504T160000
DTEND;TZID=America/Chicago:20230504T190000
DTSTAMP:20260425T233735
CREATED:20230503T124922Z
LAST-MODIFIED:20230503T131318Z
UID:9231-1683216000-1683226800@michaelalanis.com
SUMMARY:Estancia del Norte - Paseo Bar
DESCRIPTION:Solo Acoustic Performance \n4 pm – 7 pm
URL:https://michaelalanis.com/event/estancia-del-norte-paseo-bar-19/
LOCATION:Estancia del Norte – Paseo Bar\, 37 NE Loop 410 at\, McCullough Ave\, San Antonio\, TX\, 78216\, United States
END:VEVENT
BEGIN:VEVENT
DTSTART;TZID=America/Chicago:20230503T180000
DTEND;TZID=America/Chicago:20230503T203000
DTSTAMP:20260425T233735
CREATED:20230503T124218Z
LAST-MODIFIED:20230503T124737Z
UID:9228-1683136800-1683145800@michaelalanis.com
SUMMARY:Botanical Garden of San Antonio
DESCRIPTION:Private event \n6:00 pm – 8:30 pm \nBand Performance
URL:https://michaelalanis.com/event/botanical-garden-of-san-antonio/
LOCATION:San Antonio Botanical Garden\, 555 Funston Pl.\, San Antonio\, TX\, 78209\, United States
END:VEVENT
BEGIN:VEVENT
DTSTART;TZID=America/Chicago:20230502T190000
DTEND;TZID=America/Chicago:20230502T213000
DTSTAMP:20260425T233735
CREATED:20230503T123801Z
LAST-MODIFIED:20230503T124124Z
UID:9225-1683054000-1683063000@michaelalanis.com
SUMMARY:Sancho's
DESCRIPTION:Sitting in w/ Ruben V \nAcoustic performance \n7:00 pm – 9:30 pm
URL:https://michaelalanis.com/event/sanchos/
LOCATION:TX
END:VEVENT
BEGIN:VEVENT
DTSTART;TZID=America/Chicago:20230430T110000
DTEND;TZID=America/Chicago:20230430T150000
DTSTAMP:20260425T233735
CREATED:20230327T191157Z
LAST-MODIFIED:20230430T143021Z
UID:9155-1682852400-1682866800@michaelalanis.com
SUMMARY:Hotel Contessa - Ambler Bar
DESCRIPTION:Solo Acoustic Performance \n11 am – 3 pm
URL:https://michaelalanis.com/event/hotel-contessa-ambler-bar-11/
LOCATION:Hotel Contessa- Ambler Bar\, 306 W Market St\, San Antonio\, TX\, United States
END:VEVENT
BEGIN:VEVENT
DTSTART;TZID=America/Chicago:20230429T200000
DTEND;TZID=America/Chicago:20230429T230000
DTSTAMP:20260425T233735
CREATED:20230414T114643Z
LAST-MODIFIED:20230414T115027Z
UID:9215-1682798400-1682809200@michaelalanis.com
SUMMARY:Grand Hyatt - Bar Rojo
DESCRIPTION:Solo Acoustic Performance \n8 pm – 11 pm
URL:https://michaelalanis.com/event/grand-hyatt-bar-rojo-30/
LOCATION:Grand Hyatt – Bar Rojo\, 600 E. Market Street\, San Antonio\, Texas\, 78205\, United States
END:VEVENT
BEGIN:VEVENT
DTSTART;TZID=America/Chicago:20230428T190000
DTEND;TZID=America/Chicago:20230428T230000
DTSTAMP:20260425T233735
CREATED:20230221T202001Z
LAST-MODIFIED:20230430T143103Z
UID:9093-1682708400-1682722800@michaelalanis.com
SUMMARY:Stone Werks - The Rim
DESCRIPTION:Inside Band Performance \n7 pm – 11 pm
URL:https://michaelalanis.com/event/private-wedding-16/
LOCATION:Stone Werks – The Rim\, 5807 Worth Pkwy\, San Antonio\, TX\, 78257\, United States
END:VEVENT
BEGIN:VEVENT
DTSTART;TZID=America/Chicago:20230427T180000
DTEND;TZID=America/Chicago:20230427T210000
DTSTAMP:20260425T233735
CREATED:20230201T195259Z
LAST-MODIFIED:20230201T195259Z
UID:9012-1682618400-1682629200@michaelalanis.com
SUMMARY:Krause's Cafe
DESCRIPTION:Band Performance \n6 pm – 9-pm
URL:https://michaelalanis.com/event/krauses-cafe-6/
LOCATION:Krause’s Cafe\, 148 S Castell Ave\, New Braunfels\, TX\, 78130\, United States
END:VEVENT
BEGIN:VEVENT
DTSTART;TZID=America/Chicago:20230426T170000
DTEND;TZID=America/Chicago:20230426T210000
DTSTAMP:20260425T233735
CREATED:20230330T170001Z
LAST-MODIFIED:20230330T170001Z
UID:9191-1682528400-1682542800@michaelalanis.com
SUMMARY:Bovinos Brazilian Steakhouse
DESCRIPTION:Solo Acoustic Performance \n5 pm – 9 pm
URL:https://michaelalanis.com/event/bovinos-brazilian-steakhouse/
LOCATION:Bovinos Brazillian Steakhouse & Seafood\, La Cantera Pkwy suite 11200\, San Antonio\, TX\, 78256\, United States
END:VEVENT
BEGIN:VEVENT
DTSTART;TZID=America/Chicago:20230424T170000
DTEND;TZID=America/Chicago:20230424T210000
DTSTAMP:20260425T233735
CREATED:20230322T213030Z
LAST-MODIFIED:20230329T203617Z
UID:9144-1682355600-1682370000@michaelalanis.com
SUMMARY:River Parade
DESCRIPTION:Solo Acoustic Performance \n5 PM – 9 PM
URL:https://michaelalanis.com/event/hotel-emma-sternewirth-tavern-10/
LOCATION:TX
END:VEVENT
BEGIN:VEVENT
DTSTART;TZID=America/Chicago:20230423T123000
DTEND;TZID=America/Chicago:20230423T140000
DTSTAMP:20260425T233735
CREATED:20230221T202113Z
LAST-MODIFIED:20230221T202113Z
UID:9097-1682253000-1682258400@michaelalanis.com
SUMMARY:The Rustic - SA
DESCRIPTION:Solo Acoustic \n12:30 PM – 2:00 PM
URL:https://michaelalanis.com/event/the-rustic-sa-8/
LOCATION:The Rustic – San Antonio\, 17619 La Cantera Pkwy #204\, San Antonio\, TX\, 78257\, United States
END:VEVENT
BEGIN:VEVENT
DTSTART;TZID=America/Chicago:20230422T130000
DTEND;TZID=America/Chicago:20230422T160000
DTSTAMP:20260425T233735
CREATED:20230403T225546Z
LAST-MODIFIED:20230403T225546Z
UID:9199-1682168400-1682179200@michaelalanis.com
SUMMARY:Johnny Was - Anniversary Event
DESCRIPTION:Solo Acoustic Performance – in store \n1 pm – 4 pm
URL:https://michaelalanis.com/event/2-3/
LOCATION:Johnny Was\, 15900 La Cantera Parkway\, STE. 2310\, San Antonio\, TX\, 78256\, United States
END:VEVENT
BEGIN:VEVENT
DTSTART;TZID=America/Chicago:20230421T213000
DTEND;TZID=America/Chicago:20230421T230000
DTSTAMP:20260425T233735
CREATED:20230329T205712Z
LAST-MODIFIED:20230329T205712Z
UID:9187-1682112600-1682118000@michaelalanis.com
SUMMARY:The Rustic - SA
DESCRIPTION:Band Performance \n9:30 pm – 11:00 pm
URL:https://michaelalanis.com/event/the-rustic-sa-11/
LOCATION:The Rustic – San Antonio\, 17619 La Cantera Pkwy #204\, San Antonio\, TX\, 78257\, United States
END:VEVENT
BEGIN:VEVENT
DTSTART;TZID=America/Chicago:20230420T190000
DTEND;TZID=America/Chicago:20230420T220000
DTSTAMP:20260425T233735
CREATED:20230221T201614Z
LAST-MODIFIED:20230221T201637Z
UID:9089-1682017200-1682028000@michaelalanis.com
SUMMARY:Sage Restaurant & Lounge
DESCRIPTION:Solo Acoustic \n7 PM – 10 PM
URL:https://michaelalanis.com/event/sage-restaurant-lounge/
LOCATION:Sage Restaurant & Lounge\, 241 E Austin St\, Fredericksburg\, 78624\, United States
END:VEVENT
BEGIN:VEVENT
DTSTART;TZID=America/Chicago:20230419T200000
DTEND;TZID=America/Chicago:20230419T210000
DTSTAMP:20260425T233735
CREATED:20230327T124439Z
LAST-MODIFIED:20230327T124439Z
UID:9148-1681934400-1681938000@michaelalanis.com
SUMMARY:Royal Dukes Showcase - 502 Bar
DESCRIPTION:Royal Dukes Showcase \n8 pm – 9 pm
URL:https://michaelalanis.com/event/royal-dukes-showcase-502-bar-3/
LOCATION:502 Bar\, 502 Embassy Oaks\, San Antonio\, TX\, 78216\, United States
END:VEVENT
BEGIN:VEVENT
DTSTART;TZID=America/Chicago:20230418T190000
DTEND;TZID=America/Chicago:20230418T210000
DTSTAMP:20260425T233735
CREATED:20230408T111912Z
LAST-MODIFIED:20230408T111912Z
UID:9206-1681844400-1681851600@michaelalanis.com
SUMMARY:Private Event - JW Marriott
DESCRIPTION:Private event \nBand Performance
URL:https://michaelalanis.com/event/private-event-jw-marriott-3/
LOCATION:TX
END:VEVENT
BEGIN:VEVENT
DTSTART;TZID=America/Chicago:20230416T110000
DTEND;TZID=America/Chicago:20230416T150000
DTSTAMP:20260425T233735
CREATED:20230327T191105Z
LAST-MODIFIED:20230327T191105Z
UID:9153-1681642800-1681657200@michaelalanis.com
SUMMARY:Hotel Contessa - Ambler Bar
DESCRIPTION:Solo Acoustic Performance \n11 am – 3 pm
URL:https://michaelalanis.com/event/hotel-contessa-ambler-bar-10/
LOCATION:Hotel Contessa- Ambler Bar\, 306 W Market St\, San Antonio\, TX\, United States
END:VEVENT
BEGIN:VEVENT
DTSTART;TZID=America/Chicago:20230415T080000
DTEND;TZID=America/Chicago:20230415T170000
DTSTAMP:20260425T233735
CREATED:20230329T203041Z
LAST-MODIFIED:20230329T203041Z
UID:9165-1681545600-1681578000@michaelalanis.com
SUMMARY:Private Wedding
DESCRIPTION:RD Wedding Event
URL:https://michaelalanis.com/event/private-wedding-18/
LOCATION:TX
END:VEVENT
BEGIN:VEVENT
DTSTART;TZID=America/Chicago:20230414T180000
DTEND;TZID=America/Chicago:20230414T210000
DTSTAMP:20260425T233735
CREATED:20230414T113248Z
LAST-MODIFIED:20230414T114633Z
UID:9212-1681495200-1681506000@michaelalanis.com
SUMMARY:Hyatt Lost Pines - Shellers Barrelhouse Bar
DESCRIPTION:Solo Acoustic Performance \n6 PM – 9 PM
URL:https://michaelalanis.com/event/hyatt-lost-pines-shellers-barrelhouse-bar/
LOCATION:Hyatt Lost Pines – Shellers Barrelhouse Bar\, 575 Hyatt Lost Pines Rd\, Ceadar Creek\, TX\, 78612\, United States
END:VEVENT
BEGIN:VEVENT
DTSTART;TZID=America/Chicago:20230413T180000
DTEND;TZID=America/Chicago:20230413T210000
DTSTAMP:20260425T233735
CREATED:20230327T191318Z
LAST-MODIFIED:20230327T212916Z
UID:9157-1681408800-1681419600@michaelalanis.com
SUMMARY:Hotel Contessa - Ambler Bar
DESCRIPTION:Solo Acoustic Performance \n6 pm – 9 pm
URL:https://michaelalanis.com/event/hotel-contessa-ambler-bar-12/
LOCATION:Hotel Contessa- Ambler Bar\, 306 W Market St\, San Antonio\, TX\, United States
END:VEVENT
BEGIN:VEVENT
DTSTART;TZID=America/Chicago:20230411T070000
DTEND;TZID=America/Chicago:20230411T203000
DTSTAMP:20260425T233735
CREATED:20230329T202937Z
LAST-MODIFIED:20230329T202937Z
UID:9163-1681196400-1681245000@michaelalanis.com
SUMMARY:Private Event
DESCRIPTION:Private Event
URL:https://michaelalanis.com/event/private-event-37/
LOCATION:TX
END:VEVENT
BEGIN:VEVENT
DTSTART;TZID=America/Chicago:20230409T110000
DTEND;TZID=America/Chicago:20230409T150000
DTSTAMP:20260425T233735
CREATED:20230329T202835Z
LAST-MODIFIED:20230408T112458Z
UID:9161-1681038000-1681052400@michaelalanis.com
SUMMARY:Hotel Contessa - Ambler Bar
DESCRIPTION:Private Event \n11 am – 3 pm
URL:https://michaelalanis.com/event/private-party-5/
LOCATION:Hotel Contessa- Ambler Bar\, 306 W Market St\, San Antonio\, TX\, United States
END:VEVENT
BEGIN:VEVENT
DTSTART;TZID=America/Chicago:20230408T123000
DTEND;TZID=America/Chicago:20230408T140000
DTSTAMP:20260425T233735
CREATED:20230221T201423Z
LAST-MODIFIED:20230221T201509Z
UID:9087-1680957000-1680962400@michaelalanis.com
SUMMARY:The Rustic - SA
DESCRIPTION:Solo Acoustic \n12:30 PM – 2:00 PM
URL:https://michaelalanis.com/event/the-rustic-sa-6/
LOCATION:The Rustic – San Antonio\, 17619 La Cantera Pkwy #204\, San Antonio\, TX\, 78257\, United States
END:VEVENT
BEGIN:VEVENT
DTSTART;TZID=America/Chicago:20230407T190000
DTEND;TZID=America/Chicago:20230407T220000
DTSTAMP:20260425T233735
CREATED:20230313T213717Z
LAST-MODIFIED:20230313T213717Z
UID:9134-1680894000-1680904800@michaelalanis.com
SUMMARY:Santikos Cibolo - Beats 'n' Brews
DESCRIPTION:Solo acoustic Performance \n7 PM – 10 PM
URL:https://michaelalanis.com/event/santikos-cibolo-beats-n-brews/
LOCATION:Santikos Cibolo – Beats ‘n’ Brews\, 18124 I-35\, Cibolo\, TX\, 78108\, United States
END:VEVENT
BEGIN:VEVENT
DTSTART;TZID=America/Chicago:20230406T200000
DTEND;TZID=America/Chicago:20230406T235900
DTSTAMP:20260425T233735
CREATED:20230221T201311Z
LAST-MODIFIED:20230221T201323Z
UID:9085-1680811200-1680825540@michaelalanis.com
SUMMARY:Stetson Dance Hall
DESCRIPTION:Band Performance \n8 PM – 12 AM
URL:https://michaelalanis.com/event/stetson-dance-hall-3/
LOCATION:Stetson Dance Hall\, 11881 Bandera Rd\, Helotes\, TX\, 78023\, United States
END:VEVENT
BEGIN:VEVENT
DTSTART;TZID=America/Chicago:20230402T110000
DTEND;TZID=America/Chicago:20230402T150000
DTSTAMP:20260425T233735
CREATED:20230327T190952Z
LAST-MODIFIED:20230327T190952Z
UID:9151-1680433200-1680447600@michaelalanis.com
SUMMARY:Hotel Contessa - Ambler Bar
DESCRIPTION:Solo Acoustic performance \n11 am – 3 pm
URL:https://michaelalanis.com/event/hotel-contessa-ambler-bar-9/
LOCATION:Hotel Contessa- Ambler Bar\, 306 W Market St\, San Antonio\, TX\, United States
END:VEVENT
BEGIN:VEVENT
DTSTART;TZID=America/Chicago:20230401T170000
DTEND;TZID=America/Chicago:20230401T230000
DTSTAMP:20260425T233735
CREATED:20230327T123944Z
LAST-MODIFIED:20230327T123944Z
UID:9146-1680368400-1680390000@michaelalanis.com
SUMMARY:Private Wedding
DESCRIPTION:Private RD Wedding \n5 pm – 11 pm
URL:https://michaelalanis.com/event/private-wedding-17/
LOCATION:TX
END:VEVENT
END:VCALENDAR