BEGIN:VCALENDAR
VERSION:2.0
PRODID:-//Michael Alanis - ECPv6.15.20//NONSGML v1.0//EN
CALSCALE:GREGORIAN
METHOD:PUBLISH
X-WR-CALNAME:Michael Alanis
X-ORIGINAL-URL:https://michaelalanis.com
X-WR-CALDESC:Events for Michael Alanis
REFRESH-INTERVAL;VALUE=DURATION:PT1H
X-Robots-Tag:noindex
X-PUBLISHED-TTL:PT1H
BEGIN:VTIMEZONE
TZID:America/Chicago
BEGIN:DAYLIGHT
TZOFFSETFROM:-0600
TZOFFSETTO:-0500
TZNAME:CDT
DTSTART:20220313T080000
END:DAYLIGHT
BEGIN:STANDARD
TZOFFSETFROM:-0500
TZOFFSETTO:-0600
TZNAME:CST
DTSTART:20221106T070000
END:STANDARD
BEGIN:DAYLIGHT
TZOFFSETFROM:-0600
TZOFFSETTO:-0500
TZNAME:CDT
DTSTART:20230312T080000
END:DAYLIGHT
BEGIN:STANDARD
TZOFFSETFROM:-0500
TZOFFSETTO:-0600
TZNAME:CST
DTSTART:20231105T070000
END:STANDARD
BEGIN:DAYLIGHT
TZOFFSETFROM:-0600
TZOFFSETTO:-0500
TZNAME:CDT
DTSTART:20240310T080000
END:DAYLIGHT
BEGIN:STANDARD
TZOFFSETFROM:-0500
TZOFFSETTO:-0600
TZNAME:CST
DTSTART:20241103T070000
END:STANDARD
END:VTIMEZONE
BEGIN:VEVENT
DTSTART;TZID=America/Chicago:20230411T070000
DTEND;TZID=America/Chicago:20230411T203000
DTSTAMP:20260425T222804
CREATED:20230329T202937Z
LAST-MODIFIED:20230329T202937Z
UID:9163-1681196400-1681245000@michaelalanis.com
SUMMARY:Private Event
DESCRIPTION:Private Event
URL:https://michaelalanis.com/event/private-event-37/
LOCATION:TX
END:VEVENT
BEGIN:VEVENT
DTSTART;TZID=America/Chicago:20230409T110000
DTEND;TZID=America/Chicago:20230409T150000
DTSTAMP:20260425T222804
CREATED:20230329T202835Z
LAST-MODIFIED:20230408T112458Z
UID:9161-1681038000-1681052400@michaelalanis.com
SUMMARY:Hotel Contessa - Ambler Bar
DESCRIPTION:Private Event \n11 am – 3 pm
URL:https://michaelalanis.com/event/private-party-5/
LOCATION:Hotel Contessa- Ambler Bar\, 306 W Market St\, San Antonio\, TX\, United States
END:VEVENT
BEGIN:VEVENT
DTSTART;TZID=America/Chicago:20230408T123000
DTEND;TZID=America/Chicago:20230408T140000
DTSTAMP:20260425T222804
CREATED:20230221T201423Z
LAST-MODIFIED:20230221T201509Z
UID:9087-1680957000-1680962400@michaelalanis.com
SUMMARY:The Rustic - SA
DESCRIPTION:Solo Acoustic \n12:30 PM – 2:00 PM
URL:https://michaelalanis.com/event/the-rustic-sa-6/
LOCATION:The Rustic – San Antonio\, 17619 La Cantera Pkwy #204\, San Antonio\, TX\, 78257\, United States
END:VEVENT
BEGIN:VEVENT
DTSTART;TZID=America/Chicago:20230407T190000
DTEND;TZID=America/Chicago:20230407T220000
DTSTAMP:20260425T222804
CREATED:20230313T213717Z
LAST-MODIFIED:20230313T213717Z
UID:9134-1680894000-1680904800@michaelalanis.com
SUMMARY:Santikos Cibolo - Beats 'n' Brews
DESCRIPTION:Solo acoustic Performance \n7 PM – 10 PM
URL:https://michaelalanis.com/event/santikos-cibolo-beats-n-brews/
LOCATION:Santikos Cibolo – Beats ‘n’ Brews\, 18124 I-35\, Cibolo\, TX\, 78108\, United States
END:VEVENT
BEGIN:VEVENT
DTSTART;TZID=America/Chicago:20230406T200000
DTEND;TZID=America/Chicago:20230406T235900
DTSTAMP:20260425T222804
CREATED:20230221T201311Z
LAST-MODIFIED:20230221T201323Z
UID:9085-1680811200-1680825540@michaelalanis.com
SUMMARY:Stetson Dance Hall
DESCRIPTION:Band Performance \n8 PM – 12 AM
URL:https://michaelalanis.com/event/stetson-dance-hall-3/
LOCATION:Stetson Dance Hall\, 11881 Bandera Rd\, Helotes\, TX\, 78023\, United States
END:VEVENT
BEGIN:VEVENT
DTSTART;TZID=America/Chicago:20230402T110000
DTEND;TZID=America/Chicago:20230402T150000
DTSTAMP:20260425T222804
CREATED:20230327T190952Z
LAST-MODIFIED:20230327T190952Z
UID:9151-1680433200-1680447600@michaelalanis.com
SUMMARY:Hotel Contessa - Ambler Bar
DESCRIPTION:Solo Acoustic performance \n11 am – 3 pm
URL:https://michaelalanis.com/event/hotel-contessa-ambler-bar-9/
LOCATION:Hotel Contessa- Ambler Bar\, 306 W Market St\, San Antonio\, TX\, United States
END:VEVENT
BEGIN:VEVENT
DTSTART;TZID=America/Chicago:20230401T170000
DTEND;TZID=America/Chicago:20230401T230000
DTSTAMP:20260425T222804
CREATED:20230327T123944Z
LAST-MODIFIED:20230327T123944Z
UID:9146-1680368400-1680390000@michaelalanis.com
SUMMARY:Private Wedding
DESCRIPTION:Private RD Wedding \n5 pm – 11 pm
URL:https://michaelalanis.com/event/private-wedding-17/
LOCATION:TX
END:VEVENT
BEGIN:VEVENT
DTSTART;TZID=America/Chicago:20230331T210000
DTEND;TZID=America/Chicago:20230331T235900
DTSTAMP:20260425T222804
CREATED:20230312T183444Z
LAST-MODIFIED:20230331T204453Z
UID:9132-1680296400-1680307140@michaelalanis.com
SUMMARY:Dave & Buster's - Rivercenter
DESCRIPTION:Acoustic Performance \nSpecial Guest:  Jennifer Espinoza \n9 PM – 12 AM
URL:https://michaelalanis.com/event/grand-hyatt-bar-rojo-29/
LOCATION:Dave & Busters – Rivercenter\, 849 E Commerce St Suite # 740\, San Antonio\, TX\, 78205\, United States
END:VEVENT
BEGIN:VEVENT
DTSTART;TZID=America/Chicago:20230330T210000
DTEND;TZID=America/Chicago:20230330T235900
DTSTAMP:20260425T222804
CREATED:20230217T235422Z
LAST-MODIFIED:20230217T235422Z
UID:9075-1680210000-1680220740@michaelalanis.com
SUMMARY:LUNA
DESCRIPTION:Band Performance \n9 PM – 12 AM
URL:https://michaelalanis.com/event/luna-3/
LOCATION:Hyatt Hill Country Resort – Luckenbach Pavillion\, 9800 Hyatt Resort Dr.\, San Antonio\, TX\, 78251\, United States
END:VEVENT
BEGIN:VEVENT
DTSTART;TZID=America/Chicago:20230329T170000
DTEND;TZID=America/Chicago:20230329T230000
DTSTAMP:20260425T222804
CREATED:20230329T203746Z
LAST-MODIFIED:20230329T203746Z
UID:9171-1680109200-1680130800@michaelalanis.com
SUMMARY:Private Wedding
DESCRIPTION:RD Wedding
URL:https://michaelalanis.com/event/private-wedding-19/
LOCATION:TX
END:VEVENT
BEGIN:VEVENT
DTSTART;TZID=America/Chicago:20230328T190000
DTEND;TZID=America/Chicago:20230328T210000
DTSTAMP:20260425T222804
CREATED:20230110T202432Z
LAST-MODIFIED:20230228T183047Z
UID:8979-1680030000-1680037200@michaelalanis.com
SUMMARY:Thompson Hotel - SA
DESCRIPTION:Solo Acoustic Performance \n5 pm – 7 pm
URL:https://michaelalanis.com/event/thompson-hotel-the-moons-daughters-bar-4/
LOCATION:Thompson Hotel – Moon’s Daughters Rooftop Lounge & Bar\, 115 Lexington Ave\, San Antonio\, TX\, 78205\, United States
END:VEVENT
BEGIN:VEVENT
DTSTART;TZID=America/Chicago:20230326T123000
DTEND;TZID=America/Chicago:20230326T140000
DTSTAMP:20260425T222804
CREATED:20230217T235219Z
LAST-MODIFIED:20230217T235219Z
UID:9073-1679833800-1679839200@michaelalanis.com
SUMMARY:The Rustic - SA
DESCRIPTION:Solo Acoustic Performance \n12:30 PM –  2:00 PM
URL:https://michaelalanis.com/event/the-rustic-sa-5/
LOCATION:The Rustic – San Antonio\, 17619 La Cantera Pkwy #204\, San Antonio\, TX\, 78257\, United States
END:VEVENT
BEGIN:VEVENT
DTSTART;TZID=America/Chicago:20230324T180000
DTEND;TZID=America/Chicago:20230324T193000
DTSTAMP:20260425T222804
CREATED:20230312T183310Z
LAST-MODIFIED:20230312T183310Z
UID:9130-1679680800-1679686200@michaelalanis.com
SUMMARY:Private Event
DESCRIPTION:Band Performance \n6 PM – 7:30 PM
URL:https://michaelalanis.com/event/private-event-38/
LOCATION:TX
END:VEVENT
BEGIN:VEVENT
DTSTART;TZID=America/Chicago:20230323T200000
DTEND;TZID=America/Chicago:20230323T220000
DTSTAMP:20260425T222804
CREATED:20230217T234750Z
LAST-MODIFIED:20230217T235106Z
UID:9067-1679601600-1679608800@michaelalanis.com
SUMMARY:Sage Restaurant & Lounge - Fredericksburg\, TX
DESCRIPTION:Solo acoustic performance \n7 PM – 10 PM
URL:https://michaelalanis.com/event/sage-restaurant-lounge-fredericksburg-tx/
LOCATION:Sage Restaurant & Lounge\, 241 E Austin St\, Fredericksburg\, 78624\, United States
END:VEVENT
BEGIN:VEVENT
DTSTART;TZID=America/Chicago:20230322T180000
DTEND;TZID=America/Chicago:20230322T210000
DTSTAMP:20260425T222804
CREATED:20230312T183032Z
LAST-MODIFIED:20230312T183032Z
UID:9128-1679508000-1679518800@michaelalanis.com
SUMMARY:Private Event - Austin\, TX
DESCRIPTION:Private Event – Bee Caves\, TX \n6 PM – 9 PM
URL:https://michaelalanis.com/event/private-event-austin-tx/
LOCATION:TX
END:VEVENT
BEGIN:VEVENT
DTSTART;TZID=America/Chicago:20230319T110000
DTEND;TZID=America/Chicago:20230319T130000
DTSTAMP:20260425T222804
CREATED:20230210T173404Z
LAST-MODIFIED:20230210T173404Z
UID:9046-1679223600-1679230800@michaelalanis.com
SUMMARY:Pearl Farmers Market
DESCRIPTION:Solo Acoustic Performance \n11 am – 1 pm
URL:https://michaelalanis.com/event/pearl-farmers-market-5/
LOCATION:Pearl Farmers Market\, 312 Pearl Pkwy\, San Antonio\, TX\, 7878215238\, United States
END:VEVENT
BEGIN:VEVENT
DTSTART;TZID=America/Chicago:20230318T200000
DTEND;TZID=America/Chicago:20230318T230000
DTSTAMP:20260425T222804
CREATED:20230217T234052Z
LAST-MODIFIED:20230217T234323Z
UID:9061-1679169600-1679180400@michaelalanis.com
SUMMARY:Private Party - New Braunfels\, TX
DESCRIPTION:Band Performance \n8:00 PM – 11:00 PM
URL:https://michaelalanis.com/event/stone-werks-the-rim-2/
LOCATION:TX
END:VEVENT
BEGIN:VEVENT
DTSTART;TZID=America/Chicago:20230317T190000
DTEND;TZID=America/Chicago:20230317T230000
DTSTAMP:20260425T222804
CREATED:20230217T234449Z
LAST-MODIFIED:20230223T152633Z
UID:9065-1679079600-1679094000@michaelalanis.com
SUMMARY:Stone Werks - The Rim
DESCRIPTION:Band Performance \n7 PM – 11 PM
URL:https://michaelalanis.com/event/stone-werks-the-rim-5/
LOCATION:Stone Werks – The Rim\, 5807 Worth Pkwy\, San Antonio\, TX\, 78257\, United States
END:VEVENT
BEGIN:VEVENT
DTSTART;TZID=America/Chicago:20230316T170000
DTEND;TZID=America/Chicago:20230316T183000
DTSTAMP:20260425T222804
CREATED:20230217T233940Z
LAST-MODIFIED:20230316T154639Z
UID:9059-1678986000-1678991400@michaelalanis.com
SUMMARY:The Rustic - SA
DESCRIPTION:Band Performance \n5:00 PM – 6:30 PM
URL:https://michaelalanis.com/event/the-rustic-sa-4/
LOCATION:The Rustic – San Antonio\, 17619 La Cantera Pkwy #204\, San Antonio\, TX\, 78257\, United States
END:VEVENT
BEGIN:VEVENT
DTSTART;TZID=America/Chicago:20230315T190000
DTEND;TZID=America/Chicago:20230315T210000
DTSTAMP:20260425T222804
CREATED:20230312T182348Z
LAST-MODIFIED:20230312T182708Z
UID:9125-1678906800-1678914000@michaelalanis.com
SUMMARY:Grand Hyatt - Bar Rojo
DESCRIPTION:Solo Acoustic Performance \n7 PM – 9 PM
URL:https://michaelalanis.com/event/grand-hyatt-bar-rojo-28/
LOCATION:Grand Hyatt – Bar Rojo\, 600 E. Market Street\, San Antonio\, Texas\, 78205\, United States
END:VEVENT
BEGIN:VEVENT
DTSTART;TZID=America/Chicago:20230314T190000
DTEND;TZID=America/Chicago:20230314T210000
DTSTAMP:20260425T222804
CREATED:20230312T182115Z
LAST-MODIFIED:20230312T182115Z
UID:9123-1678820400-1678827600@michaelalanis.com
SUMMARY:Grand Hyatt - Bar Rojo
DESCRIPTION:Solo Acoustic Performance \n7 PM – 9PM
URL:https://michaelalanis.com/event/grand-hyatt-bar-rojo-27/
LOCATION:Grand Hyatt – Bar Rojo\, 600 E. Market Street\, San Antonio\, Texas\, 78205\, United States
END:VEVENT
BEGIN:VEVENT
DTSTART;TZID=America/Chicago:20230313T190000
DTEND;TZID=America/Chicago:20230313T210000
DTSTAMP:20260425T222804
CREATED:20230312T181626Z
LAST-MODIFIED:20230312T182009Z
UID:9118-1678734000-1678741200@michaelalanis.com
SUMMARY:Grand Hyatt - Bar Rojo
DESCRIPTION:Solo Acoustic Performance \n7 PM – 9 PM
URL:https://michaelalanis.com/event/grand-hyatt-bar-rojo-26/
LOCATION:Grand Hyatt – Bar Rojo\, 600 E. Market Street\, San Antonio\, Texas\, 78205\, United States
END:VEVENT
BEGIN:VEVENT
DTSTART;TZID=America/Chicago:20230312T170000
DTEND;TZID=America/Chicago:20230312T200000
DTSTAMP:20260425T222804
CREATED:20230312T181418Z
LAST-MODIFIED:20230312T181418Z
UID:9115-1678640400-1678651200@michaelalanis.com
SUMMARY:Hyatt Lost Pines Resort - LBJ Pavilion
DESCRIPTION:Solo Acoustic Performance \n5 PM – 8 PM
URL:https://michaelalanis.com/event/hyatt-lost-pines-resort-lbj-pavilion/
LOCATION:Hyatt Lost Pines Resort – LBJ Pavilion\, 575 Hyatt Lost Pines Rd\, Lost Pines\, TX\, 78612\, United States
END:VEVENT
BEGIN:VEVENT
DTSTART;TZID=America/Chicago:20230311T200000
DTEND;TZID=America/Chicago:20230311T230000
DTSTAMP:20260425T222804
CREATED:20230221T200938Z
LAST-MODIFIED:20230221T201034Z
UID:9082-1678564800-1678575600@michaelalanis.com
SUMMARY:Ladybird Beer Garden
DESCRIPTION:Solo Acoustic \n8 PM – 11 PM
URL:https://michaelalanis.com/event/ladybird-beer-garden/
LOCATION:Ladybird Beer Gardeen\, 447 W. Hildebrand Ave.\, San Antonio\, t\, 78212\, United States
END:VEVENT
BEGIN:VEVENT
DTSTART;TZID=America/Chicago:20230311T123000
DTEND;TZID=America/Chicago:20230311T140000
DTSTAMP:20260425T222804
CREATED:20230217T233814Z
LAST-MODIFIED:20230217T233814Z
UID:9057-1678537800-1678543200@michaelalanis.com
SUMMARY:The Rustic - SA
DESCRIPTION:Solo acoustic Performance \n12:30 pm – 2:00 pm
URL:https://michaelalanis.com/event/the-rustic-sa-3/
LOCATION:The Rustic – San Antonio\, 17619 La Cantera Pkwy #204\, San Antonio\, TX\, 78257\, United States
END:VEVENT
BEGIN:VEVENT
DTSTART;TZID=America/Chicago:20230310T200000
DTEND;TZID=America/Chicago:20230310T230000
DTSTAMP:20260425T222804
CREATED:20230228T183452Z
LAST-MODIFIED:20230228T183452Z
UID:9106-1678478400-1678489200@michaelalanis.com
SUMMARY:Grand Hyatt - Bar Rojo
DESCRIPTION:Solo acoustic performance \n8 PM – 11 PM
URL:https://michaelalanis.com/event/grand-hyatt-bar-rojo-25/
LOCATION:TX
END:VEVENT
BEGIN:VEVENT
DTSTART;TZID=America/Chicago:20230309T180000
DTEND;TZID=America/Chicago:20230309T210000
DTSTAMP:20260425T222804
CREATED:20230201T195150Z
LAST-MODIFIED:20230201T195150Z
UID:9010-1678384800-1678395600@michaelalanis.com
SUMMARY:Krause's Cafe
DESCRIPTION:Band Performance \n6 pm – 9 pm
URL:https://michaelalanis.com/event/krauses-cafe-5/
LOCATION:Krause’s Cafe\, 148 S Castell Ave\, New Braunfels\, TX\, 78130\, United States
END:VEVENT
BEGIN:VEVENT
DTSTART;TZID=America/Chicago:20230308T180000
DTEND;TZID=America/Chicago:20230308T200000
DTSTAMP:20260425T222804
CREATED:20230217T233635Z
LAST-MODIFIED:20230217T233704Z
UID:9055-1678298400-1678305600@michaelalanis.com
SUMMARY:Grand Hyatt - Private Event
DESCRIPTION:Private Event \nSolo Acoustic Performance \n6 PM – 8 PM
URL:https://michaelalanis.com/event/grand-hyatt-private-event/
LOCATION:TX
END:VEVENT
BEGIN:VEVENT
DTSTART;TZID=America/Chicago:20230305T110000
DTEND;TZID=America/Chicago:20230305T150000
DTSTAMP:20260425T222804
CREATED:20230221T200415Z
LAST-MODIFIED:20230221T200415Z
UID:9080-1678014000-1678028400@michaelalanis.com
SUMMARY:Hotel Contessa - Ambler Bar
DESCRIPTION:Solo Acoustic \n11 AM – 3 PM
URL:https://michaelalanis.com/event/hotel-contessa-ambler-bar-8/
LOCATION:Hotel Contessa- Ambler Bar\, 306 W Market St\, San Antonio\, TX\, United States
END:VEVENT
BEGIN:VEVENT
DTSTART;TZID=America/Chicago:20230304T170000
DTEND;TZID=America/Chicago:20230304T230000
DTSTAMP:20260425T222804
CREATED:20230126T225351Z
LAST-MODIFIED:20230126T225351Z
UID:9003-1677949200-1677970800@michaelalanis.com
SUMMARY:Royal Dukes Wedding Event
DESCRIPTION:Royal Dukes Band \n5 pm – 11 pm
URL:https://michaelalanis.com/event/royal-dukes-wedding-event/
LOCATION:TX
END:VEVENT
END:VCALENDAR