BEGIN:VCALENDAR
VERSION:2.0
PRODID:-//Michael Alanis - ECPv6.15.20//NONSGML v1.0//EN
CALSCALE:GREGORIAN
METHOD:PUBLISH
X-WR-CALNAME:Michael Alanis
X-ORIGINAL-URL:https://michaelalanis.com
X-WR-CALDESC:Events for Michael Alanis
REFRESH-INTERVAL;VALUE=DURATION:PT1H
X-Robots-Tag:noindex
X-PUBLISHED-TTL:PT1H
BEGIN:VTIMEZONE
TZID:America/Chicago
BEGIN:DAYLIGHT
TZOFFSETFROM:-0600
TZOFFSETTO:-0500
TZNAME:CDT
DTSTART:20220313T080000
END:DAYLIGHT
BEGIN:STANDARD
TZOFFSETFROM:-0500
TZOFFSETTO:-0600
TZNAME:CST
DTSTART:20221106T070000
END:STANDARD
BEGIN:DAYLIGHT
TZOFFSETFROM:-0600
TZOFFSETTO:-0500
TZNAME:CDT
DTSTART:20230312T080000
END:DAYLIGHT
BEGIN:STANDARD
TZOFFSETFROM:-0500
TZOFFSETTO:-0600
TZNAME:CST
DTSTART:20231105T070000
END:STANDARD
BEGIN:DAYLIGHT
TZOFFSETFROM:-0600
TZOFFSETTO:-0500
TZNAME:CDT
DTSTART:20240310T080000
END:DAYLIGHT
BEGIN:STANDARD
TZOFFSETFROM:-0500
TZOFFSETTO:-0600
TZNAME:CST
DTSTART:20241103T070000
END:STANDARD
END:VTIMEZONE
BEGIN:VEVENT
DTSTART;TZID=America/Chicago:20230311T200000
DTEND;TZID=America/Chicago:20230311T230000
DTSTAMP:20260425T222926
CREATED:20230221T200938Z
LAST-MODIFIED:20230221T201034Z
UID:9082-1678564800-1678575600@michaelalanis.com
SUMMARY:Ladybird Beer Garden
DESCRIPTION:Solo Acoustic \n8 PM – 11 PM
URL:https://michaelalanis.com/event/ladybird-beer-garden/
LOCATION:Ladybird Beer Gardeen\, 447 W. Hildebrand Ave.\, San Antonio\, t\, 78212\, United States
END:VEVENT
BEGIN:VEVENT
DTSTART;TZID=America/Chicago:20230311T123000
DTEND;TZID=America/Chicago:20230311T140000
DTSTAMP:20260425T222926
CREATED:20230217T233814Z
LAST-MODIFIED:20230217T233814Z
UID:9057-1678537800-1678543200@michaelalanis.com
SUMMARY:The Rustic - SA
DESCRIPTION:Solo acoustic Performance \n12:30 pm – 2:00 pm
URL:https://michaelalanis.com/event/the-rustic-sa-3/
LOCATION:The Rustic – San Antonio\, 17619 La Cantera Pkwy #204\, San Antonio\, TX\, 78257\, United States
END:VEVENT
BEGIN:VEVENT
DTSTART;TZID=America/Chicago:20230310T200000
DTEND;TZID=America/Chicago:20230310T230000
DTSTAMP:20260425T222926
CREATED:20230228T183452Z
LAST-MODIFIED:20230228T183452Z
UID:9106-1678478400-1678489200@michaelalanis.com
SUMMARY:Grand Hyatt - Bar Rojo
DESCRIPTION:Solo acoustic performance \n8 PM – 11 PM
URL:https://michaelalanis.com/event/grand-hyatt-bar-rojo-25/
LOCATION:TX
END:VEVENT
BEGIN:VEVENT
DTSTART;TZID=America/Chicago:20230309T180000
DTEND;TZID=America/Chicago:20230309T210000
DTSTAMP:20260425T222926
CREATED:20230201T195150Z
LAST-MODIFIED:20230201T195150Z
UID:9010-1678384800-1678395600@michaelalanis.com
SUMMARY:Krause's Cafe
DESCRIPTION:Band Performance \n6 pm – 9 pm
URL:https://michaelalanis.com/event/krauses-cafe-5/
LOCATION:Krause’s Cafe\, 148 S Castell Ave\, New Braunfels\, TX\, 78130\, United States
END:VEVENT
BEGIN:VEVENT
DTSTART;TZID=America/Chicago:20230308T180000
DTEND;TZID=America/Chicago:20230308T200000
DTSTAMP:20260425T222926
CREATED:20230217T233635Z
LAST-MODIFIED:20230217T233704Z
UID:9055-1678298400-1678305600@michaelalanis.com
SUMMARY:Grand Hyatt - Private Event
DESCRIPTION:Private Event \nSolo Acoustic Performance \n6 PM – 8 PM
URL:https://michaelalanis.com/event/grand-hyatt-private-event/
LOCATION:TX
END:VEVENT
BEGIN:VEVENT
DTSTART;TZID=America/Chicago:20230305T110000
DTEND;TZID=America/Chicago:20230305T150000
DTSTAMP:20260425T222926
CREATED:20230221T200415Z
LAST-MODIFIED:20230221T200415Z
UID:9080-1678014000-1678028400@michaelalanis.com
SUMMARY:Hotel Contessa - Ambler Bar
DESCRIPTION:Solo Acoustic \n11 AM – 3 PM
URL:https://michaelalanis.com/event/hotel-contessa-ambler-bar-8/
LOCATION:Hotel Contessa- Ambler Bar\, 306 W Market St\, San Antonio\, TX\, United States
END:VEVENT
BEGIN:VEVENT
DTSTART;TZID=America/Chicago:20230304T170000
DTEND;TZID=America/Chicago:20230304T230000
DTSTAMP:20260425T222926
CREATED:20230126T225351Z
LAST-MODIFIED:20230126T225351Z
UID:9003-1677949200-1677970800@michaelalanis.com
SUMMARY:Royal Dukes Wedding Event
DESCRIPTION:Royal Dukes Band \n5 pm – 11 pm
URL:https://michaelalanis.com/event/royal-dukes-wedding-event/
LOCATION:TX
END:VEVENT
BEGIN:VEVENT
DTSTART;TZID=America/Chicago:20230304T103000
DTEND;TZID=America/Chicago:20230304T123000
DTSTAMP:20260425T222926
CREATED:20230210T173206Z
LAST-MODIFIED:20230210T173206Z
UID:9044-1677925800-1677933000@michaelalanis.com
SUMMARY:Pearl Farmers Market
DESCRIPTION:Solo Acoustic Performance \n10:30 am – 12:30 am
URL:https://michaelalanis.com/event/pearl-farmers-market-4/
LOCATION:Pearl Farmers Market\, 312 Pearl Pkwy\, San Antonio\, TX\, 7878215238\, United States
END:VEVENT
BEGIN:VEVENT
DTSTART;TZID=America/Chicago:20230303T180000
DTEND;TZID=America/Chicago:20230303T210000
DTSTAMP:20260425T222926
CREATED:20230228T183745Z
LAST-MODIFIED:20230228T183745Z
UID:9109-1677866400-1677877200@michaelalanis.com
SUMMARY:Hyatt Regency Riverwalk - Q Bar & Kitchen
DESCRIPTION:Solo acoustic performance \n6 PM – 9 PM
URL:https://michaelalanis.com/event/hyatt-regency-riverwalk-q-bar-kitchen-37/
LOCATION:Hyatt Regency San Antonio Riverwalk\, 123 Losoya\, San Antonio\, TX\, 78205\, United States
END:VEVENT
BEGIN:VEVENT
DTSTART;TZID=America/Chicago:20230301T190000
DTEND;TZID=America/Chicago:20230301T210000
DTSTAMP:20260425T222926
CREATED:20230220T032934Z
LAST-MODIFIED:20230220T032934Z
UID:9078-1677697200-1677704400@michaelalanis.com
SUMMARY:The Rustic - Houston
DESCRIPTION:Solo Acoustic \n7 PM – 9 PM
URL:https://michaelalanis.com/event/the-rustic-houston-8/
LOCATION:The Rustic – Houston\, 1836 Polk St\, Houston\, TX\, 77003\, United States
END:VEVENT
BEGIN:VEVENT
DTSTART;TZID=America/Chicago:20230228T203000
DTEND;TZID=America/Chicago:20230228T223000
DTSTAMP:20260425T222926
CREATED:20230228T182844Z
LAST-MODIFIED:20230228T183200Z
UID:9101-1677616200-1677623400@michaelalanis.com
SUMMARY:Tiny Cantina - Shops at La Cantera
DESCRIPTION:Solo Acoustic Performance \n8:30 PM – 10:30 PM
URL:https://michaelalanis.com/event/tiny-cantina-shops-at-la-cantera/
LOCATION:Tiny Cantina\, 15900 La Cantera Pkwy\, San Antonio\, TX\, 78256\, United States
END:VEVENT
BEGIN:VEVENT
DTSTART;TZID=America/Chicago:20230228T190000
DTEND;TZID=America/Chicago:20230228T210000
DTSTAMP:20260425T222926
CREATED:20230110T202338Z
LAST-MODIFIED:20230110T202338Z
UID:8977-1677610800-1677618000@michaelalanis.com
SUMMARY:Thompson Hotel - The Moon's Daughters Bar
DESCRIPTION:Solo Acoustic Performance \n7 pm – 9 pm
URL:https://michaelalanis.com/event/thompson-hotel-the-moons-daughters-bar-3/
LOCATION:Thompson Hotel – Moon’s Daughters Rooftop Lounge & Bar\, 115 Lexington Ave\, San Antonio\, TX\, 78205\, United States
END:VEVENT
BEGIN:VEVENT
DTSTART;TZID=America/Chicago:20230226T080000
DTEND;TZID=America/Chicago:20230226T170000
DTSTAMP:20260425T222926
CREATED:20230110T154354Z
LAST-MODIFIED:20230110T154354Z
UID:8968-1677398400-1677430800@michaelalanis.com
SUMMARY:The Rustic - San Antonio
DESCRIPTION:solo acoustic performance \n12:30 pm – 2:00 pm
URL:https://michaelalanis.com/event/the-rustic-san-antonio-62/
LOCATION:The Rustic – San Antonio\, 17619 La Cantera Pkwy #204\, San Antonio\, TX\, 78257\, United States
END:VEVENT
BEGIN:VEVENT
DTSTART;TZID=America/Chicago:20230225T200000
DTEND;TZID=America/Chicago:20230225T235900
DTSTAMP:20260425T222926
CREATED:20230126T225201Z
LAST-MODIFIED:20230217T233348Z
UID:9001-1677355200-1677369540@michaelalanis.com
SUMMARY:Crossroads Saloon & Steakhouse - Fredericksburg\, TX
DESCRIPTION:Band Performance \n8:30 pm – 12:30 am
URL:https://michaelalanis.com/event/private-event-fredericksburg-tx/
LOCATION:Crossroads Saloon and Steakhouse\, 305 W Main St\, Fredericksburg\, TX\, 78624\, United States
END:VEVENT
BEGIN:VEVENT
DTSTART;TZID=America/Chicago:20230224T200000
DTEND;TZID=America/Chicago:20230224T230000
DTSTAMP:20260425T222926
CREATED:20230126T225039Z
LAST-MODIFIED:20230126T225039Z
UID:8999-1677268800-1677279600@michaelalanis.com
SUMMARY:Grand Hyatt - Bar Rojo
DESCRIPTION:Duo acoustic performance \nfeaturing Jennifer Ezpinoza
URL:https://michaelalanis.com/event/grand-hyatt-bar-rojo-24/
LOCATION:TX
END:VEVENT
BEGIN:VEVENT
DTSTART;TZID=America/Chicago:20230219T110000
DTEND;TZID=America/Chicago:20230219T130000
DTSTAMP:20260425T222926
CREATED:20230210T173014Z
LAST-MODIFIED:20230210T173014Z
UID:9042-1676804400-1676811600@michaelalanis.com
SUMMARY:Pearl Farmers Market
DESCRIPTION:Solo Acoustic Performance \n11 am – 1 pm
URL:https://michaelalanis.com/event/pearl-farmers-market-3/
LOCATION:Pearl Farmers Market\, 312 Pearl Pkwy\, San Antonio\, TX\, 7878215238\, United States
END:VEVENT
BEGIN:VEVENT
DTSTART;TZID=America/Chicago:20230218T170000
DTEND;TZID=America/Chicago:20230218T230000
DTSTAMP:20260425T222926
CREATED:20230126T224902Z
LAST-MODIFIED:20230126T224902Z
UID:8997-1676739600-1676761200@michaelalanis.com
SUMMARY:Private Wedding
DESCRIPTION:Royal Dukes Wedding Event
URL:https://michaelalanis.com/event/private-wedding-15/
LOCATION:TX
END:VEVENT
BEGIN:VEVENT
DTSTART;TZID=America/Chicago:20230217T180000
DTEND;TZID=America/Chicago:20230217T210000
DTSTAMP:20260425T222926
CREATED:20230126T224800Z
LAST-MODIFIED:20230126T224800Z
UID:8995-1676656800-1676667600@michaelalanis.com
SUMMARY:Hyatt Regency Riverwalk - Q-Bar
DESCRIPTION:Solo Acoustic performance \n6 pm – 9 pm
URL:https://michaelalanis.com/event/hyatt-regency-riverwalk-q-bar-3/
LOCATION:Hyatt Regency San Antonio Riverwalk\, 123 Losoya\, San Antonio\, TX\, 78205\, United States
END:VEVENT
BEGIN:VEVENT
DTSTART;TZID=America/Chicago:20230216T180000
DTEND;TZID=America/Chicago:20230216T210000
DTSTAMP:20260425T222927
CREATED:20230130T222820Z
LAST-MODIFIED:20230130T222820Z
UID:9008-1676570400-1676581200@michaelalanis.com
SUMMARY:Elsewhere Garden Bar & Kitchen
DESCRIPTION:Solo acoustic performance \n6 pm – 9 pm
URL:https://michaelalanis.com/event/elsewhere-garden-bar-kitchen-32/
LOCATION:Elesewhere Garden Bar & Kitchen\, 103 E Jones Ave\, San Antonio\, TX\, 78215\, United States
END:VEVENT
BEGIN:VEVENT
DTSTART;TZID=America/Chicago:20230215T200000
DTEND;TZID=America/Chicago:20230215T210000
DTSTAMP:20260425T222927
CREATED:20230126T224616Z
LAST-MODIFIED:20230126T224616Z
UID:8993-1676491200-1676494800@michaelalanis.com
SUMMARY:Royal Dukes Showcase - 502 Bar
DESCRIPTION:Royal Dukes Band Showcase \n8 pm – 9 pm
URL:https://michaelalanis.com/event/royal-dukes-showcase-502-bar-2/
LOCATION:TX
END:VEVENT
BEGIN:VEVENT
DTSTART;TZID=America/Chicago:20230214T200000
DTEND;TZID=America/Chicago:20230214T235900
DTSTAMP:20260425T222927
CREATED:20230110T153811Z
LAST-MODIFIED:20230110T153811Z
UID:8964-1676404800-1676419140@michaelalanis.com
SUMMARY:Luna - Valentine's Day
DESCRIPTION:Valentine’s Day Band Performance \n8 pm – 12 am \n 
URL:https://michaelalanis.com/event/luna-valentines-day/
LOCATION:Hyatt Hill Country Resort – Luckenbach Pavillion\, 9800 Hyatt Resort Dr.\, San Antonio\, TX\, 78251\, United States
END:VEVENT
BEGIN:VEVENT
DTSTART;TZID=America/Chicago:20230211T180000
DTEND;TZID=America/Chicago:20230211T210000
DTSTAMP:20260425T222927
CREATED:20230126T224416Z
LAST-MODIFIED:20230211T231849Z
UID:8991-1676138400-1676149200@michaelalanis.com
SUMMARY:Dog & Pony Grill
DESCRIPTION:Solo acoustic performance \n6 pm – 9m \nhttps://www.dogandponygrill.com/ \n1481 S Main St\, Boerne\, TX 78006
URL:https://michaelalanis.com/event/private-event-36/
LOCATION:TX
END:VEVENT
BEGIN:VEVENT
DTSTART;TZID=America/Chicago:20230210T180000
DTEND;TZID=America/Chicago:20230210T193000
DTSTAMP:20260425T222927
CREATED:20230110T153930Z
LAST-MODIFIED:20230110T153930Z
UID:8966-1676052000-1676057400@michaelalanis.com
SUMMARY:The Rustic - San Antonio
DESCRIPTION:Solo Acoustic Performance \n6:00 pm – 7:30 pm
URL:https://michaelalanis.com/event/the-rustic-san-antonio-61/
LOCATION:The Rustic – San Antonio\, 17619 La Cantera Pkwy #204\, San Antonio\, TX\, 78257\, United States
END:VEVENT
BEGIN:VEVENT
DTSTART;TZID=America/Chicago:20230209T180000
DTEND;TZID=America/Chicago:20230209T210000
DTSTAMP:20260425T222927
CREATED:20230205T223643Z
LAST-MODIFIED:20230205T223643Z
UID:9025-1675965600-1675976400@michaelalanis.com
SUMMARY:Hyatt Regency Lost Pines - Austin
DESCRIPTION:Solo acoustic Performance \n6 PM – 9 PM
URL:https://michaelalanis.com/event/hyatt-regency-lost-pines-austin-2/
LOCATION:Hyatt Lost Pines Resort – LBJ Pavilion\, 575 Hyatt Lost Pines Rd\, Lost Pines\, TX\, 78612\, United States
END:VEVENT
BEGIN:VEVENT
DTSTART;TZID=America/Chicago:20230209T173000
DTEND;TZID=America/Chicago:20230209T213000
DTSTAMP:20260425T222927
CREATED:20230126T224207Z
LAST-MODIFIED:20230126T224207Z
UID:8989-1675963800-1675978200@michaelalanis.com
SUMMARY:Private Event
DESCRIPTION:Private Event \n5:30 pm – 9:00 pm
URL:https://michaelalanis.com/event/private-event-35/
LOCATION:TX
END:VEVENT
BEGIN:VEVENT
DTSTART;TZID=America/Chicago:20230208T180000
DTEND;TZID=America/Chicago:20230208T210000
DTSTAMP:20260425T222927
CREATED:20230205T223540Z
LAST-MODIFIED:20230205T223540Z
UID:9022-1675879200-1675890000@michaelalanis.com
SUMMARY:Hyatt Regency Lost Pines - Austin
DESCRIPTION:Solo acoustic performance \n6 PM – 9 PM
URL:https://michaelalanis.com/event/hyatt-regency-lost-pines-austin/
LOCATION:Hyatt Lost Pines Resort – LBJ Pavilion\, 575 Hyatt Lost Pines Rd\, Lost Pines\, TX\, 78612\, United States
END:VEVENT
BEGIN:VEVENT
DTSTART;TZID=America/Chicago:20230207T190000
DTEND;TZID=America/Chicago:20230207T210000
DTSTAMP:20260425T222927
CREATED:20230110T202221Z
LAST-MODIFIED:20230110T202221Z
UID:8975-1675796400-1675803600@michaelalanis.com
SUMMARY:Thompson Hotel - The Moon's Daughters Bar
DESCRIPTION:Solo Acoustic Performance \n7 pm – 9 pm
URL:https://michaelalanis.com/event/thompson-hotel-the-moons-daughters-bar-2/
LOCATION:Thompson Hotel – Moon’s Daughters Rooftop Lounge & Bar\, 115 Lexington Ave\, San Antonio\, TX\, 78205\, United States
END:VEVENT
BEGIN:VEVENT
DTSTART;TZID=America/Chicago:20230204T170000
DTEND;TZID=America/Chicago:20230204T200000
DTSTAMP:20260425T222927
CREATED:20230126T223502Z
LAST-MODIFIED:20230126T223617Z
UID:8987-1675530000-1675540800@michaelalanis.com
SUMMARY:Red Berry Estates
DESCRIPTION:Private Event \n5 pm – 8 pm
URL:https://michaelalanis.com/event/red-berry-estates/
LOCATION:TX
END:VEVENT
BEGIN:VEVENT
DTSTART;TZID=America/Chicago:20230204T103000
DTEND;TZID=America/Chicago:20230204T130000
DTSTAMP:20260425T222927
CREATED:20230210T172823Z
LAST-MODIFIED:20230210T172823Z
UID:9040-1675506600-1675515600@michaelalanis.com
SUMMARY:Pearl Farmers Market
DESCRIPTION:Solo Acoustic Performance \n10:30 am – 12:30 pm
URL:https://michaelalanis.com/event/pearl-farmers-market-2/
LOCATION:Pearl Farmers Market\, 312 Pearl Pkwy\, San Antonio\, TX\, 7878215238\, United States
END:VEVENT
BEGIN:VEVENT
DTSTART;TZID=America/Chicago:20230204T103000
DTEND;TZID=America/Chicago:20230204T123000
DTSTAMP:20260425T222927
CREATED:20230204T131817Z
LAST-MODIFIED:20230204T131817Z
UID:9019-1675506600-1675513800@michaelalanis.com
SUMMARY:Pearl Farmers Market
DESCRIPTION:Solo acoustic performance \n10:30 am – 12:30 am
URL:https://michaelalanis.com/event/pearl-farmers-market/
LOCATION:Pearl Farmers Market\, 312 Pearl Pkwy\, San Antonio\, TX\, 7878215238\, United States
END:VEVENT
END:VCALENDAR