BEGIN:VCALENDAR
VERSION:2.0
PRODID:-//Michael Alanis - ECPv6.15.20//NONSGML v1.0//EN
CALSCALE:GREGORIAN
METHOD:PUBLISH
X-WR-CALNAME:Michael Alanis
X-ORIGINAL-URL:https://michaelalanis.com
X-WR-CALDESC:Events for Michael Alanis
REFRESH-INTERVAL;VALUE=DURATION:PT1H
X-Robots-Tag:noindex
X-PUBLISHED-TTL:PT1H
BEGIN:VTIMEZONE
TZID:America/Chicago
BEGIN:DAYLIGHT
TZOFFSETFROM:-0600
TZOFFSETTO:-0500
TZNAME:CDT
DTSTART:20240310T080000
END:DAYLIGHT
BEGIN:STANDARD
TZOFFSETFROM:-0500
TZOFFSETTO:-0600
TZNAME:CST
DTSTART:20241103T070000
END:STANDARD
BEGIN:DAYLIGHT
TZOFFSETFROM:-0600
TZOFFSETTO:-0500
TZNAME:CDT
DTSTART:20250309T080000
END:DAYLIGHT
BEGIN:STANDARD
TZOFFSETFROM:-0500
TZOFFSETTO:-0600
TZNAME:CST
DTSTART:20251102T070000
END:STANDARD
BEGIN:DAYLIGHT
TZOFFSETFROM:-0600
TZOFFSETTO:-0500
TZNAME:CDT
DTSTART:20260308T080000
END:DAYLIGHT
BEGIN:STANDARD
TZOFFSETFROM:-0500
TZOFFSETTO:-0600
TZNAME:CST
DTSTART:20261101T070000
END:STANDARD
END:VTIMEZONE
BEGIN:VEVENT
DTSTART;TZID=America/Chicago:20251107T180000
DTEND;TZID=America/Chicago:20251107T210000
DTSTAMP:20260423T212146
CREATED:20251107T124057Z
LAST-MODIFIED:20251107T124057Z
UID:10756-1762538400-1762549200@michaelalanis.com
SUMMARY:Sky Lounge on Lady Bird at River South
DESCRIPTION:Solo Acoustic Performance \n6 PM – 9 PM
URL:https://michaelalanis.com/event/sky-lounge-on-lady-bird-at-river-south-2/
LOCATION:Sky Lounge on Lady Bird at RiverSouth\, 401 S 1st St\, Austin\, TX\, 78704\, United States
END:VEVENT
BEGIN:VEVENT
DTSTART;TZID=America/Chicago:20251107T200000
DTEND;TZID=America/Chicago:20251107T230000
DTSTAMP:20260423T212146
CREATED:20251107T133041Z
LAST-MODIFIED:20251107T133041Z
UID:10782-1762545600-1762556400@michaelalanis.com
SUMMARY:Emigrant Boutique Hotel - Maggie's Speakeasy Bar
DESCRIPTION:Sitting in w/ Jenn & Juice Band \n8 pm – 11 pm
URL:https://michaelalanis.com/event/emigrant-boutique-hotel-maggies-speakeasy-bar-7/
LOCATION:Emigrant Boutique Hotel – Maggie’s Speakeasy Bar\, 106 S Washington St\, Fredericksburg\, TX\, 78624\, United States
END:VEVENT
END:VCALENDAR