BEGIN:VCALENDAR
VERSION:2.0
PRODID:-//Michael Alanis - ECPv6.15.20//NONSGML v1.0//EN
CALSCALE:GREGORIAN
METHOD:PUBLISH
X-WR-CALNAME:Michael Alanis
X-ORIGINAL-URL:https://michaelalanis.com
X-WR-CALDESC:Events for Michael Alanis
REFRESH-INTERVAL;VALUE=DURATION:PT1H
X-Robots-Tag:noindex
X-PUBLISHED-TTL:PT1H
BEGIN:VTIMEZONE
TZID:America/Chicago
BEGIN:DAYLIGHT
TZOFFSETFROM:-0600
TZOFFSETTO:-0500
TZNAME:CDT
DTSTART:20240310T080000
END:DAYLIGHT
BEGIN:STANDARD
TZOFFSETFROM:-0500
TZOFFSETTO:-0600
TZNAME:CST
DTSTART:20241103T070000
END:STANDARD
BEGIN:DAYLIGHT
TZOFFSETFROM:-0600
TZOFFSETTO:-0500
TZNAME:CDT
DTSTART:20250309T080000
END:DAYLIGHT
BEGIN:STANDARD
TZOFFSETFROM:-0500
TZOFFSETTO:-0600
TZNAME:CST
DTSTART:20251102T070000
END:STANDARD
BEGIN:DAYLIGHT
TZOFFSETFROM:-0600
TZOFFSETTO:-0500
TZNAME:CDT
DTSTART:20260308T080000
END:DAYLIGHT
BEGIN:STANDARD
TZOFFSETFROM:-0500
TZOFFSETTO:-0600
TZNAME:CST
DTSTART:20261101T070000
END:STANDARD
END:VTIMEZONE
BEGIN:VEVENT
DTSTART;TZID=America/Chicago:20250914T010000
DTEND;TZID=America/Chicago:20250914T160000
DTSTAMP:20260423T234309
CREATED:20250907T182652Z
LAST-MODIFIED:20250907T182652Z
UID:10692-1757811600-1757865600@michaelalanis.com
SUMMARY:Glimmering Oaks - Open House
DESCRIPTION:Solo Acoustic Performance \n1 pm – 4 pm \nGlimmering Oaks Event Center \n20465 S Jett Rd\, San Antonio\, TX 78264
URL:https://michaelalanis.com/event/glimmering-oaks-open-house/
LOCATION:TX
END:VEVENT
END:VCALENDAR