BEGIN:VCALENDAR
VERSION:2.0
PRODID:-//Michael Alanis - ECPv6.15.20//NONSGML v1.0//EN
CALSCALE:GREGORIAN
METHOD:PUBLISH
X-ORIGINAL-URL:https://michaelalanis.com
X-WR-CALDESC:Events for Michael Alanis
REFRESH-INTERVAL;VALUE=DURATION:PT1H
X-Robots-Tag:noindex
X-PUBLISHED-TTL:PT1H
BEGIN:VTIMEZONE
TZID:America/Chicago
BEGIN:DAYLIGHT
TZOFFSETFROM:-0600
TZOFFSETTO:-0500
TZNAME:CDT
DTSTART:20240310T080000
END:DAYLIGHT
BEGIN:STANDARD
TZOFFSETFROM:-0500
TZOFFSETTO:-0600
TZNAME:CST
DTSTART:20241103T070000
END:STANDARD
BEGIN:DAYLIGHT
TZOFFSETFROM:-0600
TZOFFSETTO:-0500
TZNAME:CDT
DTSTART:20250309T080000
END:DAYLIGHT
BEGIN:STANDARD
TZOFFSETFROM:-0500
TZOFFSETTO:-0600
TZNAME:CST
DTSTART:20251102T070000
END:STANDARD
BEGIN:DAYLIGHT
TZOFFSETFROM:-0600
TZOFFSETTO:-0500
TZNAME:CDT
DTSTART:20260308T080000
END:DAYLIGHT
BEGIN:STANDARD
TZOFFSETFROM:-0500
TZOFFSETTO:-0600
TZNAME:CST
DTSTART:20261101T070000
END:STANDARD
END:VTIMEZONE
BEGIN:VEVENT
DTSTART;TZID=America/Chicago:20250809T200000
DTEND;TZID=America/Chicago:20250809T230000
DTSTAMP:20260424T010454
CREATED:20250723T012716Z
LAST-MODIFIED:20250723T014148Z
UID:10631-1754769600-1754780400@michaelalanis.com
SUMMARY:Hilton Long Beach
DESCRIPTION:Band Performance \n8:00 pm – 11:00 pm \nJoin Michael Alanis and his band for two unforgettable nights of live music\, in atmospheres like no other. \nWe’re thrilled to share that they will also be performing at GillesSignature | Weekly Live Entertainment Performances in LA. Details are listed below. \nHilton Long Beach\n701 W Ocean Blvd\nLong Beach\, CA 90831\n\nhttps://www.eventbrite.com/e/the-michael-alanis-longbeach-afterparty-tickets-1478295675159?aff=oddtdtcreator
URL:https://michaelalanis.com/event/hilton-long-beach-2/
LOCATION:TX
END:VEVENT
END:VCALENDAR