BEGIN:VCALENDAR
VERSION:2.0
PRODID:-//Michael Alanis - ECPv6.15.20//NONSGML v1.0//EN
CALSCALE:GREGORIAN
METHOD:PUBLISH
X-WR-CALNAME:Michael Alanis
X-ORIGINAL-URL:https://michaelalanis.com
X-WR-CALDESC:Events for Michael Alanis
REFRESH-INTERVAL;VALUE=DURATION:PT1H
X-Robots-Tag:noindex
X-PUBLISHED-TTL:PT1H
BEGIN:VTIMEZONE
TZID:America/Chicago
BEGIN:DAYLIGHT
TZOFFSETFROM:-0600
TZOFFSETTO:-0500
TZNAME:CDT
DTSTART:20240310T080000
END:DAYLIGHT
BEGIN:STANDARD
TZOFFSETFROM:-0500
TZOFFSETTO:-0600
TZNAME:CST
DTSTART:20241103T070000
END:STANDARD
BEGIN:DAYLIGHT
TZOFFSETFROM:-0600
TZOFFSETTO:-0500
TZNAME:CDT
DTSTART:20250309T080000
END:DAYLIGHT
BEGIN:STANDARD
TZOFFSETFROM:-0500
TZOFFSETTO:-0600
TZNAME:CST
DTSTART:20251102T070000
END:STANDARD
BEGIN:DAYLIGHT
TZOFFSETFROM:-0600
TZOFFSETTO:-0500
TZNAME:CDT
DTSTART:20260308T080000
END:DAYLIGHT
BEGIN:STANDARD
TZOFFSETFROM:-0500
TZOFFSETTO:-0600
TZNAME:CST
DTSTART:20261101T070000
END:STANDARD
END:VTIMEZONE
BEGIN:VEVENT
DTSTART;TZID=America/Chicago:20250807T193000
DTEND;TZID=America/Chicago:20250807T233000
DTSTAMP:20260424T010334
CREATED:20250723T012051Z
LAST-MODIFIED:20250723T012908Z
UID:10626-1754595000-1754609400@michaelalanis.com
SUMMARY:Creative Jazz Fusion in the Delphi Hotel Lounge
DESCRIPTION:Band Performance \n7:30 pm – 11:30 pm \nThe Delphi Hotel Lounge \n550 S. Flower St.\, Los Angeles\, CA 90071 \nBoth JazzEclecticLA at Bar Lis and CreativeJazzFusion in the Delphi Hotel have been recognized in Best of LA as top destinations to experience some of the most talented musicians around! \nJoin Michael Alanis and his band for two unforgettable nights of live music\, in atmospheres like no other. \nWe’re thrilled to share that they will also be performing at GillesSignature | Weekly Live Entertainment Performances in LA. Details are listed below. \n(https://www.eventbrite.com/e/creative-jazz-fusion-tickets-769874674877?aff=oddtdtcreator)
URL:https://michaelalanis.com/event/creative-jazz-fusion-in-the-delphi-hotel-lounge/
LOCATION:TX
END:VEVENT
END:VCALENDAR