BEGIN:VCALENDAR
VERSION:2.0
PRODID:-//Michael Alanis - ECPv6.15.20//NONSGML v1.0//EN
CALSCALE:GREGORIAN
METHOD:PUBLISH
X-WR-CALNAME:Michael Alanis
X-ORIGINAL-URL:https://michaelalanis.com
X-WR-CALDESC:Events for Michael Alanis
REFRESH-INTERVAL;VALUE=DURATION:PT1H
X-Robots-Tag:noindex
X-PUBLISHED-TTL:PT1H
BEGIN:VTIMEZONE
TZID:America/Chicago
BEGIN:DAYLIGHT
TZOFFSETFROM:-0600
TZOFFSETTO:-0500
TZNAME:CDT
DTSTART:20240310T080000
END:DAYLIGHT
BEGIN:STANDARD
TZOFFSETFROM:-0500
TZOFFSETTO:-0600
TZNAME:CST
DTSTART:20241103T070000
END:STANDARD
BEGIN:DAYLIGHT
TZOFFSETFROM:-0600
TZOFFSETTO:-0500
TZNAME:CDT
DTSTART:20250309T080000
END:DAYLIGHT
BEGIN:STANDARD
TZOFFSETFROM:-0500
TZOFFSETTO:-0600
TZNAME:CST
DTSTART:20251102T070000
END:STANDARD
BEGIN:DAYLIGHT
TZOFFSETFROM:-0600
TZOFFSETTO:-0500
TZNAME:CDT
DTSTART:20260308T080000
END:DAYLIGHT
BEGIN:STANDARD
TZOFFSETFROM:-0500
TZOFFSETTO:-0600
TZNAME:CST
DTSTART:20261101T070000
END:STANDARD
END:VTIMEZONE
BEGIN:VEVENT
DTSTART;TZID=America/Chicago:20250805T200000
DTEND;TZID=America/Chicago:20250805T235900
DTSTAMP:20260424T010332
CREATED:20250723T011802Z
LAST-MODIFIED:20250723T012823Z
UID:10624-1754424000-1754438340@michaelalanis.com
SUMMARY:Jazz Eclectic L.A. / Bar-Lis
DESCRIPTION:Band Performance \n8:00 pm – 12:00 am \nThe Thompson Hotel Hollywood – Bar Lis\n1541 Wilcox Ave\, Los Angeles\, CA 90028 \nBoth JazzEclecticLA at Bar Lis and CreativeJazzFusion in the Delphi Hotel have been recognized in Best of LA as top destinations to experience some of the most talented musicians around! \nJoin Michael Alanis and his band for two unforgettable nights of live music\, in atmospheres like no other. \nWe’re thrilled to share that they will also be performing at GillesSignature | Weekly Live Entertainment Performances in LA. Details are listed below. \nhttps://www.barlisla.com/ \n(https://www.eventbrite.com/e/jazz-eclectic-la-tickets-168836878649)
URL:https://michaelalanis.com/event/jazz-eclectic-l-a-bar-lis/
LOCATION:TX
END:VEVENT
END:VCALENDAR