BEGIN:VCALENDAR
VERSION:2.0
PRODID:-//Michael Alanis - ECPv6.15.20//NONSGML v1.0//EN
CALSCALE:GREGORIAN
METHOD:PUBLISH
X-ORIGINAL-URL:https://michaelalanis.com
X-WR-CALDESC:Events for Michael Alanis
REFRESH-INTERVAL;VALUE=DURATION:PT1H
X-Robots-Tag:noindex
X-PUBLISHED-TTL:PT1H
BEGIN:VTIMEZONE
TZID:America/Chicago
BEGIN:DAYLIGHT
TZOFFSETFROM:-0600
TZOFFSETTO:-0500
TZNAME:CDT
DTSTART:20240310T080000
END:DAYLIGHT
BEGIN:STANDARD
TZOFFSETFROM:-0500
TZOFFSETTO:-0600
TZNAME:CST
DTSTART:20241103T070000
END:STANDARD
BEGIN:DAYLIGHT
TZOFFSETFROM:-0600
TZOFFSETTO:-0500
TZNAME:CDT
DTSTART:20250309T080000
END:DAYLIGHT
BEGIN:STANDARD
TZOFFSETFROM:-0500
TZOFFSETTO:-0600
TZNAME:CST
DTSTART:20251102T070000
END:STANDARD
BEGIN:DAYLIGHT
TZOFFSETFROM:-0600
TZOFFSETTO:-0500
TZNAME:CDT
DTSTART:20260308T080000
END:DAYLIGHT
BEGIN:STANDARD
TZOFFSETFROM:-0500
TZOFFSETTO:-0600
TZNAME:CST
DTSTART:20261101T070000
END:STANDARD
END:VTIMEZONE
BEGIN:VEVENT
DTSTART;TZID=America/Chicago:20250601T120000
DTEND;TZID=America/Chicago:20250601T170000
DTSTAMP:20260424T034900
CREATED:20250527T113713Z
LAST-MODIFIED:20250527T113831Z
UID:10535-1748779200-1748797200@michaelalanis.com
SUMMARY:Bridal Extravaganza 2025 - Henry B. Gonzalez Center
DESCRIPTION:12 PM – 5 PM \nhttps://texasweddings.com/tickets/san-antonio/GARTER?gad_source=1&gad_campaignid=22383898046&gclid=Cj0KCQjwxdXBBhDEARIsAAUkP6jvEpoNayu7ii1OlcrVtHwEXUiBUlkgBvXTL3wcK6Z0TuzAz_0KTAAaAmmEEALw_wcB
URL:https://michaelalanis.com/event/bridal-extravaganza-2025-henry-b-gonzalez-center/
LOCATION:TX
END:VEVENT
END:VCALENDAR