BEGIN:VCALENDAR
VERSION:2.0
PRODID:-//Michael Alanis - ECPv6.15.20//NONSGML v1.0//EN
CALSCALE:GREGORIAN
METHOD:PUBLISH
X-WR-CALNAME:Michael Alanis
X-ORIGINAL-URL:https://michaelalanis.com
X-WR-CALDESC:Events for Michael Alanis
REFRESH-INTERVAL;VALUE=DURATION:PT1H
X-Robots-Tag:noindex
X-PUBLISHED-TTL:PT1H
BEGIN:VTIMEZONE
TZID:America/Chicago
BEGIN:DAYLIGHT
TZOFFSETFROM:-0600
TZOFFSETTO:-0500
TZNAME:CDT
DTSTART:20230312T080000
END:DAYLIGHT
BEGIN:STANDARD
TZOFFSETFROM:-0500
TZOFFSETTO:-0600
TZNAME:CST
DTSTART:20231105T070000
END:STANDARD
BEGIN:DAYLIGHT
TZOFFSETFROM:-0600
TZOFFSETTO:-0500
TZNAME:CDT
DTSTART:20240310T080000
END:DAYLIGHT
BEGIN:STANDARD
TZOFFSETFROM:-0500
TZOFFSETTO:-0600
TZNAME:CST
DTSTART:20241103T070000
END:STANDARD
BEGIN:DAYLIGHT
TZOFFSETFROM:-0600
TZOFFSETTO:-0500
TZNAME:CDT
DTSTART:20250309T080000
END:DAYLIGHT
BEGIN:STANDARD
TZOFFSETFROM:-0500
TZOFFSETTO:-0600
TZNAME:CST
DTSTART:20251102T070000
END:STANDARD
END:VTIMEZONE
BEGIN:VEVENT
DTSTART;TZID=America/Chicago:20241025T160000
DTEND;TZID=America/Chicago:20241025T200000
DTSTAMP:20260424T180723
CREATED:20241023T114139Z
LAST-MODIFIED:20241023T114139Z
UID:10103-1729872000-1729886400@michaelalanis.com
SUMMARY:Estancia del Norte - Paseo Bar
DESCRIPTION:Solo Acoustic Performance \n4 PM – 8 PM
URL:https://michaelalanis.com/event/estancia-del-norte-paseo-bar-59/
LOCATION:Estancia del Norte – Paseo Bar\, 37 NE Loop 410 at\, McCullough Ave\, San Antonio\, TX\, 78216\, United States
END:VEVENT
BEGIN:VEVENT
DTSTART;TZID=America/Chicago:20241025T220000
DTEND;TZID=America/Chicago:20241025T220000
DTSTAMP:20260424T180723
CREATED:20241013T182044Z
LAST-MODIFIED:20241013T182044Z
UID:10096-1729893600-1729893600@michaelalanis.com
SUMMARY:River Sun - w/ Jennifer Espinoza
DESCRIPTION:Band –  Accompanying Jennifer Espinoza \n10 PM – 1 AM
URL:https://michaelalanis.com/event/river-sun-w-jennifer-espinoza/
LOCATION:River Sun\, 1011 Avenue B\, San Antonio\, TX\, 78215\, United States
END:VEVENT
END:VCALENDAR