BEGIN:VCALENDAR
VERSION:2.0
PRODID:-//Michael Alanis - ECPv6.15.20//NONSGML v1.0//EN
CALSCALE:GREGORIAN
METHOD:PUBLISH
X-ORIGINAL-URL:https://michaelalanis.com
X-WR-CALDESC:Events for Michael Alanis
REFRESH-INTERVAL;VALUE=DURATION:PT1H
X-Robots-Tag:noindex
X-PUBLISHED-TTL:PT1H
BEGIN:VTIMEZONE
TZID:America/Chicago
BEGIN:DAYLIGHT
TZOFFSETFROM:-0600
TZOFFSETTO:-0500
TZNAME:CDT
DTSTART:20230312T080000
END:DAYLIGHT
BEGIN:STANDARD
TZOFFSETFROM:-0500
TZOFFSETTO:-0600
TZNAME:CST
DTSTART:20231105T070000
END:STANDARD
BEGIN:DAYLIGHT
TZOFFSETFROM:-0600
TZOFFSETTO:-0500
TZNAME:CDT
DTSTART:20240310T080000
END:DAYLIGHT
BEGIN:STANDARD
TZOFFSETFROM:-0500
TZOFFSETTO:-0600
TZNAME:CST
DTSTART:20241103T070000
END:STANDARD
BEGIN:DAYLIGHT
TZOFFSETFROM:-0600
TZOFFSETTO:-0500
TZNAME:CDT
DTSTART:20250309T080000
END:DAYLIGHT
BEGIN:STANDARD
TZOFFSETFROM:-0500
TZOFFSETTO:-0600
TZNAME:CST
DTSTART:20251102T070000
END:STANDARD
END:VTIMEZONE
BEGIN:VEVENT
DTSTART;TZID=America/Chicago:20241023T160000
DTEND;TZID=America/Chicago:20241023T200000
DTSTAMP:20260424T180954
CREATED:20241013T181510Z
LAST-MODIFIED:20241023T113912Z
UID:10092-1729699200-1729713600@michaelalanis.com
SUMMARY:Estancia del Norte - Paseo Bar (feat. Ruben V)
DESCRIPTION:Dou Acoustic Performance \n4:30 PM – 8 :30 PM
URL:https://michaelalanis.com/event/estancia-del-norte/
LOCATION:Estancia del Norte – Paseo Bar\, 37 NE Loop 410 at\, McCullough Ave\, San Antonio\, TX\, 78216\, United States
END:VEVENT
BEGIN:VEVENT
DTSTART;TZID=America/Chicago:20241023T173000
DTEND;TZID=America/Chicago:20241023T183000
DTSTAMP:20260424T180954
CREATED:20241013T181349Z
LAST-MODIFIED:20241013T181349Z
UID:10090-1729704600-1729708200@michaelalanis.com
SUMMARY:Private Event
DESCRIPTION:Solo Acoustic Performance \n5:30 PM – 6:30 PM
URL:https://michaelalanis.com/event/private-event-69/
LOCATION:TX
END:VEVENT
END:VCALENDAR