BEGIN:VCALENDAR
VERSION:2.0
PRODID:-//Michael Alanis - ECPv6.15.20//NONSGML v1.0//EN
CALSCALE:GREGORIAN
METHOD:PUBLISH
X-ORIGINAL-URL:https://michaelalanis.com
X-WR-CALDESC:Events for Michael Alanis
REFRESH-INTERVAL;VALUE=DURATION:PT1H
X-Robots-Tag:noindex
X-PUBLISHED-TTL:PT1H
BEGIN:VTIMEZONE
TZID:America/Chicago
BEGIN:DAYLIGHT
TZOFFSETFROM:-0600
TZOFFSETTO:-0500
TZNAME:CDT
DTSTART:20230312T080000
END:DAYLIGHT
BEGIN:STANDARD
TZOFFSETFROM:-0500
TZOFFSETTO:-0600
TZNAME:CST
DTSTART:20231105T070000
END:STANDARD
BEGIN:DAYLIGHT
TZOFFSETFROM:-0600
TZOFFSETTO:-0500
TZNAME:CDT
DTSTART:20240310T080000
END:DAYLIGHT
BEGIN:STANDARD
TZOFFSETFROM:-0500
TZOFFSETTO:-0600
TZNAME:CST
DTSTART:20241103T070000
END:STANDARD
BEGIN:DAYLIGHT
TZOFFSETFROM:-0600
TZOFFSETTO:-0500
TZNAME:CDT
DTSTART:20250309T080000
END:DAYLIGHT
BEGIN:STANDARD
TZOFFSETFROM:-0500
TZOFFSETTO:-0600
TZNAME:CST
DTSTART:20251102T070000
END:STANDARD
END:VTIMEZONE
BEGIN:VEVENT
DTSTART;TZID=America/Chicago:20240823T100000
DTEND;TZID=America/Chicago:20240824T010000
DTSTAMP:20260424T192225
CREATED:20240820T182459Z
LAST-MODIFIED:20240820T182459Z
UID:9985-1724407200-1724461200@michaelalanis.com
SUMMARY:The Rose San Antonio
DESCRIPTION:Band Performance \n10 pm – 1 am
URL:https://michaelalanis.com/event/the-rose-san-antonio-3/
LOCATION:The Rose San Antonio\, 420 East Houston St.\, San Antonio\, TX\, 78205\, United States
END:VEVENT
BEGIN:VEVENT
DTSTART;TZID=America/Chicago:20240824T190000
DTEND;TZID=America/Chicago:20240824T220000
DTSTAMP:20260424T192225
CREATED:20240802T194051Z
LAST-MODIFIED:20240802T194051Z
UID:9974-1724526000-1724536800@michaelalanis.com
SUMMARY:Private Event
DESCRIPTION:Private Band Performance \n7 pm – 10 pm
URL:https://michaelalanis.com/event/private-event-68/
LOCATION:TX
END:VEVENT
END:VCALENDAR