BEGIN:VCALENDAR
VERSION:2.0
PRODID:-//Michael Alanis - ECPv6.15.20//NONSGML v1.0//EN
CALSCALE:GREGORIAN
METHOD:PUBLISH
X-ORIGINAL-URL:https://michaelalanis.com
X-WR-CALDESC:Events for Michael Alanis
REFRESH-INTERVAL;VALUE=DURATION:PT1H
X-Robots-Tag:noindex
X-PUBLISHED-TTL:PT1H
BEGIN:VTIMEZONE
TZID:America/Chicago
BEGIN:DAYLIGHT
TZOFFSETFROM:-0600
TZOFFSETTO:-0500
TZNAME:CDT
DTSTART:20230312T080000
END:DAYLIGHT
BEGIN:STANDARD
TZOFFSETFROM:-0500
TZOFFSETTO:-0600
TZNAME:CST
DTSTART:20231105T070000
END:STANDARD
BEGIN:DAYLIGHT
TZOFFSETFROM:-0600
TZOFFSETTO:-0500
TZNAME:CDT
DTSTART:20240310T080000
END:DAYLIGHT
BEGIN:STANDARD
TZOFFSETFROM:-0500
TZOFFSETTO:-0600
TZNAME:CST
DTSTART:20241103T070000
END:STANDARD
BEGIN:DAYLIGHT
TZOFFSETFROM:-0600
TZOFFSETTO:-0500
TZNAME:CDT
DTSTART:20250309T080000
END:DAYLIGHT
BEGIN:STANDARD
TZOFFSETFROM:-0500
TZOFFSETTO:-0600
TZNAME:CST
DTSTART:20251102T070000
END:STANDARD
END:VTIMEZONE
BEGIN:VEVENT
DTSTART;TZID=America/Chicago:20240706T080000
DTEND;TZID=America/Chicago:20240706T170000
DTSTAMP:20260424T204120
CREATED:20240703T143905Z
LAST-MODIFIED:20240703T143905Z
UID:9916-1720252800-1720285200@michaelalanis.com
SUMMARY:The Rose San Antonio
DESCRIPTION:Band Performance \n9 pm – 1 -am
URL:https://michaelalanis.com/event/the-rose-san-antonio/
LOCATION:The Rose San Antonio\, 420 East Houston St.\, San Antonio\, TX\, 78205\, United States
END:VEVENT
BEGIN:VEVENT
DTSTART;TZID=America/Chicago:20240706T173000
DTEND;TZID=America/Chicago:20240706T203000
DTSTAMP:20260424T204120
CREATED:20240703T143227Z
LAST-MODIFIED:20240703T143227Z
UID:9914-1720287000-1720297800@michaelalanis.com
SUMMARY:Hyatt Hill Country
DESCRIPTION:Band Performance \n5:00 pm – 8:00 pm
URL:https://michaelalanis.com/event/hyatt-hill-country-11/
LOCATION:Hyatt Regency Hill Country Resort – Springhouse Cafe\, 9800 Hyatt Resort Drive\, San Antonio\, TX\, 782251\, United States
END:VEVENT
END:VCALENDAR