BEGIN:VCALENDAR
VERSION:2.0
PRODID:-//Michael Alanis - ECPv6.15.20//NONSGML v1.0//EN
CALSCALE:GREGORIAN
METHOD:PUBLISH
X-WR-CALNAME:Michael Alanis
X-ORIGINAL-URL:https://michaelalanis.com
X-WR-CALDESC:Events for Michael Alanis
REFRESH-INTERVAL;VALUE=DURATION:PT1H
X-Robots-Tag:noindex
X-PUBLISHED-TTL:PT1H
BEGIN:VTIMEZONE
TZID:America/Chicago
BEGIN:DAYLIGHT
TZOFFSETFROM:-0600
TZOFFSETTO:-0500
TZNAME:CDT
DTSTART:20220313T080000
END:DAYLIGHT
BEGIN:STANDARD
TZOFFSETFROM:-0500
TZOFFSETTO:-0600
TZNAME:CST
DTSTART:20221106T070000
END:STANDARD
BEGIN:DAYLIGHT
TZOFFSETFROM:-0600
TZOFFSETTO:-0500
TZNAME:CDT
DTSTART:20230312T080000
END:DAYLIGHT
BEGIN:STANDARD
TZOFFSETFROM:-0500
TZOFFSETTO:-0600
TZNAME:CST
DTSTART:20231105T070000
END:STANDARD
BEGIN:DAYLIGHT
TZOFFSETFROM:-0600
TZOFFSETTO:-0500
TZNAME:CDT
DTSTART:20240310T080000
END:DAYLIGHT
BEGIN:STANDARD
TZOFFSETFROM:-0500
TZOFFSETTO:-0600
TZNAME:CST
DTSTART:20241103T070000
END:STANDARD
END:VTIMEZONE
BEGIN:VEVENT
DTSTART;TZID=America/Chicago:20231125T183000
DTEND;TZID=America/Chicago:20231125T213000
DTSTAMP:20260425T071940
CREATED:20231105T155826Z
LAST-MODIFIED:20231105T155826Z
UID:9547-1700937000-1700947800@michaelalanis.com
SUMMARY:Rebecca Creek Distillery
DESCRIPTION:Solo Acoustic Performance \n6:30 PM – 9:30 PM
URL:https://michaelalanis.com/event/rebecca-creek-distillery-2/
LOCATION:Rebecca Creek Distillery\, 26605 Bulverde Rd\, San Antonio\, TX\, 78260\, United States
END:VEVENT
END:VCALENDAR