BEGIN:VCALENDAR
VERSION:2.0
PRODID:-//Michael Alanis - ECPv6.15.20//NONSGML v1.0//EN
CALSCALE:GREGORIAN
METHOD:PUBLISH
X-WR-CALNAME:Michael Alanis
X-ORIGINAL-URL:https://michaelalanis.com
X-WR-CALDESC:Events for Michael Alanis
REFRESH-INTERVAL;VALUE=DURATION:PT1H
X-Robots-Tag:noindex
X-PUBLISHED-TTL:PT1H
BEGIN:VTIMEZONE
TZID:America/Chicago
BEGIN:DAYLIGHT
TZOFFSETFROM:-0600
TZOFFSETTO:-0500
TZNAME:CDT
DTSTART:20220313T080000
END:DAYLIGHT
BEGIN:STANDARD
TZOFFSETFROM:-0500
TZOFFSETTO:-0600
TZNAME:CST
DTSTART:20221106T070000
END:STANDARD
BEGIN:DAYLIGHT
TZOFFSETFROM:-0600
TZOFFSETTO:-0500
TZNAME:CDT
DTSTART:20230312T080000
END:DAYLIGHT
BEGIN:STANDARD
TZOFFSETFROM:-0500
TZOFFSETTO:-0600
TZNAME:CST
DTSTART:20231105T070000
END:STANDARD
BEGIN:DAYLIGHT
TZOFFSETFROM:-0600
TZOFFSETTO:-0500
TZNAME:CDT
DTSTART:20240310T080000
END:DAYLIGHT
BEGIN:STANDARD
TZOFFSETFROM:-0500
TZOFFSETTO:-0600
TZNAME:CST
DTSTART:20241103T070000
END:STANDARD
END:VTIMEZONE
BEGIN:VEVENT
DTSTART;TZID=America/Chicago:20230927T170000
DTEND;TZID=America/Chicago:20230927T200000
DTSTAMP:20260425T100016
CREATED:20230830T200735Z
LAST-MODIFIED:20230830T200735Z
UID:9426-1695834000-1695844800@michaelalanis.com
SUMMARY:JL Events
DESCRIPTION:Acoustic Performance \n5 pm – 8 pm \n7600 Broadway\, San Antonio
URL:https://michaelalanis.com/event/jl-events/
LOCATION:TX
END:VEVENT
END:VCALENDAR